Felt | Verdi |
AlreadyApplied | True |
Aperture | 2.0 |
ApertureValue | 2.0 |
Artist | Aasmund Mosseng |
BitsPerSample | 8 |
BlueHue | 0 |
BlueSaturation | 0 |
Brightness | +50 |
By-line | Aasmund Mosseng |
CameraProfile | Adobe Standard |
CFAPattern | [Red,Green][Green,Blue] |
ChromaticAberrationB | 0 |
ChromaticAberrationR | 0 |
CircleOfConfusion | 0.030 mm |
Clarity | +20 |
ColorComponents | 3 |
ColorMode | RGB |
ColorNoiseReduction | 25 |
ColorSpace | sRGB |
ColorTemperature | 6150 |
Contrast (2) | +46 |
Contrast | Normal |
ConvertToGrayscale | True |
Copyright | Aasmund Mosseng |
CopyrightNotice | Aasmund Mosseng |
CreateDate (1) | 2010:01:25 19:22:06.84+01:00 |
CreateDate | 2010:01:25 19:22:06 |
Creator | Aasmund Mosseng |
CreatorTool | Ver.1.02 |
CropAngle | 0 |
CropBottom | 1 |
CropLeft | 0.201422 |
CropRight | 1 |
CropTop | 0.069395 |
CustomRendered | Normal |
DateTimeDigitized | 2010:01:25 19:22:06.84+01:00 |
DateTimeOriginal (1) | 2010:01:25 19:22:06.84+01:00 |
DateTimeOriginal | 2010:01:25 19:22:06 |
Defringe | 0 |
DigitalZoomRatio | 1 |
ExifImageHeight | 465 |
ExifImageWidth | 600 |
Exposure | -0.25 |
ExposureCompensation | 0 |
ExposureMode | Manual |
ExposureProgram | Manual |
ExposureTime | 1/125 |
FillLight | 4 |
Flash | No Flash |
FlashFired | False |
FlashFunction | False |
FlashMode | Unknown |
FlashRedEyeMode | False |
FlashReturn | No return detection |
FNumber | 2.0 |
FocalLength | 85.0 mm |
FocalLength35efl | 85.0 mm (35 mm equivalent: 85.0 mm) |
FocalLengthIn35mmFormat | 85 mm |
Format | image/jpeg |
FOV | 23.9 deg |
GainControl | High gain up |
GrayMixerAqua | -22 |
GrayMixerBlue | 0 |
GrayMixerGreen | -19 |
GrayMixerMagenta | +8 |
GrayMixerOrange | -9 |
GrayMixerPurple | +11 |
GrayMixerRed | -36 |
GrayMixerYellow | -7 |
GreenHue | 0 |
GreenSaturation | 0 |
HasCrop | True |
HasSettings | True |
HighlightRecovery | 0 |
HyperfocalDistance | 120.23 m |
ICCProfileName | sRGB IEC61966-2.1 |
ImageHeight | 465 |
ImageNumber | 588 |
ImageSize | 600x465 |
ImageWidth | 600 |
ISO | 1600 |
Lens | 85.0 mm f/1.4 |
LensInfo | 85mm f/1.4 |
LightSource | Unknown |
LightValue | 5.0 |
LuminanceSmoothing | 0 |
Make | NIKON CORPORATION |
MaxApertureValue | 1.4 |
Megapixels | 0.279 |
MeteringMode | Center-weighted average |
Model | NIKON D700 |
ModifyDate (1) | 2010:01:26 15:09:34+01:00 |
ModifyDate | 2010:01:26 15:09:34 |
Orientation | Horizontal (normal) |
ParametricDarks | -14 |
ParametricHighlights | -31 |
ParametricHighlightSplit | 75 |
ParametricLights | +11 |
ParametricMidtoneSplit | 50 |
ParametricShadows | -22 |
ParametricShadowSplit | 25 |
PostCropVignetteAmount | 0 |
ProfileDescription | sRGB IEC61966-2.1 |
Rating | 0 |
RawFileName | _DSC0516.NEF |
RedHue | 0 |
RedSaturation | 0 |
Rights | Aasmund Mosseng |
Saturation | Normal |
ScaleFactor35efl | 1.0 |
SceneCaptureType | Portrait |
SceneType | Directly photographed |
SensingMethod | One-chip color area |
SerialNumber | 2222541 |
Shadows | 9 |
ShadowTint | 0 |
SharpenDetail | 25 |
SharpenEdgeMasking | 0 |
SharpenRadius | +1.0 |
Sharpness (2) | 25 |
Sharpness | Hard |
ShutterSpeed | 1/125 |
ShutterSpeedValue | 1/125 |
SidecarForExtension | NEF |
Software | Adobe Photoshop CS4 Windows |
SplitToningBalance | +15 |
SplitToningHighlightHue | 12 |
SplitToningHighlightSaturation | 9 |
SplitToningShadowHue | 230 |
SplitToningShadowSaturation | 9 |
SubjectDistanceRange | Unknown |
Tint | -9 |
ToneCurve | 0, 0, 32, 22, 64, 56, 128, 128, 192, 196, 255, 255 |
ToneCurveName | Medium Contrast |
URL_List | |
UserComment | (c)Aasmund Mosseng+4792224928 |
Version | 5.5 |
VignetteAmount | 0 |
WhiteBalance (2) | Custom |
WhiteBalance | Manual |