Felt | Verdi |
AlreadyApplied | True |
Aperture | 8.0 |
ApertureValue | 8.0 |
BitsPerSample | 8 |
BlueHue | 0 |
BlueSaturation | 0 |
Brightness | +36 |
CameraProfile | Adobe Standard |
ChromaticAberrationB | 0 |
ChromaticAberrationR | 0 |
CircleOfConfusion | 0.031 mm |
Clarity | +26 |
ColorComponents | 3 |
ColorMode | RGB |
ColorNoiseReduction | 18 |
ColorSpace | sRGB |
ColorTemperature | 5250 |
Contrast | +30 |
ConvertToGrayscale | False |
CopyrightFlag | False |
CreateDate (1) | 2010:01:03 19:32:34+01:00 |
CreateDate | 2010:01:02 10:40:29 |
CreatorTool | Adobe Photoshop CS3 Windows |
CustomRendered | Normal |
DateTimeDigitized | 2010:01:02 10:40:29.65+01:00 |
DateTimeOriginal (1) | 2010:01:02 10:40:29.65+01:00 |
DateTimeOriginal | 2010:01:02 10:40:29 |
Defringe | 0 |
DerivedFrom | |
ExifImageHeight | 4928 |
ExifImageWidth | 3024 |
Exposure | +0.38 |
ExposureCompensation | 0 |
ExposureMode | Auto |
ExposureProgram | Aperture-priority AE |
ExposureTime | 1/250 |
FillLight | 0 |
Firmware | 1.1.0 |
Flash | Off, Did not fire |
FlashCompensation | 0 |
FlashFired | False |
FlashFunction | False |
FlashMode | Off |
FlashRedEyeMode | False |
FlashReturn | No return detection |
FNumber | 8.0 |
FocalLength | 58.0 mm |
FocalLength35efl | 58.0 mm (35 mm equivalent: 56.6 mm) |
Format | image/jpeg |
FOV | 35.3 deg |
GreenHue | 0 |
GreenSaturation | 0 |
HasCrop | False |
HasSettings | True |
HighlightRecovery | 0 |
HueAdjustmentAqua | 0 |
HueAdjustmentBlue | 0 |
HueAdjustmentGreen | 0 |
HueAdjustmentMagenta | 0 |
HueAdjustmentOrange | 0 |
HueAdjustmentPurple | 0 |
HueAdjustmentRed | 0 |
HueAdjustmentYellow | 0 |
HyperfocalDistance | 13.66 m |
ICCProfileName | sRGB IEC61966-2.1 |
ImageHeight (1) | 5616 |
ImageHeight | 4928 |
ImageNumber | 0 |
ImageSize | 3024x4928 |
ImageWidth (1) | 3744 |
ImageWidth | 3024 |
ISO | 100 |
Lens | EF24-105mm f/4L IS USM |
LensInfo | 24-105mm f/? |
LightValue | 14.0 |
LuminanceAdjustmentAqua | 0 |
LuminanceAdjustmentBlue | 0 |
LuminanceAdjustmentGreen | 0 |
LuminanceAdjustmentMagenta | 0 |
LuminanceAdjustmentOrange | 0 |
LuminanceAdjustmentPurple | 0 |
LuminanceAdjustmentRed | 0 |
LuminanceAdjustmentYellow | 0 |
LuminanceSmoothing | 56 |
Make | Canon |
MaxApertureValue | 4.0 |
Megapixels | 14.9 |
MeteringMode | Multi-segment |
Model | Canon EOS 5D Mark II |
ModifyDate (1) | 2010:01:03 19:32:34+01:00 |
ModifyDate | 2010:01:03 19:32:34 |
Orientation | Horizontal (normal) |
ParametricDarks | -12 |
ParametricHighlights | 0 |
ParametricHighlightSplit | 75 |
ParametricLights | +8 |
ParametricMidtoneSplit | 50 |
ParametricShadows | 0 |
ParametricShadowSplit | 25 |
PostCropVignetteAmount | 0 |
ProfileDescription | sRGB IEC61966-2.1 |
RedHue | 0 |
RedSaturation | 0 |
Saturation | +40 |
SaturationAdjustmentAqua | 0 |
SaturationAdjustmentBlue | 0 |
SaturationAdjustmentGreen | 0 |
SaturationAdjustmentMagenta | 0 |
SaturationAdjustmentOrange | 0 |
SaturationAdjustmentPurple | 0 |
SaturationAdjustmentRed | 0 |
SaturationAdjustmentYellow | 0 |
ScaleFactor35efl | 1.0 |
SceneCaptureType | Standard |
SerialNumber | 330117967 |
Shadows | 8 |
ShadowTint | 0 |
SharpenDetail | 10 |
SharpenEdgeMasking | 75 |
SharpenRadius | +1.0 |
Sharpness | 91 |
ShutterSpeed | 1/250 |
ShutterSpeedValue | 1/250 |
Software | Adobe Photoshop CS3 Windows |
SplitToningBalance | 0 |
SplitToningHighlightHue | 0 |
SplitToningHighlightSaturation | 0 |
SplitToningShadowHue | 0 |
SplitToningShadowSaturation | 0 |
Tint | +4 |
ToneCurve | 0, 0, 32, 22, 64, 56, 128, 128, 192, 196, 255, 255 |
ToneCurveName | Medium Contrast |
URL_List | |
Version | 5.2 |
Vibrance | +79 |
VignetteAmount | 0 |
WhiteBalance (2) | As Shot |
WhiteBalance | Auto |