Felt | Verdi |
AlreadyApplied | True |
Aperture | 2.8 |
ApertureValue | 2.8 |
BitsPerSample | 8 |
BlueHue | 0 |
BlueSaturation | 0 |
Brightness | 0 |
CameraProfile | Embedded |
CFAPattern | [Green,Blue][Red,Green] |
ChromaticAberrationB | 0 |
ChromaticAberrationR | 0 |
CircleOfConfusion | 0.020 mm |
Clarity | +19 |
ColorComponents | 1 |
ColorNoiseReduction | 0 |
ColorSpace | Uncalibrated |
Contrast (2) | +21 |
Contrast | Normal |
ConvertToGrayscale | True |
CreateDate (1) | 2009:12:18 17:20:59.60+01:00 |
CreateDate | 2009:12:18 17:20:59 |
CreatorTool | Adobe Photoshop Lightroom |
CropAngle | 3.375 |
CropBottom | 0.970039 |
CropHeight | 1600 |
CropLeft | 0.080963 |
CropRight | 0.919708 |
CropTop | 0.022341 |
CropUnit | pixels |
CropWidth | 1080 |
CustomRendered | Normal |
DateTimeDigitized | 2009:12:18 17:20:59.60+01:00 |
DateTimeOriginal (1) | 2009:12:18 17:20:59.60+01:00 |
DateTimeOriginal | 2009:12:18 17:20:59 |
Defringe | 0 |
DigitalZoomRatio | 1 |
ExifImageHeight | 1600 |
ExifImageWidth | 1080 |
Exposure | 0.00 |
ExposureCompensation | -1 |
ExposureMode | Manual |
ExposureProgram | Manual |
ExposureTime | 1/160 |
FillLight | 0 |
Flash | No Flash |
FlashFired | False |
FlashFunction | False |
FlashMode | Unknown |
FlashRedEyeMode | False |
FlashReturn | No return detection |
FNumber | 2.8 |
FocalLength | 55.0 mm |
FocalLength35efl | 55.0 mm (35 mm equivalent: 82.0 mm) |
FocalLengthIn35mmFormat | 82 mm |
Format | image/tiff |
FOV | 24.8 deg |
GainControl | None |
GrayMixerAqua | -20 |
GrayMixerBlue | +9 |
GrayMixerGreen | -27 |
GrayMixerMagenta | +8 |
GrayMixerOrange | -17 |
GrayMixerPurple | +18 |
GrayMixerRed | -6 |
GrayMixerYellow | -22 |
GreenHue | 0 |
GreenSaturation | 0 |
HasCrop | True |
HasSettings | True |
HighlightRecovery | 0 |
HyperfocalDistance | 53.61 m |
ImageHeight | 1600 |
ImageNumber | 14415 |
ImageSize | 1080x1600 |
ImageWidth | 1080 |
IncrementalTemperature | -21 |
IncrementalTint | 0 |
ISO | 100 |
Lens | 17.0-55.0 mm f/2.8 |
LensInfo | 17-55mm f/2.8 |
LightSource | Flash |
LightValue | 10.3 |
LuminanceSmoothing | 0 |
Make | NIKON CORPORATION |
MaxApertureValue | 2.8 |
Megapixels | 1.7 |
MeteringMode | Center-weighted average |
Model | NIKON D80 |
ModifyDate (1) | 2009:12:18 19:00:24+01:00 |
ModifyDate | 2009:12:18 19:00:24 |
ParametricDarks | +29 |
ParametricHighlights | +100 |
ParametricHighlightSplit | 75 |
ParametricLights | +81 |
ParametricMidtoneSplit | 50 |
ParametricShadows | 0 |
ParametricShadowSplit | 25 |
PostCropVignetteAmount | 0 |
ProfileDescription | sRGB IEC61966-2.1 |
RedHue | 0 |
RedSaturation | 0 |
Saturation | Normal |
ScaleFactor35efl | 1.5 |
SceneCaptureType | Standard |
SceneType | Directly photographed |
SensingMethod | One-chip color area |
SerialNumber | 4530042 |
Shadows | 8 |
ShadowTint | 0 |
SharpenDetail | 25 |
SharpenEdgeMasking | 0 |
SharpenRadius | +1.0 |
Sharpness (2) | 0 |
Sharpness | Normal |
ShutterSpeed | 1/160 |
ShutterSpeedValue | 1/160 |
Software | Adobe Photoshop Lightroom |
SplitToningBalance | 0 |
SplitToningHighlightHue | 0 |
SplitToningHighlightSaturation | 0 |
SplitToningShadowHue | 0 |
SplitToningShadowSaturation | 0 |
SubjectDistanceRange | Unknown |
ToneCurve | 0, 0, 255, 255 |
ToneCurveName | Linear |
Version | 5.4 |
VignetteAmount | -57 |
VignetteMidpoint | 11 |
WhiteBalance (2) | Custom |
WhiteBalance | Manual |