Felt | Verdi |
AlreadyApplied | True |
BitsPerSample | 8 |
BlueHue | 0 |
BlueSaturation | 0 |
Brightness | -4 |
CameraProfile | Embedded |
ChromaticAberrationB | 0 |
ChromaticAberrationR | 0 |
Clarity | +100 |
ColorComponents | 1 |
ColorNoiseReduction | 0 |
Contrast | -14 |
ConvertToGrayscale | True |
Copyright | Tarjei Mandt Larsen |
CopyrightFlag | True |
CopyrightNotice | Tarjei Mandt Larsen |
CreateDate | 2009:08:27 13:12:21 |
CreatorTool | Adobe Photoshop Lightroom |
CropAngle | 0 |
CropBottom | 0.994242 |
CropHeight | 2405 |
CropLeft | 0 |
CropRight | 0.988484 |
CropTop | 0.005758 |
CropUnit | pixels |
CropWidth | 2405 |
DateTimeDigitized | 2009:08:27 13:12:21+02:00 |
Defringe | 0 |
ExifImageHeight | 2405 |
ExifImageWidth | 2405 |
Exposure | +0.19 |
FillLight | 0 |
GrayMixerAqua | -18 |
GrayMixerBlue | +14 |
GrayMixerGreen | -5 |
GrayMixerMagenta | +4 |
GrayMixerOrange | +100 |
GrayMixerPurple | +17 |
GrayMixerRed | +19 |
GrayMixerYellow | -2 |
GreenHue | 0 |
GreenSaturation | 0 |
HasCrop | True |
HasSettings | True |
HighlightRecovery | 75 |
ImageHeight | 2405 |
ImageSize | 2405x2405 |
ImageWidth | 2405 |
IncrementalTemperature | +21 |
IncrementalTint | 0 |
LuminanceSmoothing | 100 |
Make | FUJI PHOTO FILM CO., LTD. |
Marked | True |
Megapixels | 5.8 |
Model | SP-3000 |
ModifyDate (1) | 2009:12:05 11:09:00+01:00 |
ModifyDate | 2009:12:05 11:09:00 |
ParametricDarks | -6 |
ParametricHighlights | 0 |
ParametricHighlightSplit | 75 |
ParametricLights | -14 |
ParametricMidtoneSplit | 50 |
ParametricShadows | 0 |
ParametricShadowSplit | 25 |
PostCropVignetteAmount | 0 |
ProfileDescription | Adobe RGB (1998) |
RedHue | 0 |
RedSaturation | 0 |
Rights | Tarjei Mandt Larsen |
SceneType | Directly photographed |
Shadows | 14 |
ShadowTint | 0 |
SharpenDetail | 25 |
SharpenEdgeMasking | 0 |
SharpenRadius | +1.0 |
Sharpness | 50 |
Software | FDi V4.5 / FRONTIER355/375-1.8-0E-007 |
SplitToningBalance | 0 |
SplitToningHighlightHue | 0 |
SplitToningHighlightSaturation | 0 |
SplitToningShadowHue | 0 |
SplitToningShadowSaturation | 0 |
ToneCurve | 0, 0, 32, 22, 64, 56, 128, 128, 192, 196, 255, 255 |
ToneCurveName | Medium Contrast |
Version | 5.5 |
VignetteAmount | 0 |
WhiteBalance | Custom |