Felt | Verdi |
AlreadyApplied | True |
BitsPerSample | 8 |
BlueHue | 0 |
BlueSaturation | 0 |
Brightness | +50 |
By-line | Alf M. Sollund |
CameraProfile | Adobe Standard |
Caption-Abstract | EPSON DSC Picture |
ChromaticAberrationB | 0 |
ChromaticAberrationR | 0 |
Clarity | +20 |
ColorComponents | 3 |
ColorNoiseReduction | 25 |
ColorNoiseReductionDetail | 50 |
ColorTemperature | 5103 |
Contrast | +50 |
ConvertToGrayscale | False |
Copyright | Alf M. Sollund |
CopyrightFlag | True |
CopyrightNotice | Alf M. Sollund |
CreateDate (1) | 2009:11:29 10:48:37+01:00 |
CreateDate | 2009:11:29 10:48:37 |
Creator | Alf M. Sollund |
CreatorAddress | Amtmanns gt. 15 |
CreatorCity | Tromsø |
CreatorCountry | Norway |
CreatorPostalCode | 9008 |
CreatorTool | Adobe Photoshop Lightroom |
CreatorWorkEmail | alf-martin.sollund |
CreatorWorkTelephone | +4791889676 |
CreatorWorkURL | http://flyalf.com |
CropAngle | 0 |
CropBottom | 0.902332 |
CropHeight | 850 |
CropLeft | 0.111689 |
CropRight | 0.919269 |
CropTop | 0.094752 |
CropUnit | pixels |
CropWidth | 1278 |
CustomRendered | Normal |
DateTimeDigitized | 2009:11:29 10:48:37+01:00 |
DateTimeOriginal (1) | 2009:11:29 10:48:37+01:00 |
DateTimeOriginal | 2009:11:29 10:48:37 |
Defringe | 0 |
Description | EPSON DSC Picture |
ExifImageHeight | 850 |
ExifImageWidth | 1278 |
Exposure | -0.14 |
ExposureCompensation | +1 |
ExposureMode | Auto |
ExposureProgram | Aperture-priority AE |
ExposureTime | 0.3 |
FillLight | 17 |
Flash | No flash function |
FlashFired | False |
FlashFunction | True |
FlashMode | Unknown |
FlashRedEyeMode | False |
FlashReturn | No return detection |
GainControl | None |
GrainAmount | 0 |
GreenHue | 0 |
GreenSaturation | 0 |
HasCrop | True |
HasSettings | True |
HighlightRecovery | 0 |
HueAdjustmentAqua | 0 |
HueAdjustmentBlue | 0 |
HueAdjustmentGreen | 0 |
HueAdjustmentMagenta | 0 |
HueAdjustmentOrange | 0 |
HueAdjustmentPurple | 0 |
HueAdjustmentRed | 0 |
HueAdjustmentYellow | 0 |
ImageDescription | EPSON DSC Picture |
ImageHeight | 850 |
ImageSize | 1278x850 |
ImageWidth | 1278 |
ISO | 200 |
Keywords | Birk, Nes, Troms, minus_degrees, montains, snow, winter |
LightSource | Daylight |
LuminanceAdjustmentAqua | 0 |
LuminanceAdjustmentBlue | 0 |
LuminanceAdjustmentGreen | 0 |
LuminanceAdjustmentMagenta | 0 |
LuminanceAdjustmentOrange | 0 |
LuminanceAdjustmentPurple | 0 |
LuminanceAdjustmentRed | 0 |
LuminanceAdjustmentYellow | 0 |
Make | SEIKO EPSON CORP. |
Marked | True |
Megapixels | 1.1 |
MeteringMode | Center-weighted average |
Model | R-D1 |
ModifyDate (1) | 2009:11:29 17:37:35+01:00 |
ModifyDate | 2009:11:29 17:37:35 |
NoiseReductionContrast | 0 |
ParametricDarks | 0 |
ParametricHighlights | 0 |
ParametricHighlightSplit | 75 |
ParametricLights | 0 |
ParametricMidtoneSplit | 50 |
ParametricShadows | 0 |
ParametricShadowSplit | 25 |
PostCropVignetteAmount | 0 |
ProfileDescription | sRGB IEC61966-2.1 |
Rating | 5 |
RedHue | 0 |
RedSaturation | 0 |
RenderVersion | 5.7 |
Rights | Alf M. Sollund |
Saturation | +15 |
SaturationAdjustmentAqua | 0 |
SaturationAdjustmentBlue | 0 |
SaturationAdjustmentGreen | 0 |
SaturationAdjustmentMagenta | 0 |
SaturationAdjustmentOrange | 0 |
SaturationAdjustmentPurple | 0 |
SaturationAdjustmentRed | 0 |
SaturationAdjustmentYellow | 0 |
SceneCaptureType | Standard |
SceneType | Directly photographed |
Shadows | 0 |
ShadowTint | 0 |
SharpenDetail | 25 |
SharpenEdgeMasking | 0 |
SharpenRadius | +1.0 |
Sharpness | 25 |
ShutterSpeed | 0.3 |
ShutterSpeedValue | 0.3 |
Software | E04106-0200 |
SplitToningBalance | 0 |
SplitToningHighlightHue | 0 |
SplitToningHighlightSaturation | 0 |
SplitToningShadowHue | 0 |
SplitToningShadowSaturation | 0 |
Subject | Birk, Nes, Troms, minus_degrees, montains, snow, winter |
Tint | -2 |
ToneCurve | 0, 0, 32, 22, 64, 56, 128, 128, 192, 196, 255, 255 |
ToneCurveName | Medium Contrast |
Version | 6.0 |
Vibrance | +22 |
VignetteAmount | 0 |
WhiteBalance (2) | Custom |
WhiteBalance | Manual |