Felt | Verdi |
AlreadyApplied | True |
Aperture | 8.0 |
ApertureValue | 8.0 |
BitsPerSample | 8 |
BlueHue | 0 |
BlueSaturation | 0 |
Brightness | +25 |
CameraProfile | Adobe Standard |
ChromaticAberrationB | +2 |
ChromaticAberrationR | -12 |
CircleOfConfusion | 0.031 mm |
Clarity | +21 |
ColorComponents | 3 |
ColorMode | RGB |
ColorNoiseReduction | 81 |
ColorSpace | sRGB |
ColorTemperature | 4700 |
Contrast | +30 |
ConvertToGrayscale | False |
CopyrightFlag | False |
CreateDate (1) | 2009:06:26 19:57:21+02:00 |
CreateDate | 2009:06:25 16:45:39 |
CreatorTool | Adobe Photoshop CS3 Windows |
CustomRendered | Normal |
DateTimeDigitized | 2009:06:25 16:45:39.01+02:00 |
DateTimeOriginal (1) | 2009:06:25 16:45:39.01+02:00 |
DateTimeOriginal | 2009:06:25 16:45:39 |
Defringe | 0 |
DerivedFrom | |
ExifImageHeight | 3540 |
ExifImageWidth | 4554 |
Exposure | -1.43 |
ExposureCompensation | 0 |
ExposureMode | Auto |
ExposureProgram | Aperture-priority AE |
ExposureTime | 1/640 |
FillLight | 0 |
Firmware | 1.1.0 |
Flash | Off, Did not fire |
FlashCompensation | 0 |
FlashFired | False |
FlashFunction | False |
FlashMode | Off |
FlashRedEyeMode | False |
FlashReturn | No return detection |
FNumber | 8.0 |
FocalLength | 150.0 mm |
FocalLength35efl | 150.0 mm (35 mm equivalent: 146.4 mm) |
Format | image/jpeg |
FOV | 14.0 deg |
GreenHue | 0 |
GreenSaturation | 0 |
HasCrop | False |
HasSettings | True |
HighlightRecovery | 51 |
HueAdjustmentAqua | 0 |
HueAdjustmentBlue | 0 |
HueAdjustmentGreen | 0 |
HueAdjustmentMagenta | 0 |
HueAdjustmentOrange | 0 |
HueAdjustmentPurple | 0 |
HueAdjustmentRed | 0 |
HueAdjustmentYellow | 0 |
HyperfocalDistance | 91.35 m |
ICCProfileName | sRGB IEC61966-2.1 |
ImageHeight (1) | 3744 |
ImageHeight | 3540 |
ImageNumber | 0 |
ImageSize | 4554x3540 |
ImageWidth (1) | 5616 |
ImageWidth | 4554 |
ISO | 1600 |
Lens | 150mm |
LensInfo | 150mm f/? |
LightValue | 11.3 |
LuminanceAdjustmentAqua | 0 |
LuminanceAdjustmentBlue | 0 |
LuminanceAdjustmentGreen | 0 |
LuminanceAdjustmentMagenta | 0 |
LuminanceAdjustmentOrange | 0 |
LuminanceAdjustmentPurple | 0 |
LuminanceAdjustmentRed | 0 |
LuminanceAdjustmentYellow | 0 |
LuminanceSmoothing | 82 |
Make | Canon |
MaxApertureValue | 2.8 |
Megapixels | 16.1 |
MeteringMode | Multi-segment |
Model | Canon EOS 5D Mark II |
ModifyDate (1) | 2009:06:26 19:57:21+02:00 |
ModifyDate | 2009:06:26 19:57:21 |
Orientation | Horizontal (normal) |
ParametricDarks | -16 |
ParametricHighlights | +28 |
ParametricHighlightSplit | 75 |
ParametricLights | -30 |
ParametricMidtoneSplit | 50 |
ParametricShadows | -10 |
ParametricShadowSplit | 25 |
PostCropVignetteAmount | 0 |
ProfileDescription | sRGB IEC61966-2.1 |
RedHue | 0 |
RedSaturation | 0 |
Saturation | +33 |
SaturationAdjustmentAqua | 0 |
SaturationAdjustmentBlue | 0 |
SaturationAdjustmentGreen | 0 |
SaturationAdjustmentMagenta | 0 |
SaturationAdjustmentOrange | 0 |
SaturationAdjustmentPurple | 0 |
SaturationAdjustmentRed | 0 |
SaturationAdjustmentYellow | 0 |
ScaleFactor35efl | 1.0 |
SceneCaptureType | Standard |
SerialNumber | 330117967 |
Shadows | 5 |
ShadowTint | 0 |
SharpenDetail | 12 |
SharpenEdgeMasking | 75 |
SharpenRadius | +1.5 |
Sharpness | 91 |
ShutterSpeed | 1/640 |
ShutterSpeedValue | 1/640 |
Software | Adobe Photoshop CS3 Windows |
SplitToningBalance | 0 |
SplitToningHighlightHue | 0 |
SplitToningHighlightSaturation | 0 |
SplitToningShadowHue | 0 |
SplitToningShadowSaturation | 0 |
Tint | +33 |
ToneCurve | 0, 0, 32, 22, 64, 56, 128, 128, 192, 196, 255, 255 |
ToneCurveName | Medium Contrast |
URL_List | |
Version | 5.2 |
Vibrance | +26 |
VignetteAmount | +29 |
VignetteMidpoint | 50 |
WhiteBalance (2) | Custom |
WhiteBalance | Auto |