Felt | Verdi |
AlreadyApplied | True |
Aperture | 6.3 |
ApertureValue | 6.3 |
BitsPerSample | 8 |
BlackClip | 0.000000 |
BlueHue | -7 |
BlueSaturation | -100 |
Brightness | +50 |
By-line | Jan Erik Arud |
CameraProfile | Embedded |
ChromaticAberrationB | 0 |
ChromaticAberrationR | 0 |
Clarity | 0 |
ColorComponents | 3 |
ColorNoiseReduction | 60 |
ColorSaturation | 40 |
ColorTemperature | 0 |
Contrast | +25 |
ConvertToGrayscale | False |
Copyright | Jan Erik Arud |
CopyrightFlag | True |
CopyrightNotice | Jan Erik Arud |
CreateDate | 2009:11:18 20:31:28+01:00 |
Creator | Jan Erik Arud |
CreatorTool | Adobe Photoshop Lightroom |
CreatorWorkEmail | arud@bluezone.no |
CreatorWorkURL | http://www.flickr.com/photos/jarud/ |
CropAngle | -0.269844 |
CropBottom | 0.992212 |
CropHeight | 853 |
CropLeft | 0.005111 |
CropRight | 0.999653 |
CropTop | 0.007788 |
CropUnit | pixels |
CropWidth | 1280 |
DateTimeOriginal (1) | 2009:11:18 20:31:28+01:00 |
DateTimeOriginal | 2009:11:18 20:31:28 |
Defringe | 2 |
ExifImageHeight | 853 |
ExifImageWidth | 1280 |
Exposure | 0.00 |
FillLight | 20 |
FNumber | 6.3 |
FocalLength | 24.0 mm |
FocalLength35efl | 24.0 mm |
Gamma | 1.000000 |
GradientBasedCorrActive | true |
GradientBasedCorrAmount | 1.000000 |
GradientBasedCorrBrightness (1) | -0.200000 |
GradientBasedCorrBrightness | 0.025000 |
GradientBasedCorrClarity (1) | -0.075000 |
GradientBasedCorrClarity | -0.655172 |
GradientBasedCorrContrast (1) | 0.225000 |
GradientBasedCorrContrast | -0.149425 |
GradientBasedCorrExposure (1) | 0.250000 |
GradientBasedCorrExposure | -0.250000 |
GradientBasedCorrHue (1) | 0.000000 |
GradientBasedCorrHue | 232.000000 |
GradientBasedCorrMaskFullX (1) | 0.481838 |
GradientBasedCorrMaskFullX | 0.518872 |
GradientBasedCorrMaskFullY (1) | -0.418592 |
GradientBasedCorrMaskFullY | -0.197020 |
GradientBasedCorrMaskValue | 1.000000 |
GradientBasedCorrMaskWhat | Mask/Gradient |
GradientBasedCorrMaskZeroX (1) | 0.478624 |
GradientBasedCorrMaskZeroX | 0.517879 |
GradientBasedCorrMaskZeroY (1) | 0.561997 |
GradientBasedCorrMaskZeroY | 0.804428 |
GradientBasedCorrSaturation (1) | 0.050000 |
GradientBasedCorrSaturation (2) | 0.000000 |
GradientBasedCorrSaturation (3) | -0.149425 |
GradientBasedCorrSaturation | 0.350000 |
GradientBasedCorrSharpness | -0.150000 |
GradientBasedCorrWhat | Correction |
GreenHue | +33 |
GreenSaturation | +100 |
HasCrop | True |
HasSettings | True |
HighlightRecovery | 80 |
HighlightsSmoothing | 0 |
HueAdjustmentAqua | +100 |
HueAdjustmentBlue | 0 |
HueAdjustmentGreen | 0 |
HueAdjustmentMagenta | 0 |
HueAdjustmentOrange | 0 |
HueAdjustmentPurple | 0 |
HueAdjustmentRed | +19 |
HueAdjustmentYellow | 0 |
ImageHeight | 853 |
ImageSize | 1280x853 |
ImageWidth | 1280 |
IncrementalTemperature | -2 |
IncrementalTint | +10 |
ISO | 400 |
Keywords | heddal stavkirke |
Label | Red |
LuminanceAdjustmentAqua | +2 |
LuminanceAdjustmentBlue | -57 |
LuminanceAdjustmentGreen | +10 |
LuminanceAdjustmentMagenta | 0 |
LuminanceAdjustmentOrange | +17 |
LuminanceAdjustmentPurple | 0 |
LuminanceAdjustmentRed | 0 |
LuminanceAdjustmentYellow | +50 |
LuminanceSmoothing | 50 |
Luminosity | 0 |
Marked | True |
Megapixels | 1.1 |
Method | Details Enhancer |
Microcontrast | 0 |
Microsmoothing | 0 |
Model | Canon EOS 5D Mark II |
ModifyDate (1) | 2009:11:27 05:30:18+01:00 |
ModifyDate | 2009:11:27 05:30:18 |
PaintCorrectionActive | true |
PaintCorrectionAmount | 1.000000 |
PaintCorrectionBrightness | 0.000000 |
PaintCorrectionClarity | 0.000000 |
PaintCorrectionContrast | 0.000000 |
PaintCorrectionExposure | 0.000000 |
PaintCorrectionHue | 29.000000 |
PaintCorrectionMaskCenterWeight (1) | 0.000000 |
PaintCorrectionMaskCenterWeight | 0.365510 |
PaintCorrectionMaskFlow (2) | 1.000000 |
PaintCorrectionMaskFlow | 0.715000 |
PaintCorrectionMaskRadius (2) | 0.051833 |
PaintCorrectionMaskRadius | 0.008877 |
PaintCorrectionMaskValue (2) | 1.000000 |
PaintCorrectionMaskValue | 0.000000 |
PaintCorrectionMaskWhat | Mask/Paint |
PaintCorrectionSaturation (1) | 0.000000 |
PaintCorrectionSaturation | 0.480000 |
PaintCorrectionSharpness | 0.000000 |
PaintCorrectionWhat | Correction |
ParametricDarks | -33 |
ParametricHighlights | 0 |
ParametricHighlightSplit | 75 |
ParametricLights | +39 |
ParametricMidtoneSplit | 50 |
ParametricShadows | +45 |
ParametricShadowSplit | 25 |
PostCropVignetteAmount | 0 |
ProfileDescription | sRGB IEC61966-2.1 |
Rating | 1 |
RedHue | +38 |
RedSaturation | +100 |
Rights | Jan Erik Arud |
Saturation | -12 |
SaturationAdjustmentAqua | -100 |
SaturationAdjustmentBlue | -45 |
SaturationAdjustmentGreen | -62 |
SaturationAdjustmentMagenta | -100 |
SaturationAdjustmentOrange | -29 |
SaturationAdjustmentPurple | -100 |
SaturationAdjustmentRed | -100 |
SaturationAdjustmentYellow | -76 |
SaturationHighlights | 0 |
SaturationShadows | 0 |
Shadows | 20 |
ShadowsClipping | 0 |
ShadowsSmoothing | 0 |
ShadowTint | 0 |
SharpenDetail | 70 |
SharpenEdgeMasking | 0 |
SharpenRadius | +1.0 |
Sharpness | 29 |
Smoothing | Very High |
SplitToningBalance | +57 |
SplitToningHighlightHue | 159 |
SplitToningHighlightSaturation | 54 |
SplitToningShadowHue | 253 |
SplitToningShadowSaturation | 14 |
Strength | 70 |
Subject | heddal stavkirke |
ToneCurve | 0, 0, 32, 22, 64, 56, 128, 128, 192, 196, 255, 255 |
ToneCurveName | Medium Contrast |
Version (1) | 3.1 |
Version | 5.6 |
Vibrance | -29 |
VignetteAmount | 0 |
WhiteBalance | Custom |
WhiteClip | 0.249500 |