Felt | Verdi |
AlreadyApplied | True |
Aperture | 1.8 |
ApertureValue | 1.8 |
Artist | unknown |
BitsPerSample | 8 |
BlueHue | 0 |
BlueSaturation | 0 |
Brightness | +50 |
By-line | unknown |
CameraProfile | Adobe Standard |
ChromaticAberrationB | 0 |
ChromaticAberrationR | 0 |
CircleOfConfusion | 0.019 mm |
Clarity | 0 |
ColorComponents | 1 |
ColorMode | RGB |
ColorNoiseReduction | 25 |
ColorSpace | sRGB |
ColorTemperature | 5300 |
Contrast | +25 |
ConvertToGrayscale | True |
CreateDate (1) | 2009:11:08 13:35:20+01:00 |
CreateDate | 2009:11:08 13:35:20 |
Creator | unknown |
CreatorTool | Adobe Photoshop Lightroom |
CustomRendered | Normal |
DateTimeDigitized | 2009:11:08 13:35:20+01:00 |
DateTimeOriginal (1) | 2009:11:08 13:35:20+01:00 |
DateTimeOriginal | 2009:11:08 13:35:20 |
Defringe | 0 |
ExifImageHeight | 575 |
ExifImageWidth | 863 |
Exposure | -0.86 |
ExposureCompensation | 0 |
ExposureMode | Auto |
ExposureProgram | Aperture-priority AE |
ExposureTime | 1/4000 |
FillLight | 12 |
Firmware | 1.1.1 |
Flash | Off, Did not fire |
FlashCompensation | -2 |
FlashFired | False |
FlashFunction | False |
FlashMode | Off |
FlashRedEyeMode | False |
FlashReturn | No return detection |
FNumber | 1.8 |
FocalLength | 50.0 mm |
FocalLength35efl | 50.0 mm (35 mm equivalent: 80.9 mm) |
Format | image/jpeg |
FOV | 25.1 deg |
GrayMixerAqua | -18 |
GrayMixerBlue | +8 |
GrayMixerGreen | -25 |
GrayMixerMagenta | +4 |
GrayMixerOrange | -17 |
GrayMixerPurple | +15 |
GrayMixerRed | -8 |
GrayMixerYellow | -21 |
GreenHue | 0 |
GreenSaturation | 0 |
HasCrop | False |
HasSettings | True |
HighlightRecovery | 19 |
HyperfocalDistance | 74.81 m |
ICCProfileName | sRGB IEC61966-2.1 |
ImageHeight (1) | 2592 |
ImageHeight | 575 |
ImageNumber | 176 |
ImageSize | 863x575 |
ImageWidth (1) | 3888 |
ImageWidth | 863 |
ISO | 400 |
Lens | EF50mm f/1.8 |
LensInfo | 50mm f/? |
LightValue | 11.7 |
LuminanceSmoothing | 0 |
Make | Canon |
MaxApertureValue | 1.8 |
Megapixels | 0.496 |
MeteringMode | Multi-segment |
Model | Canon EOS 400D DIGITAL |
ModifyDate (1) | 2009:11:25 09:17:30+01:00 |
ModifyDate | 2009:11:25 09:17:30 |
Orientation | Horizontal (normal) |
OwnerName | unknown |
ParametricDarks | -7 |
ParametricHighlights | +48 |
ParametricHighlightSplit | 75 |
ParametricLights | +2 |
ParametricMidtoneSplit | 50 |
ParametricShadows | +2 |
ParametricShadowSplit | 25 |
PostCropVignetteAmount | 0 |
ProfileDescription | sRGB IEC61966-2.1 |
RedHue | 0 |
RedSaturation | 0 |
ScaleFactor35efl | 1.6 |
SceneCaptureType | Standard |
SerialNumber | 1480840256 |
Shadows | 21 |
ShadowTint | 0 |
SharpenDetail | 25 |
SharpenEdgeMasking | 0 |
SharpenRadius | +1.0 |
Sharpness | 25 |
ShutterSpeed | 1/4000 |
ShutterSpeedValue | 1/4000 |
Software | Adobe Photoshop CS4 Macintosh |
SplitToningBalance | 0 |
SplitToningHighlightHue | 0 |
SplitToningHighlightSaturation | 0 |
SplitToningShadowHue | 0 |
SplitToningShadowSaturation | 0 |
Tint | +13 |
ToneCurve | 0, 0, 32, 22, 64, 56, 128, 128, 192, 196, 255, 255 |
ToneCurveName | Medium Contrast |
URL_List | |
Version | 5.5 |
VignetteAmount | -100 |
VignetteMidpoint | 36 |
WhiteBalance (2) | As Shot |
WhiteBalance | Auto |