Felt | Verdi |
AlreadyApplied | True |
Aperture | 5.0 |
ApertureValue | 5.0 |
BitsPerSample | 8 |
BlueHue | 0 |
BlueSaturation | 0 |
Brightness | 0 |
CameraProfile | Embedded |
ChromaticAberrationB | 0 |
ChromaticAberrationR | 0 |
Clarity | 0 |
ColorComponents | 1 |
ColorNoiseReduction | 0 |
Contrast | 0 |
ConvertToGrayscale | True |
CreateDate | 2009:10:25 13:08:26 |
CreatorTool | Adobe Photoshop Lightroom |
CropAngle | 0 |
CropBottom | 0.928802 |
CropHeight | 1856 |
CropLeft | 0.075026 |
CropRight | 0.995536 |
CropTop | 0 |
CropUnit | pixels |
CropWidth | 2784 |
DateTimeDigitized | 2009:10:25 13:08:26+01:00 |
DateTimeOriginal (1) | 2009:10:25 13:08:26+01:00 |
DateTimeOriginal | 2009:10:25 13:08:26 |
Defringe | 0 |
Exposure | +1.58 |
ExposureCompensation | -2/3 |
ExposureProgram | Program AE |
ExposureTime | 1/100 |
FillLight | 34 |
Flash | No Flash |
FlashFired | False |
FlashFunction | False |
FlashMode | Unknown |
FlashRedEyeMode | False |
FlashReturn | No return detection |
FNumber | 5.0 |
FocalLength | 30.0 mm |
FocalLength35efl | 30.0 mm |
GrayMixerAqua | -17 |
GrayMixerBlue | +12 |
GrayMixerGreen | +2 |
GrayMixerMagenta | +4 |
GrayMixerOrange | -20 |
GrayMixerPurple | +18 |
GrayMixerRed | -10 |
GrayMixerYellow | -24 |
GreenHue | 0 |
GreenSaturation | 0 |
HasCrop | True |
HasSettings | True |
HighlightRecovery | 0 |
ImageHeight | 1856 |
ImageSize | 2784x1856 |
ImageWidth | 2784 |
IncrementalTemperature | 0 |
IncrementalTint | 0 |
ISO | 200 |
LightSource | Cloudy |
LightValue | 10.3 |
LuminanceSmoothing | 0 |
Make | NIKON CORPORATION |
MaxApertureValue | 1.4 |
Megapixels | 5.2 |
MeteringMode | Center-weighted average |
Model | NIKON D40 |
ModifyDate (1) | 2009:10:25 17:24:17+01:00 |
ModifyDate | 2009:10:25 17:24:17 |
ParametricDarks | 0 |
ParametricHighlights | 0 |
ParametricHighlightSplit | 75 |
ParametricLights | 0 |
ParametricMidtoneSplit | 50 |
ParametricShadows | 0 |
ParametricShadowSplit | 25 |
ProfileDescription | sRGB IEC61966-2.1 |
RedHue | 0 |
RedSaturation | 0 |
SensingMethod | One-chip color area |
Shadows | 0 |
ShadowTint | 0 |
SharpenDetail | 36 |
SharpenEdgeMasking | 0 |
SharpenRadius | +1.0 |
Sharpness | 67 |
ShutterSpeed | 1/100 |
ShutterSpeedValue | 1/100 |
Software | QuickTime 7.6.4 |
SplitToningBalance | 0 |
SplitToningHighlightHue | 0 |
SplitToningHighlightSaturation | 0 |
SplitToningShadowHue | 0 |
SplitToningShadowSaturation | 0 |
ToneCurve | 0, 0, 255, 255 |
ToneCurveName | Linear |
Version | 4.4.1 |
VignetteAmount | 0 |
WhiteBalance | As Shot |