Felt | Verdi |
AlreadyApplied | True |
Aperture | 9.0 |
ApertureValue | 9.0 |
BitsPerSample | 8 |
BlackClip | 0.595150 |
BlueHue | 0 |
BlueSaturation | 0 |
Brightness | +31 |
CameraProfile | ACR 3.3 |
ChromaticAberrationB | 0 |
ChromaticAberrationR | 0 |
Clarity | +100 |
ColorComponents | 3 |
ColorNoiseReduction | 10 |
ColorSaturation | 65.0 |
ColorTemperature | 4.0 |
Contrast | +28 |
ConvertToGrayscale | False |
CreateDate | 2009:10:07 01:42:38+02:00 |
CreatorTool | Adobe Photoshop Lightroom |
DateTimeOriginal (1) | 2009:10:07 01:42:38+02:00 |
DateTimeOriginal | 2009:10:07 01:42:38 |
Defringe | 0 |
ExifImageHeight | 1080 |
ExifImageWidth | 1647 |
Exposure | +0.75 |
ExposureTime | 1/400 |
FillLight | 76 |
FNumber | 9.0 |
FocalLength | 52.0 mm |
FocalLength35efl | 52.0 mm |
Gamma | 1.2 |
GreenHue | 0 |
GreenSaturation | 0 |
HasCrop | False |
HasSettings | True |
HighlightRecovery | 100 |
HighlightsSmoothing | 34.0 |
HueAdjustmentAqua | 0 |
HueAdjustmentBlue | 0 |
HueAdjustmentGreen | 0 |
HueAdjustmentMagenta | 0 |
HueAdjustmentOrange | 0 |
HueAdjustmentPurple | 0 |
HueAdjustmentRed | 0 |
HueAdjustmentYellow | 0 |
ImageHeight | 1080 |
ImageSize | 1647x1080 |
ImageWidth | 1647 |
IncrementalTemperature | -8 |
IncrementalTint | 0 |
ISO | 200 |
LightValue | 14.0 |
LuminanceAdjustmentAqua | -1 |
LuminanceAdjustmentBlue | -88 |
LuminanceAdjustmentGreen | 0 |
LuminanceAdjustmentMagenta | 0 |
LuminanceAdjustmentOrange | 0 |
LuminanceAdjustmentPurple | 0 |
LuminanceAdjustmentRed | 0 |
LuminanceAdjustmentYellow | 0 |
LuminanceSmoothing | 0 |
Luminosity | -2.6 |
Megapixels | 1.8 |
Method | Details Enhancer |
Microcontrast | 6.5 |
Microsmoothing | 23.6 |
Model | NIKON D300 |
ModifyDate (1) | 2009:10:26 23:24:34+01:00 |
ModifyDate | 2009:10:26 23:24:34 |
ParametricDarks | 0 |
ParametricHighlights | -66 |
ParametricHighlightSplit | 75 |
ParametricLights | 0 |
ParametricMidtoneSplit | 50 |
ParametricShadows | 0 |
ParametricShadowSplit | 25 |
PostCropVignetteAmount | -21 |
PostCropVignetteFeather | 50 |
PostCropVignetteMidpoint | 50 |
PostCropVignetteRoundness | 0 |
ProfileDescription | sRGB IEC61966-2.1 |
RedHue | 0 |
RedSaturation | 0 |
Saturation | 0 |
SaturationAdjustmentAqua | 0 |
SaturationAdjustmentBlue | 0 |
SaturationAdjustmentGreen | 0 |
SaturationAdjustmentMagenta | 0 |
SaturationAdjustmentOrange | 0 |
SaturationAdjustmentPurple | 0 |
SaturationAdjustmentRed | 0 |
SaturationAdjustmentYellow | 0 |
SaturationHighlights | 1.3 |
SaturationShadows | -0.6 |
Shadows | 90 |
ShadowsClipping | 56.0 |
ShadowsSmoothing | 11.0 |
ShadowTint | 0 |
SharpenDetail | 25 |
SharpenEdgeMasking | 0 |
SharpenRadius | +1.0 |
Sharpness | 10 |
ShutterSpeed | 1/400 |
ShutterSpeedValue | 1/400 |
Smoothing | High |
SplitToningBalance | 0 |
SplitToningHighlightHue | 255 |
SplitToningHighlightSaturation | 18 |
SplitToningShadowHue | 263 |
SplitToningShadowSaturation | 16 |
Strength | 100.0 |
ToneCurve | 0, 0, 255, 255 |
ToneCurveName | Linear |
Version (1) | 3.2 |
Version | 5.5 |
Vibrance | 0 |
VignetteAmount | -73 |
VignetteMidpoint | 14 |
WhiteBalance | Custom |
WhiteClip | 0.785800 |