Felt | Verdi |
AlreadyApplied | True |
Aperture | 1.4 |
ApertureValue | 1.4 |
BitsPerSample | 8 |
BlueHue | 0 |
BlueSaturation | 0 |
Brightness | +50 |
CameraProfile | Camera D2X Mode 1 |
CFAPattern | [Red,Green][Green,Blue] |
ChromaticAberrationB | 0 |
ChromaticAberrationR | 0 |
CircleOfConfusion | 0.020 mm |
Clarity | +30 |
ColorComponents | 3 |
ColorMode | RGB |
ColorNoiseReduction | 25 |
ColorSpace | sRGB |
ColorTemperature | 5050 |
Contrast (2) | +46 |
Contrast | High |
ConvertToGrayscale | True |
CreateDate (1) | 2009:10:17 14:39:24.98+02:00 |
CreateDate | 2009:10:17 14:39:24 |
CreatorTool | Ver.2.00 |
CustomRendered | Normal |
DateTimeDigitized | 2009:10:17 14:39:24.98+02:00 |
DateTimeOriginal (1) | 2009:10:17 14:39:24.98+02:00 |
DateTimeOriginal | 2009:10:17 14:39:24 |
Defringe | 0 |
DigitalZoomRatio | 1 |
ExifImageHeight | 879 |
ExifImageWidth | 600 |
Exposure | +0.35 |
ExposureCompensation | 0 |
ExposureMode | Auto |
ExposureProgram | Aperture-priority AE |
ExposureTime | 1/80 |
FillLight | 5 |
Flash | No Flash |
FlashFired | False |
FlashFunction | False |
FlashMode | Unknown |
FlashRedEyeMode | False |
FlashReturn | No return detection |
FNumber | 1.4 |
FocalLength | 85.0 mm |
FocalLength35efl | 85.0 mm (35 mm equivalent: 127.0 mm) |
FocalLengthIn35mmFormat | 127 mm |
Format | image/jpeg |
FOV | 16.1 deg |
GainControl | Low gain up |
GrayMixerAqua | -17 |
GrayMixerBlue | +10 |
GrayMixerGreen | -12 |
GrayMixerMagenta | +5 |
GrayMixerOrange | -5 |
GrayMixerPurple | +18 |
GrayMixerRed | -3 |
GrayMixerYellow | +1 |
GreenHue | 0 |
GreenSaturation | 0 |
HasCrop | False |
HasSettings | True |
HighlightRecovery | 0 |
HyperfocalDistance | 256.63 m |
ICCProfileName | sRGB IEC61966-2.1 |
ImageHeight | 879 |
ImageNumber | 30929 |
ImageSize | 600x879 |
ImageWidth | 600 |
ISO | 800 |
Lens | 85.0 mm f/1.4 |
LensInfo | 85mm f/1.4 |
LightSource | Unknown |
LightValue | 4.3 |
LuminanceSmoothing | 0 |
Make | NIKON CORPORATION |
MaxApertureValue | 1.4 |
Megapixels | 0.527 |
MeteringMode | Center-weighted average |
Model | NIKON D2X |
ModifyDate (1) | 2009:10:17 17:09:55+02:00 |
ModifyDate | 2009:10:17 17:09:55 |
Orientation | Horizontal (normal) |
ParametricDarks | -6 |
ParametricHighlights | +16 |
ParametricHighlightSplit | 75 |
ParametricLights | +8 |
ParametricMidtoneSplit | 50 |
ParametricShadows | -22 |
ParametricShadowSplit | 25 |
PostCropVignetteAmount | -48 |
PostCropVignetteFeather | 50 |
PostCropVignetteMidpoint | 50 |
PostCropVignetteRoundness | 0 |
ProfileDescription | sRGB IEC61966-2.1 |
Rating | 0 |
RawFileName | _DSC9854.NEF |
RedHue | 0 |
RedSaturation | 0 |
Saturation | Normal |
ScaleFactor35efl | 1.5 |
SceneCaptureType | Standard |
SceneType | Directly photographed |
SensingMethod | One-chip color area |
SerialNumber | 5018469 |
Shadows | 14 |
ShadowTint | -18 |
SharpenDetail | 25 |
SharpenEdgeMasking | 0 |
SharpenRadius | +1.0 |
Sharpness (2) | 25 |
Sharpness | Hard |
ShutterSpeed | 1/80 |
ShutterSpeedValue | 1/80 |
SidecarForExtension | NEF |
Software | Adobe Photoshop CS4 Windows |
SplitToningBalance | -29 |
SplitToningHighlightHue | 12 |
SplitToningHighlightSaturation | 9 |
SplitToningShadowHue | 236 |
SplitToningShadowSaturation | 9 |
SubjectDistanceRange | Unknown |
Tint | -1 |
ToneCurve | 0, 0, 32, 22, 64, 56, 128, 128, 192, 196, 255, 255 |
ToneCurveName | Medium Contrast |
URL_List | |
UserComment | (c)Aasmund Mosseng+4792224928 |
Version | 5.4 |
VignetteAmount | 0 |
WhiteBalance (2) | Custom |
WhiteBalance | Auto |