Felt | Verdi |
AlreadyApplied | True |
Aperture | 8.0 |
ApertureValue | 8.0 |
BitsPerSample | 8 |
BlueHue | 0 |
BlueSaturation | 0 |
Brightness | +25 |
CameraProfile | Adobe Standard |
ChromaticAberrationB | 0 |
ChromaticAberrationR | 0 |
CircleOfConfusion | 0.031 mm |
Clarity | +60 |
ColorComponents | 3 |
ColorMode | RGB |
ColorNoiseReduction | 6 |
ColorSpace | sRGB |
ColorTemperature | 5333 |
Contrast | +30 |
ConvertToGrayscale | False |
CopyrightFlag | False |
CreateDate (1) | 2009:10:04 10:57:22+02:00 |
CreateDate | 2009:10:03 15:47:39 |
CreatorTool | Adobe Photoshop CS3 Windows |
CustomRendered | Normal |
DateTimeDigitized | 2009:10:03 15:47:39.01+02:00 |
DateTimeOriginal (1) | 2009:10:03 15:47:39.01+02:00 |
DateTimeOriginal | 2009:10:03 15:47:39 |
Defringe | 0 |
ExifImageHeight | 3528 |
ExifImageWidth | 3658 |
Exposure | +0.29 |
ExposureCompensation | 0 |
ExposureMode | Manual |
ExposureProgram | Manual |
ExposureTime | 1/125 |
FillLight | 0 |
Firmware | 1.1.0 |
Flash | Off, Did not fire |
FlashCompensation | 0 |
FlashFired | False |
FlashFunction | False |
FlashMode | Off |
FlashRedEyeMode | False |
FlashReturn | No return detection |
FNumber | 8.0 |
FocalLength | 47.0 mm |
FocalLength35efl | 47.0 mm (35 mm equivalent: 45.9 mm) |
Format | image/jpeg |
FOV | 42.9 deg |
GreenHue | 0 |
GreenSaturation | 0 |
HasCrop | False |
HasSettings | True |
HighlightRecovery | 25 |
HueAdjustmentAqua | 0 |
HueAdjustmentBlue | 0 |
HueAdjustmentGreen | 0 |
HueAdjustmentMagenta | 0 |
HueAdjustmentOrange | 0 |
HueAdjustmentPurple | 0 |
HueAdjustmentRed | 0 |
HueAdjustmentYellow | 0 |
HyperfocalDistance | 8.97 m |
ICCProfileName | sRGB IEC61966-2.1 |
ImageHeight (1) | 5616 |
ImageHeight | 3528 |
ImageNumber | 0 |
ImageSize | 3658x3528 |
ImageWidth (1) | 3744 |
ImageWidth | 3658 |
ISO | 100 |
Lens | EF24-105mm f/4L IS USM |
LensInfo | 24-105mm f/? |
LightValue | 13.0 |
LuminanceAdjustmentAqua | 0 |
LuminanceAdjustmentBlue | 0 |
LuminanceAdjustmentGreen | 0 |
LuminanceAdjustmentMagenta | 0 |
LuminanceAdjustmentOrange | 0 |
LuminanceAdjustmentPurple | 0 |
LuminanceAdjustmentRed | 0 |
LuminanceAdjustmentYellow | 0 |
LuminanceSmoothing | 6 |
Make | Canon |
MaxApertureValue | 4.0 |
Megapixels | 12.9 |
MeteringMode | Multi-segment |
Model | Canon EOS 5D Mark II |
ModifyDate (1) | 2009:10:04 10:57:22+02:00 |
ModifyDate | 2009:10:04 10:57:22 |
Orientation | Horizontal (normal) |
PaintCorrectionActive | true |
PaintCorrectionAmount | 1.000000 |
PaintCorrectionBrightness (2) | 0.150000 |
PaintCorrectionBrightness (3) | 0.125000 |
PaintCorrectionBrightness | 0.275000 |
PaintCorrectionClarity (1) | -1.000000 |
PaintCorrectionClarity | 1.000000 |
PaintCorrectionContrast (1) | 1.000000 |
PaintCorrectionContrast (3) | -0.200000 |
PaintCorrectionContrast | 0.500000 |
PaintCorrectionExposure | 0.000000 |
PaintCorrectionHue | 203.000000 |
PaintCorrectionMaskCenterWeight | 0.162140 |
PaintCorrectionMaskFlow | 1.000000 |
PaintCorrectionMaskRadius (1) | 0.102246 |
PaintCorrectionMaskRadius (2) | 0.070089 |
PaintCorrectionMaskRadius (4) | 0.049519 |
PaintCorrectionMaskRadius (6) | 0.029549 |
PaintCorrectionMaskRadius | 0.044880 |
PaintCorrectionMaskValue | 1.000000 |
PaintCorrectionMaskWhat | Mask/Paint |
PaintCorrectionSaturation (5) | -0.025000 |
PaintCorrectionSaturation (7) | 0.250000 |
PaintCorrectionSaturation | 0.000000 |
PaintCorrectionSharpness (1) | -1.000000 |
PaintCorrectionSharpness | 0.500000 |
PaintCorrectionWhat | Correction |
ParametricDarks | -9 |
ParametricHighlights | 0 |
ParametricHighlightSplit | 75 |
ParametricLights | +2 |
ParametricMidtoneSplit | 50 |
ParametricShadows | 0 |
ParametricShadowSplit | 25 |
PostCropVignetteAmount | 0 |
ProfileDescription | sRGB IEC61966-2.1 |
RedHue | 0 |
RedSaturation | 0 |
Saturation | +26 |
SaturationAdjustmentAqua | 0 |
SaturationAdjustmentBlue | 0 |
SaturationAdjustmentGreen | 0 |
SaturationAdjustmentMagenta | 0 |
SaturationAdjustmentOrange | 0 |
SaturationAdjustmentPurple | 0 |
SaturationAdjustmentRed | 0 |
SaturationAdjustmentYellow | 0 |
ScaleFactor35efl | 1.0 |
SceneCaptureType | Standard |
SerialNumber | 330117967 |
Shadows | 5 |
ShadowTint | 0 |
SharpenDetail | 24 |
SharpenEdgeMasking | 75 |
SharpenRadius | +1.3 |
Sharpness | 120 |
ShutterSpeed | 1/125 |
ShutterSpeedValue | 1/125 |
Software | Adobe Photoshop CS3 Windows |
SplitToningBalance | 0 |
SplitToningHighlightHue | 0 |
SplitToningHighlightSaturation | 0 |
SplitToningShadowHue | 0 |
SplitToningShadowSaturation | 0 |
Tint | -25 |
ToneCurve | 0, 0, 32, 22, 64, 56, 128, 128, 192, 196, 255, 255 |
ToneCurveName | Medium Contrast |
URL_List | |
Version | 5.2 |
Vibrance | +29 |
VignetteAmount | 0 |
WhiteBalance (2) | Custom |
WhiteBalance | Auto |