Felt | Verdi |
AlreadyApplied | True |
Aperture | 4.0 |
ApertureValue | 4.0 |
BitsPerSample | 8 |
BlueHue | 0 |
BlueSaturation | 0 |
Brightness | +41 |
CameraProfile | ACR 4.4 |
ChromaticAberrationB | 0 |
ChromaticAberrationR | 0 |
CircleOfConfusion | 0.019 mm |
Clarity | +25 |
ColorComponents | 3 |
ColorMode | RGB |
ColorNoiseReduction | 10 |
ColorSpace (1) | Unknown (-1) |
ColorSpace | Uncalibrated |
ColorTemperature | 5300 |
Contrast | +20 |
ConvertToGrayscale | False |
CopyrightFlag | False |
CreateDate (1) | 2009:10:10 09:23:21+02:00 |
CreateDate | 2008:11:01 16:09:57 |
CreatorTool | Adobe Photoshop CS3 Windows |
CustomRendered | Normal |
DateTimeDigitized | 2008:11:01 16:09:57.01+01:00 |
DateTimeOriginal (1) | 2008:11:01 16:09:57.01+01:00 |
DateTimeOriginal | 2008:11:01 16:09:57 |
Defringe | 0 |
ExifImageHeight | 3750 |
ExifImageWidth | 2514 |
Exposure | +0.10 |
ExposureCompensation | 0 |
ExposureMode | Auto |
ExposureProgram | Aperture-priority AE |
ExposureTime | 1/15 |
FillLight | 0 |
Firmware | 1.0.3 |
Flash | Off, Did not fire |
FlashCompensation | 0 |
FlashFired | False |
FlashFunction | False |
FlashMode | Off |
FlashRedEyeMode | False |
FlashReturn | No return detection |
FNumber | 4.0 |
FocalLength | 35.0 mm |
FocalLength35efl | 35.0 mm (35 mm equivalent: 56.7 mm) |
Format | image/jpeg |
FOV | 35.2 deg |
GreenHue | 0 |
GreenSaturation | 0 |
HasCrop | False |
HasSettings | True |
HighlightRecovery | 0 |
HueAdjustmentAqua | 0 |
HueAdjustmentBlue | 0 |
HueAdjustmentGreen | 0 |
HueAdjustmentMagenta | 0 |
HueAdjustmentOrange | 0 |
HueAdjustmentPurple | 0 |
HueAdjustmentRed | 0 |
HueAdjustmentYellow | 0 |
HyperfocalDistance | 16.50 m |
ICCProfileName | Adobe RGB (1998) |
ImageHeight (1) | 3888 |
ImageHeight | 3750 |
ImageNumber | 0 |
ImageSize | 2514x3750 |
ImageWidth (1) | 2592 |
ImageWidth | 2514 |
ISO | 500 |
Lens | EF24-105mm f/4L IS USM |
LensInfo | 24-105mm f/? |
LightValue | 5.6 |
LuminanceAdjustmentAqua | 0 |
LuminanceAdjustmentBlue | 0 |
LuminanceAdjustmentGreen | 0 |
LuminanceAdjustmentMagenta | 0 |
LuminanceAdjustmentOrange | 0 |
LuminanceAdjustmentPurple | 0 |
LuminanceAdjustmentRed | 0 |
LuminanceAdjustmentYellow | 0 |
LuminanceSmoothing | 10 |
Make | Canon |
MaxApertureValue | 4.0 |
Megapixels | 9.4 |
MeteringMode | Multi-segment |
Model | Canon EOS 40D |
ModifyDate (1) | 2009:10:10 09:23:21+02:00 |
ModifyDate | 2009:10:10 09:23:21 |
Orientation | Horizontal (normal) |
ParametricDarks | 0 |
ParametricHighlights | 0 |
ParametricHighlightSplit | 75 |
ParametricLights | 0 |
ParametricMidtoneSplit | 50 |
ParametricShadows | 0 |
ParametricShadowSplit | 25 |
PostCropVignetteAmount | 0 |
ProfileDescription | Adobe RGB (1998) |
RawFileName | IMG_6198.CR2 |
RedHue | 0 |
RedSaturation | 0 |
Saturation | +53 |
SaturationAdjustmentAqua | 0 |
SaturationAdjustmentBlue | 0 |
SaturationAdjustmentGreen | 0 |
SaturationAdjustmentMagenta | 0 |
SaturationAdjustmentOrange | 0 |
SaturationAdjustmentPurple | 0 |
SaturationAdjustmentRed | 0 |
SaturationAdjustmentYellow | 0 |
ScaleFactor35efl | 1.6 |
SceneCaptureType | Standard |
SerialNumber | 530216215 |
Shadows | 5 |
ShadowTint | 0 |
SharpenDetail | 14 |
SharpenEdgeMasking | 67 |
SharpenRadius | +1.6 |
Sharpness | 90 |
ShutterSpeed | 1/15 |
ShutterSpeedValue | 1/15 |
Software | Adobe Photoshop CS3 Windows |
SplitToningBalance | 0 |
SplitToningHighlightHue | 0 |
SplitToningHighlightSaturation | 0 |
SplitToningShadowHue | 0 |
SplitToningShadowSaturation | 0 |
Tint | +4 |
ToneCurve | 0, 0, 32, 22, 64, 56, 128, 128, 192, 196, 255, 255 |
ToneCurveName | Medium Contrast |
URL_List | |
Version | 4.5 |
Vibrance | +44 |
VignetteAmount | 0 |
WhiteBalance | Auto |