Felt | Verdi |
AlreadyApplied | True |
BitsPerSample | 8 |
BlueHue | 0 |
BlueSaturation | 0 |
Brightness | 0 |
CameraProfile | Embedded |
Caption-Abstract | Earrings and necklaces made of natural pink pearls and gold. Black glass, black background, a red velvet box |
ChromaticAberrationB | 0 |
ChromaticAberrationR | 0 |
Clarity | 38 |
ColorComponents | 3 |
ColorNoiseReduction | 100 |
Contrast | 0 |
ConvertToGrayscale | False |
CreatorTool | Adobe Photoshop Lightroom |
Defringe | 0 |
Description | Earrings and necklaces made of natural pink pearls and gold. Black glass, black background, a red velvet box |
ExifImageHeight | 533 |
ExifImageWidth | 800 |
Exposure | 0.00 |
FillLight | 0 |
GreenHue | 0 |
GreenSaturation | 0 |
HasCrop | False |
HasSettings | True |
HierarchicalSubject | black, decoration, design, expensive, female, festive, flower, gift box, glass, gold, jewelry, natural, necklace, pearl, pink, red, reflection, shiny, stone, teardrop-shaped, tender, the real, velvet, wedding |
HighlightRecovery | 0 |
HueAdjustmentAqua | 0 |
HueAdjustmentBlue | 0 |
HueAdjustmentGreen | 0 |
HueAdjustmentMagenta | 0 |
HueAdjustmentOrange | 0 |
HueAdjustmentPurple | 0 |
HueAdjustmentRed | -5 |
HueAdjustmentYellow | 0 |
ImageDescription | Earrings and necklaces made of natural pink pearls and gold. Black glass, black background, a red velvet box |
ImageHeight (1) | 2592 |
ImageHeight | 533 |
ImageSize | 800x533 |
ImageWidth (1) | 3888 |
ImageWidth | 800 |
IncrementalTemperature | 0 |
IncrementalTint | 0 |
Keywords | black, decoration, design, expensive, female, festive, flower, gift box, glass, gold, jewelry, natural, necklace, pearl, pink, red, reflection, shiny, stone, teardrop-shaped, tender, the real, velvet, wedding |
LuminanceAdjustmentAqua | 0 |
LuminanceAdjustmentBlue | 0 |
LuminanceAdjustmentGreen | 0 |
LuminanceAdjustmentMagenta | 0 |
LuminanceAdjustmentOrange | 0 |
LuminanceAdjustmentPurple | 0 |
LuminanceAdjustmentRed | -10 |
LuminanceAdjustmentYellow | 0 |
LuminanceSmoothing | 18 |
Megapixels | 0.426 |
ModifyDate (1) | 2009:08:25 18:00:11.0+1:00 |
ModifyDate | 2009:09:05 10:55:54 |
ObjectName | earrings and a necklace of pink pearls |
Orientation | Horizontal (normal) |
ParametricDarks | 0 |
ParametricHighlights | 0 |
ParametricHighlightSplit | 75 |
ParametricLights | 0 |
ParametricMidtoneSplit | 50 |
ParametricShadows | 0 |
ParametricShadowSplit | 25 |
ProfileDescription | sRGB IEC61966-2.1 |
Rating | 5 |
RedHue | 0 |
RedSaturation | 0 |
Saturation | 0 |
SaturationAdjustmentAqua | 0 |
SaturationAdjustmentBlue | 0 |
SaturationAdjustmentGreen | 0 |
SaturationAdjustmentMagenta | 0 |
SaturationAdjustmentOrange | 0 |
SaturationAdjustmentPurple | 0 |
SaturationAdjustmentRed | +10 |
SaturationAdjustmentYellow | 0 |
Shadows | 0 |
ShadowTint | 0 |
SharpenDetail | 26 |
SharpenEdgeMasking | 0 |
SharpenRadius | +1.0 |
Sharpness | 11 |
Software | ACD Systems Digital Imaging |
SplitToningBalance | 0 |
SplitToningHighlightHue | 0 |
SplitToningHighlightSaturation | 0 |
SplitToningShadowHue | 0 |
SplitToningShadowSaturation | 0 |
Subject | black, decoration, design, expensive, female, festive, flower, gift box, glass, gold, jewelry, natural, necklace, pearl, pink, red, reflection, shiny, stone, teardrop-shaped, tender, the real, velvet, wedding |
Title | earrings and a necklace of pink pearls |
ToneCurve | 0, 0, 255, 255 |
ToneCurveName | Linear |
Version | 4.4.1 |
Vibrance | 0 |
VignetteAmount | 0 |
WhiteBalance | As Shot |