Felt | Verdi |
AlreadyApplied | True |
Aperture | 8.0 |
ApertureValue | 8.0 |
BitsPerSample | 8 |
BlueHue | 0 |
BlueSaturation | 0 |
Brightness | +50 |
CameraProfile | Adobe Standard |
ChromaticAberrationB | 0 |
ChromaticAberrationR | 0 |
CircleOfConfusion | 0.023 mm |
Clarity | +5 |
ColorComponents | 3 |
ColorNoiseReduction | 25 |
ColorTemperature | 5050 |
Contrast | +39 |
ConvertToGrayscale | False |
CreateDate (1) | 2009:06:01 17:09:05.39+02:00 |
CreateDate | 2009:06:01 17:09:05 |
CreatorTool | Adobe Photoshop Lightroom |
CropAngle | 0 |
CropBottom | 0.863736 |
CropHeight | 817 |
CropLeft | 0.155425 |
CropRight | 0.756598 |
CropTop | 0.096703 |
CropUnit | pixels |
CropWidth | 960 |
CustomRendered | Normal |
DateTimeDigitized | 2009:06:01 17:09:05.39+02:00 |
DateTimeOriginal (1) | 2009:06:01 17:09:05.39+02:00 |
DateTimeOriginal | 2009:06:01 17:09:05 |
Defringe | 0 |
ExifImageHeight | 817 |
ExifImageWidth | 960 |
Exposure | -0.38 |
ExposureCompensation | +2/3 |
ExposureMode | Auto |
ExposureProgram | Aperture-priority AE |
ExposureTime | 1/1600 |
FillLight | 0 |
Firmware | 1.2.3 |
Flash | No Flash |
FlashCompensation | 0 |
FlashFired | False |
FlashFunction | False |
FlashMode | Unknown |
FlashRedEyeMode | False |
FlashReturn | No return detection |
FNumber | 8.0 |
FocalLength | 700.0 mm |
FocalLength35efl | 700.0 mm (35 mm equivalent: 897.0 mm) |
FOV | 2.3 deg |
GreenHue | 0 |
GreenSaturation | 0 |
HasCrop | True |
HasSettings | True |
HighlightRecovery | 0 |
HueAdjustmentAqua | 0 |
HueAdjustmentBlue | 0 |
HueAdjustmentGreen | 0 |
HueAdjustmentMagenta | 0 |
HueAdjustmentOrange | 0 |
HueAdjustmentPurple | 0 |
HueAdjustmentRed | 0 |
HueAdjustmentYellow | 0 |
HyperfocalDistance | 2612.15 m |
ImageHeight | 817 |
ImageNumber | 0 |
ImageSize | 960x817 |
ImageWidth | 960 |
ISO | 800 |
Keywords | flygande, fågel, havssula, norge, runde |
Lens | EF500mm f/4L IS USM +1.4x |
LensInfo | 500mm f/? |
LightValue | 13.6 |
LuminanceAdjustmentAqua | 0 |
LuminanceAdjustmentBlue | 0 |
LuminanceAdjustmentGreen | 0 |
LuminanceAdjustmentMagenta | 0 |
LuminanceAdjustmentOrange | 0 |
LuminanceAdjustmentPurple | 0 |
LuminanceAdjustmentRed | 0 |
LuminanceAdjustmentYellow | 0 |
LuminanceSmoothing | 31 |
Make | Canon |
MaxApertureValue | 5.7 |
Megapixels | 0.784 |
MeteringMode | Multi-segment |
Model | Canon EOS-1D Mark III |
ModifyDate (1) | 2009:06:08 16:15:06+02:00 |
ModifyDate | 2009:06:08 16:15:06 |
PaintCorrectionActive | true |
PaintCorrectionAmount | 1.000000 |
PaintCorrectionBrightness | -0.075000 |
PaintCorrectionClarity | 0.000000 |
PaintCorrectionContrast | 0.675000 |
PaintCorrectionExposure | -0.125000 |
PaintCorrectionHue | 230.000000 |
PaintCorrectionMaskCenterWeight | 0.131575 |
PaintCorrectionMaskFlow | 0.629000 |
PaintCorrectionMaskRadius | 0.017803 |
PaintCorrectionMaskValue | 0.500000 |
PaintCorrectionMaskWhat | Mask/Paint |
PaintCorrectionSaturation (1) | 0.450000 |
PaintCorrectionSaturation | 0.000000 |
PaintCorrectionSharpness | 0.150000 |
PaintCorrectionWhat | Correction |
ParametricDarks | -8 |
ParametricHighlights | 0 |
ParametricHighlightSplit | 75 |
ParametricLights | +12 |
ParametricMidtoneSplit | 50 |
ParametricShadows | 0 |
ParametricShadowSplit | 25 |
PostCropVignetteAmount | 0 |
ProfileDescription | sRGB IEC61966-2.1 |
Rating | 5 |
RedHue | 0 |
RedSaturation | 0 |
Saturation | 0 |
SaturationAdjustmentAqua | 0 |
SaturationAdjustmentBlue | 0 |
SaturationAdjustmentGreen | 0 |
SaturationAdjustmentMagenta | 0 |
SaturationAdjustmentOrange | +5 |
SaturationAdjustmentPurple | 0 |
SaturationAdjustmentRed | 0 |
SaturationAdjustmentYellow | +4 |
ScaleFactor35efl | 1.3 |
SceneCaptureType | Standard |
SerialNumber | 545186 |
Shadows | 8 |
ShadowTint | 0 |
SharpenDetail | 50 |
SharpenEdgeMasking | 45 |
SharpenRadius | +0.8 |
Sharpness | 66 |
ShutterSpeed | 1/1600 |
ShutterSpeedValue | 1/1600 |
SplitToningBalance | 0 |
SplitToningHighlightHue | 0 |
SplitToningHighlightSaturation | 0 |
SplitToningShadowHue | 0 |
SplitToningShadowSaturation | 0 |
Subject | flygande, fågel, havssula, norge, runde |
Tint | +1 |
ToneCurve | 0, 0, 32, 22, 64, 56, 128, 128, 192, 196, 255, 255 |
ToneCurveName | Medium Contrast |
Version | 5.2 |
Vibrance | +5 |
VignetteAmount | 0 |
WhiteBalance (2) | Custom |
WhiteBalance | Manual |