Felt | Verdi |
AlreadyApplied | True |
Aperture | 11.0 |
ApertureValue | 11.0 |
BitsPerSample | 8 |
BlueHue | -38 |
BlueSaturation | +57 |
Brightness | +43 |
BrightnessValue | 9.25 |
CameraProfile | Adobe Standard |
Caption-Abstract | SONY DSC |
ChromaticAberrationB | 0 |
ChromaticAberrationR | 0 |
CircleOfConfusion | 0.020 mm |
Clarity | +19 |
ColorComponents | 1 |
ColorNoiseReduction | 32 |
ColorTemperature | 5500 |
Contrast (2) | +25 |
Contrast | High |
ConvertToGrayscale | True |
CreateDate (1) | 2009:05:21 19:03:02+02:00 |
CreateDate | 2009:05:21 19:03:02 |
CreatorTool | Adobe Photoshop Lightroom |
CropAngle | -0.783292 |
CropBottom | 0.979904 |
CropHeight | 2791 |
CropLeft | 0.005582 |
CropRight | 0.994418 |
CropTop | 0.020096 |
CropUnit | pixels |
CropWidth | 4186 |
CustomRendered | Normal |
DateTimeDigitized | 2009:05:21 19:03:02+02:00 |
DateTimeOriginal (1) | 2009:05:21 19:03:02+02:00 |
DateTimeOriginal | 2009:05:21 19:03:02 |
Defringe | 0 |
Description | SONY DSC |
DigitalZoomRatio | 0 |
ExifImageHeight | 2791 |
ExifImageWidth | 4186 |
Exposure | +0.10 |
ExposureCompensation | 0 |
ExposureMode | Auto |
ExposureProgram | Aperture-priority AE |
ExposureTime | 1/160 |
FillLight | 0 |
Flash | Off, Did not fire |
FlashFired | False |
FlashFunction | False |
FlashMode | Off |
FlashRedEyeMode | False |
FlashReturn | No return detection |
FNumber | 11.0 |
FocalLength | 22.0 mm |
FocalLength35efl | 22.0 mm (35 mm equivalent: 33.0 mm) |
FocalLengthIn35mmFormat | 33 mm |
FOV | 57.2 deg |
GrayMixerAqua | -17 |
GrayMixerBlue | +14 |
GrayMixerGreen | -28 |
GrayMixerMagenta | +4 |
GrayMixerOrange | -20 |
GrayMixerPurple | +18 |
GrayMixerRed | -11 |
GrayMixerYellow | -24 |
GreenHue | +60 |
GreenSaturation | +100 |
HasCrop | True |
HasSettings | True |
HighlightRecovery | 0 |
HyperfocalDistance | 2.20 m |
ImageDescription | SONY DSC |
ImageHeight | 2791 |
ImageSize | 4186x2791 |
ImageWidth | 4186 |
ISO | 100 |
Keywords | 2009, SH, Strandevann, mai |
LightSource | Unknown |
LightValue | 14.2 |
LuminanceSmoothing | 100 |
Make | SONY |
MaxApertureValue | 2.8 |
Megapixels | 11.7 |
MeteringMode | Center-weighted average |
Model | DSLR-A700 |
ModifyDate (1) | 2009:05:28 22:24:31+02:00 |
ModifyDate | 2009:05:28 22:24:31 |
ParametricDarks | -29 |
ParametricHighlights | +10 |
ParametricHighlightSplit | 75 |
ParametricLights | -29 |
ParametricMidtoneSplit | 50 |
ParametricShadows | 0 |
ParametricShadowSplit | 25 |
PostCropVignetteAmount | 0 |
ProfileDescription | Adobe RGB (1998) |
RedHue | -100 |
RedSaturation | -100 |
Saturation | Normal |
ScaleFactor35efl | 1.5 |
SceneCaptureType | Standard |
SceneType | Directly photographed |
Shadows | 8 |
ShadowTint | 0 |
SharpenDetail | 65 |
SharpenEdgeMasking | 0 |
SharpenRadius | +1.0 |
Sharpness (2) | 57 |
Sharpness | Hard |
ShutterSpeed | 1/160 |
ShutterSpeedValue | 1/160 |
Software | DSLR-A700 v02 |
SplitToningBalance | 0 |
SplitToningHighlightHue | 0 |
SplitToningHighlightSaturation | 0 |
SplitToningShadowHue | 0 |
SplitToningShadowSaturation | 0 |
Subject | 2009, SH, Strandevann, mai |
Tint | +3 |
ToneCurve | 0, 0, 32, 22, 64, 56, 128, 128, 192, 196, 255, 255 |
ToneCurveName | Medium Contrast |
Version | 5.3 |
VignetteAmount | 0 |
WhiteBalance (2) | As Shot |
WhiteBalance | Auto |