Felt | Verdi |
AlreadyApplied | True |
Aperture | 9.0 |
ApertureValue | 9.0 |
BitsPerSample | 8 |
BlueHue | 0 |
BlueSaturation | 0 |
Brightness | +9 |
CameraProfile | Adobe Standard |
CFAPattern | [Green,Red][Blue,Green] |
ChromaticAberrationB | 0 |
ChromaticAberrationR | 0 |
CircleOfConfusion | 0.020 mm |
Clarity | +37 |
ColorComponents | 3 |
ColorMode | RGB |
ColorNoiseReduction | 25 |
ColorSpace | sRGB |
ColorTemperature | 5050 |
Contrast (2) | +40 |
Contrast | Normal |
ConvertToGrayscale | False |
Copyright | Kjell Pettersen |
CopyrightNotice | Kjell Pettersen |
CreateDate (1) | 2009:04:23 19:16:22.57+02:00 |
CreateDate | 2009:04:23 19:16:22 |
CreatorTool | Ver.2.01 |
CropAngle | 3.495258 |
CropBottom | 1 |
CropLeft | 0.162511 |
CropRight | 0.949126 |
CropTop | 0 |
CustomRendered | Normal |
DateTimeDigitized | 2009:04:23 19:16:22.57+02:00 |
DateTimeOriginal (1) | 2009:04:23 19:16:22.57+02:00 |
DateTimeOriginal | 2009:04:23 19:16:22 |
Defringe | 0 |
DigitalZoomRatio | 1 |
ExifImageHeight | 3198 |
ExifImageWidth | 2401 |
Exposure | +1.10 |
ExposureCompensation | 0 |
ExposureMode | Auto |
ExposureProgram | Program AE |
ExposureTime | 1/320 |
FillLight | 0 |
Flash | No Flash |
FlashFired | False |
FlashFunction | False |
FlashMode | Unknown |
FlashRedEyeMode | False |
FlashReturn | No return detection |
FNumber | 9.0 |
FocalLength | 55.0 mm |
FocalLength35efl | 55.0 mm (35 mm equivalent: 82.0 mm) |
FocalLengthIn35mmFormat | 82 mm |
Format | image/jpeg |
FOV | 24.8 deg |
GainControl | None |
GPSAltitude (1) | 7 m |
GPSAltitude | 7 m Above Sea Level |
GPSAltitudeRef | Above Sea Level |
GPSDateStamp | 2009:04:23 |
GPSDateTime | 2009:04:23 17:16:22Z |
GPSLatitude (1) | 58 deg 59' 19.74" N |
GPSLatitude | |
GPSLatitudeRef | North |
GPSLongitude (1) | 5 deg 44' 49.35" E |
GPSLongitude | |
GPSLongitudeRef | East |
GPSTimeStamp | 17:16:22 |
GreenHue | 0 |
GreenSaturation | 0 |
HasCrop | True |
HasSettings | True |
HighlightRecovery | 18 |
HueAdjustmentAqua | 0 |
HueAdjustmentBlue | 0 |
HueAdjustmentGreen | 0 |
HueAdjustmentMagenta | 0 |
HueAdjustmentOrange | 0 |
HueAdjustmentPurple | 0 |
HueAdjustmentRed | 0 |
HueAdjustmentYellow | 0 |
HyperfocalDistance | 16.68 m |
ICCProfileName | sRGB IEC61966-2.1 |
ImageHeight | 3198 |
ImageNumber | 25000 |
ImageSize | 2401x3198 |
ImageWidth | 2401 |
ISO | 200 |
Lens | 17.0-55.0 mm f/2.8 |
LensInfo | 17-55mm f/2.8 |
LightSource | Unknown |
LightValue | 13.7 |
LuminanceAdjustmentAqua | 0 |
LuminanceAdjustmentBlue | 0 |
LuminanceAdjustmentGreen | 0 |
LuminanceAdjustmentMagenta | 0 |
LuminanceAdjustmentOrange | 0 |
LuminanceAdjustmentPurple | 0 |
LuminanceAdjustmentRed | 0 |
LuminanceAdjustmentYellow | 0 |
LuminanceSmoothing | 0 |
Make | NIKON CORPORATION |
MaxApertureValue | 2.8 |
Megapixels | 7.7 |
MeteringMode | Multi-segment |
Model | NIKON D200 |
ModifyDate (1) | 2009:04:23 20:42:46+02:00 |
ModifyDate | 2009:04:23 20:42:46 |
Orientation | Horizontal (normal) |
ParametricDarks | 0 |
ParametricHighlights | 0 |
ParametricHighlightSplit | 75 |
ParametricLights | 0 |
ParametricMidtoneSplit | 50 |
ParametricShadows | 0 |
ParametricShadowSplit | 25 |
PostCropVignetteAmount | 0 |
ProfileDescription | sRGB IEC61966-2.1 |
Rating | 0 |
RawFileName | _DSC0043.NEF |
RedHue | 0 |
RedSaturation | 0 |
Rights | Kjell Pettersen |
Saturation (2) | +8 |
Saturation | Normal |
SaturationAdjustmentAqua | 0 |
SaturationAdjustmentBlue | 0 |
SaturationAdjustmentGreen | 0 |
SaturationAdjustmentMagenta | 0 |
SaturationAdjustmentOrange | 0 |
SaturationAdjustmentPurple | 0 |
SaturationAdjustmentRed | 0 |
SaturationAdjustmentYellow | 0 |
ScaleFactor35efl | 1.5 |
SceneCaptureType | Standard |
SceneType | Directly photographed |
SensingMethod | One-chip color area |
Shadows | 14 |
ShadowTint | 0 |
SharpenDetail | 25 |
SharpenEdgeMasking | 0 |
SharpenRadius | +1.0 |
Sharpness (2) | 25 |
Sharpness | Normal |
ShutterSpeed | 1/320 |
ShutterSpeedValue | 1/320 |
Software | Adobe Photoshop CS4 Windows |
SplitToningBalance | 0 |
SplitToningHighlightHue | 0 |
SplitToningHighlightSaturation | 0 |
SplitToningShadowHue | 0 |
SplitToningShadowSaturation | 0 |
SubjectDistanceRange | Unknown |
Tint | -5 |
ToneCurve | 0, 0, 32, 16, 64, 50, 128, 128, 192, 202, 255, 255 |
ToneCurveName | Strong Contrast |
URL_List | |
UserComment | Kjell@kjellpettersen.com +4790527617 |
Version | 5.3 |
Vibrance | +23 |
VignetteAmount | 0 |
WhiteBalance (2) | As Shot |
WhiteBalance | Auto |