Felt | Verdi |
AlreadyApplied | True |
Aperture | 10.0 |
ApertureValue | 10.0 |
Artist | Christian Wilhelm Mohr |
BitsPerSample (1) | 8, 8, 8, 8 |
BitsPerSample | 8 |
BlueHue | 0 |
BlueSaturation | 0 |
Brightness | +24 |
By-line | Christian Wilhelm Mohr |
CameraProfile | ACR 4.4 |
ChromaticAberrationB | 0 |
ChromaticAberrationR | 0 |
CircleOfConfusion | 0.019 mm |
Clarity | -57 |
ColorComponents | 1 |
ColorMode | Grayscale |
ColorNoiseReduction | 25 |
ColorSpace | Uncalibrated |
ColorTemperature | 5800 |
Contrast | +67 |
ConvertToGrayscale | True |
CreateDate (1) | 2009:02:15 19:23:01+01:00 |
CreateDate | 2009:02:15 19:23:01 |
Creator | Christian Wilhelm Mohr |
CreatorTool | Adobe Photoshop CS4 Macintosh |
CropAngle | 0 |
CropBottom | 1 |
CropHeight | 3 |
CropLeft | 0.016472 |
CropRight | 0.95235 |
CropTop | 0.064122 |
CropUnit | Unknown (3) |
CropWidth | 2 |
CustomRendered | Normal |
DateTimeDigitized | 2009:02:15 19:23:01+01:00 |
DateTimeOriginal (1) | 2009:02:15 19:23:01+01:00 |
DateTimeOriginal | 2009:02:15 19:23:01 |
Defringe | 0 |
ExifImageHeight | 2426 |
ExifImageWidth | 3639 |
Exposure | +1.85 |
ExposureCompensation | 0 |
ExposureMode | Manual |
ExposureProgram | Manual |
ExposureTime | 1/200 |
FillLight | 0 |
Firmware | 1.0.5 |
Flash | Off, Did not fire |
FlashCompensation | 0 |
FlashFired | False |
FlashFunction | False |
FlashMode | Off |
FlashRedEyeMode | False |
FlashReturn | No return detection |
FNumber | 10.0 |
FocalLength | 51.0 mm |
FocalLength35efl | 51.0 mm (35 mm equivalent: 82.5 mm) |
Format | image/jpeg |
FOV | 24.6 deg |
GrayMixerAqua | -22 |
GrayMixerBlue | +31 |
GrayMixerGreen | +51 |
GrayMixerMagenta | +10 |
GrayMixerOrange | -3 |
GrayMixerPurple | +2 |
GrayMixerRed | +18 |
GrayMixerYellow | 0 |
GreenHue | 0 |
GreenSaturation | 0 |
HasCrop | True |
HasSettings | True |
HighlightRecovery | 49 |
HyperfocalDistance | 14.01 m |
ICCProfileName | Gray Gamma 2.2 |
ImageHeight | 2426 |
ImageNumber | 224 |
ImageSize | 3639x2426 |
ImageWidth | 3639 |
ISO | 100 |
Lens | EF24-70mm f/2.8L USM |
LensInfo | 24-70mm f/? |
LightValue | 14.3 |
LuminanceSmoothing | 6 |
Make | Canon |
MaxApertureValue | 2.8 |
Megapixels | 8.8 |
MeteringMode | Average |
Model | Canon EOS 400D DIGITAL |
ModifyDate (1) | 2009:02:17 18:24:33+01:00 |
ModifyDate | 2009:02:17 18:24:33 |
Orientation | Horizontal (normal) |
OwnerName | Christian Wilhelm Mohr |
ParametricDarks | 0 |
ParametricHighlights | 0 |
ParametricHighlightSplit | 90 |
ParametricLights | 0 |
ParametricMidtoneSplit | 47 |
ParametricShadows | 0 |
ParametricShadowSplit | 16 |
PhotometricInterpretation | BlackIsZero |
PostCropVignetteAmount | -100 |
PostCropVignetteFeather | 55 |
PostCropVignetteMidpoint | 14 |
PostCropVignetteRoundness | -17 |
ProfileDescription | Gray Gamma 2.2 |
Rating | 5 |
RawFileName | IMG_1038.CR2 |
RedHue | 0 |
RedSaturation | 0 |
SamplesPerPixel | 4 |
ScaleFactor35efl | 1.6 |
SceneCaptureType | Standard |
SerialNumber | 930586549 |
Shadows | 14 |
ShadowTint | 0 |
SharpenDetail | 15 |
SharpenEdgeMasking | 23 |
SharpenRadius | +1.2 |
Sharpness | 29 |
ShutterSpeed | 1/200 |
ShutterSpeedValue | 1/200 |
Software | Adobe Photoshop CS4 Macintosh |
SplitToningBalance | 0 |
SplitToningHighlightHue | 0 |
SplitToningHighlightSaturation | 0 |
SplitToningShadowHue | 0 |
SplitToningShadowSaturation | 0 |
Tint | +18 |
ToneCurve | 0, 0, 25, 12, 74, 54, 114, 121, 152, 163, 214, 230, 255, 255 |
ToneCurveName | Custom |
URL_List | |
Version | 5.0 |
VignetteAmount | 0 |
WhiteBalance (2) | Custom |
WhiteBalance | Manual |