Felt | Verdi |
AlreadyApplied | True |
Aperture | 8.0 |
ApertureValue | 8.0 |
Artist | Venche Jensen |
BitsPerSample | 8 |
BlueHue | 0 |
BlueSaturation | 0 |
Brightness | +46 |
By-line | Venche Jensen |
CameraProfile | Adobe Standard |
CFAPattern | [Red,Green][Green,Blue] |
ChromaticAberrationB | 0 |
ChromaticAberrationR | 0 |
CircleOfConfusion | 0.020 mm |
Clarity | +40 |
ColorComponents | 3 |
ColorMode | RGB |
ColorNoiseReduction | 25 |
ColorSpace | sRGB |
ColorTemperature | 5350 |
Contrast (2) | +25 |
Contrast | Normal |
ConvertToGrayscale | False |
Copyright | Venche Jensen © 2009 |
CopyrightNotice | Venche Jensen © 2009 |
CreateDate (1) | 2009:04:05 13:06:00.86+02:00 |
CreateDate | 2009:04:05 13:06:00 |
Creator | Venche Jensen |
CreatorTool | Ver.1.10 |
CropAngle | 0.575818 |
CropBottom | 1 |
CropLeft | 0.010741 |
CropRight | 0.989259 |
CropTop | 0 |
CustomRendered | Normal |
DateTimeDigitized | 2009:04:05 13:06:00.86+02:00 |
DateTimeOriginal (1) | 2009:04:05 13:06:00.86+02:00 |
DateTimeOriginal | 2009:04:05 13:06:00 |
Defringe | 0 |
DigitalZoomRatio | 1 |
ExifImageHeight | 862 |
ExifImageWidth | 1203 |
Exposure | 0.00 |
ExposureCompensation | 0 |
ExposureMode | Auto |
ExposureProgram | Program AE |
ExposureTime | 1/250 |
FillLight | 10 |
Flash | No Flash |
FlashFired | False |
FlashFunction | False |
FlashMode | Unknown |
FlashRedEyeMode | False |
FlashReturn | No return detection |
FNumber | 8.0 |
FocalLength | 155.0 mm |
FocalLength35efl | 155.0 mm (35 mm equivalent: 232.0 mm) |
FocalLengthIn35mmFormat | 232 mm |
Format | image/jpeg |
FOV | 8.9 deg |
GainControl | None |
GreenHue | 0 |
GreenSaturation | 0 |
HasCrop | True |
HasSettings | True |
HighlightRecovery | 4 |
HueAdjustmentAqua | 0 |
HueAdjustmentBlue | 0 |
HueAdjustmentGreen | 0 |
HueAdjustmentMagenta | 0 |
HueAdjustmentOrange | 0 |
HueAdjustmentPurple | 0 |
HueAdjustmentRed | 0 |
HueAdjustmentYellow | 0 |
HyperfocalDistance | 149.60 m |
ICCProfileName | sRGB IEC61966-2.1 |
ImageHeight (1) | 2806 |
ImageHeight | 862 |
ImageNumber | 9001 |
ImageSize | 1203x862 |
ImageWidth (1) | 4224 |
ImageWidth | 1203 |
ISO | 200 |
Lens | 70.0-200.0 mm f/2.8 |
LensInfo | 70-200mm f/2.8 |
LightSource | Unknown |
LightValue | 13.0 |
LuminanceAdjustmentAqua | 0 |
LuminanceAdjustmentBlue | 0 |
LuminanceAdjustmentGreen | 0 |
LuminanceAdjustmentMagenta | 0 |
LuminanceAdjustmentOrange | 0 |
LuminanceAdjustmentPurple | 0 |
LuminanceAdjustmentRed | 0 |
LuminanceAdjustmentYellow | 0 |
LuminanceSmoothing | 0 |
Make | NIKON CORPORATION |
MaxApertureValue | 5.7 |
Megapixels | 1.0 |
MeteringMode | Multi-segment |
Model | NIKON D300 |
ModifyDate (1) | 2009:04:07 10:26:02+02:00 |
ModifyDate | 2009:04:07 10:26:02 |
Orientation | Horizontal (normal) |
ParametricDarks | 0 |
ParametricHighlights | 0 |
ParametricHighlightSplit | 75 |
ParametricLights | 0 |
ParametricMidtoneSplit | 50 |
ParametricShadows | 0 |
ParametricShadowSplit | 25 |
PostCropVignetteAmount | 0 |
ProfileDescription | sRGB IEC61966-2.1 |
Rating | 4 |
RawFileName | _2VJ8676.NEF |
RedHue | 0 |
RedSaturation | 0 |
Rights | Venche Jensen © 2009 |
Saturation (2) | 0 |
Saturation | Normal |
SaturationAdjustmentAqua | 0 |
SaturationAdjustmentBlue | 0 |
SaturationAdjustmentGreen | 0 |
SaturationAdjustmentMagenta | 0 |
SaturationAdjustmentOrange | 0 |
SaturationAdjustmentPurple | 0 |
SaturationAdjustmentRed | 0 |
SaturationAdjustmentYellow | 0 |
ScaleFactor35efl | 1.5 |
SceneCaptureType | Standard |
SceneType | Directly photographed |
SensingMethod | One-chip color area |
SerialNumber | 4006116 |
Shadows | 4 |
ShadowTint | 0 |
SharpenDetail | 25 |
SharpenEdgeMasking | 0 |
SharpenRadius | +1.0 |
Sharpness (2) | 25 |
Sharpness | Normal |
ShutterSpeed | 1/250 |
ShutterSpeedValue | 1/250 |
Software | Adobe Photoshop CS4 Macintosh |
SplitToningBalance | 0 |
SplitToningHighlightHue | 0 |
SplitToningHighlightSaturation | 0 |
SplitToningShadowHue | 0 |
SplitToningShadowSaturation | 0 |
SubjectDistanceRange | Unknown |
Tint | +10 |
ToneCurve | 0, 0, 32, 22, 64, 56, 128, 128, 192, 196, 255, 255 |
ToneCurveName | Medium Contrast |
URL_List | |
Version | 5.3 |
Vibrance | +15 |
VignetteAmount | 0 |
WhiteBalance (2) | As Shot |
WhiteBalance | Auto |