Felt | Verdi |
AlreadyApplied | True |
Aperture | 8.0 |
ApertureValue | 8.0 |
Artist | Kirsten |
BitsPerSample | 8 |
BlueHue | 0 |
BlueSaturation | 0 |
Brightness | 0 |
By-line | Kirsten |
CameraProfile | Embedded |
ChromaticAberrationB | 0 |
ChromaticAberrationR | 0 |
CircleOfConfusion | 0.019 mm |
Clarity | 60 |
ColorComponents | 1 |
ColorNoiseReduction | 0 |
Contrast | +25 |
ConvertToGrayscale | True |
Copyright | Helene Laeknes |
CopyrightNotice | Helene Læknes |
CreateDate | 2009:03:28 12:49:56 |
Creator | Kirsten |
CreatorTool | Adobe Photoshop Lightroom |
CropAngle | 0 |
CropBottom | 0.774105 |
CropHeight | 1191 |
CropLeft | 0.235077 |
CropRight | 0.752065 |
CropTop | 0.257117 |
CropUnit | pixels |
CropWidth | 1787 |
CustomRendered | Normal |
DateTimeDigitized | 2009:03:28 12:49:56+01:00 |
DateTimeOriginal (1) | 2009:03:28 12:49:56+01:00 |
DateTimeOriginal | 2009:03:28 12:49:56 |
Defringe | 0 |
Exposure | 0.00 |
ExposureCompensation | 0 |
ExposureMode | Auto |
ExposureProgram | Program AE |
ExposureTime | 1/200 |
FillLight | 0 |
Firmware | 1.0.2 |
Flash | Off, Did not fire |
FlashCompensation | 0 |
FlashFired | False |
FlashFunction | False |
FlashMode | Off |
FlashRedEyeMode | False |
FlashReturn | No return detection |
FNumber | 8.0 |
FocalLength | 22.0 mm |
FocalLength35efl | 22.0 mm (35 mm equivalent: 35.7 mm) |
FOV | 53.5 deg |
GrayMixerAqua | -16 |
GrayMixerBlue | -19 |
GrayMixerGreen | -12 |
GrayMixerMagenta | +3 |
GrayMixerOrange | -20 |
GrayMixerPurple | +17 |
GrayMixerRed | -11 |
GrayMixerYellow | -24 |
GreenHue | 0 |
GreenSaturation | 0 |
HasCrop | True |
HasSettings | True |
HighlightRecovery | 54 |
HyperfocalDistance | 3.27 m |
ImageHeight | 1191 |
ImageNumber | 131 |
ImageSize | 1787x1191 |
ImageWidth | 1787 |
IncrementalTemperature | 0 |
IncrementalTint | 0 |
ISO | 200 |
Keywords | Paris |
Lens | 18.0-200.0 mm |
LensInfo | 18-200mm f/? |
LightValue | 12.6 |
LuminanceSmoothing | 0 |
Make | Canon |
Marked | True |
Megapixels | 2.1 |
MeteringMode | Partial |
Model | Canon EOS 350D DIGITAL |
ModifyDate (1) | 2009:03:30 22:01:38+02:00 |
ModifyDate | 2009:03:30 22:01:38 |
OwnerName | Kirsten |
ParametricDarks | 0 |
ParametricHighlights | 0 |
ParametricHighlightSplit | 75 |
ParametricLights | 0 |
ParametricMidtoneSplit | 50 |
ParametricShadows | 0 |
ParametricShadowSplit | 25 |
ProfileDescription | Adobe RGB (1998) |
RedHue | 0 |
RedSaturation | 0 |
Rights | Helene Læknes |
ScaleFactor35efl | 1.6 |
SceneCaptureType | Standard |
SerialNumber | 630519349 |
Shadows | 0 |
ShadowTint | 0 |
SharpenDetail | 25 |
SharpenEdgeMasking | 0 |
SharpenRadius | +1.0 |
Sharpness | 0 |
ShutterSpeed | 1/200 |
ShutterSpeedValue | 1/200 |
SplitToningBalance | 0 |
SplitToningHighlightHue | 0 |
SplitToningHighlightSaturation | 0 |
SplitToningShadowHue | 0 |
SplitToningShadowSaturation | 0 |
Subject | Paris |
ToneCurve | 0, 0, 32, 22, 64, 56, 128, 128, 192, 196, 255, 255 |
ToneCurveName | Medium Contrast |
UsageTerms | Ask first |
Version | 4.4.1 |
VignetteAmount | -31 |
VignetteMidpoint | 29 |
WebStatement | www.helenefoto.com |
WhiteBalance (2) | As Shot |
WhiteBalance | Auto |