Felt | Verdi |
AlreadyApplied | True |
Aperture | 8.0 |
ApertureValue | 8.0 |
Artist | unknown |
BitsPerSample | 8 |
BlueHue | 0 |
BlueSaturation | 0 |
Brightness | 0 |
By-line | irina pugacheva mork |
CameraProfile | Embedded |
Caption-Abstract | Mountains of Norway |
Category (1) | Ele |
Category | Electronics |
ChromaticAberrationB | 0 |
ChromaticAberrationR | 0 |
CircleOfConfusion | 0.019 mm |
Clarity | 0 |
ColorComponents | 3 |
ColorNoiseReduction | 0 |
Contrast | +12 |
ConvertToGrayscale | False |
Copyright | irmurka |
CopyrightNotice | irmurka |
CreateDate | 2008:03:10 14:04:16 |
Creator | irina pugacheva mork |
CreatorCity | molde |
CreatorCountry | norway |
CreatorTool | Adobe Photoshop Lightroom |
CustomRendered | Normal |
DateTimeDigitized | 2008:03:10 14:04:16+01:00 |
DateTimeOriginal (1) | 2008:03:10 14:04:16+01:00 |
DateTimeOriginal | 2008:03:10 14:04:16 |
Defringe | 0 |
Description | Mountains of Norway |
ExifImageHeight | 500 |
ExifImageWidth | 752 |
Exposure | 0.00 |
ExposureCompensation | 0 |
ExposureMode | Auto |
ExposureProgram | Landscape |
ExposureTime | 1/250 |
FillLight | 0 |
Firmware | 1.1.0 |
Flash | Off, Did not fire |
FlashCompensation | 0 |
FlashFired | False |
FlashFunction | False |
FlashMode | Off |
FlashRedEyeMode | False |
FlashReturn | No return detection |
FNumber | 8.0 |
FocalLength | 70.0 mm |
FocalLength35efl | 70.0 mm (35 mm equivalent: 113.3 mm) |
FOV | 18.1 deg |
GreenHue | 0 |
GreenSaturation | 0 |
HasCrop | False |
HasSettings | True |
HierarchicalSubject | Landscape, Lighter, Mountains, Norway, Snow, azure, beauty, blue, idyll, light, paradise, peak, reflection, relaxation, rest, sea, silence, sky, sports, top, tourism, travel |
HighlightRecovery | 7 |
HueAdjustmentAqua | +8 |
HueAdjustmentBlue | 0 |
HueAdjustmentGreen | +44 |
HueAdjustmentMagenta | 0 |
HueAdjustmentOrange | 0 |
HueAdjustmentPurple | 0 |
HueAdjustmentRed | 0 |
HueAdjustmentYellow | 0 |
HyperfocalDistance | 32.99 m |
ImageDescription | Mountains of Norway |
ImageHeight (1) | 1288 |
ImageHeight | 500 |
ImageNumber | 208 |
ImageSize | 752x500 |
ImageWidth (1) | 1936 |
ImageWidth | 752 |
IncrementalTemperature | -13 |
IncrementalTint | 0 |
ISO | 100 |
Keywords | Landscape, Lighter, Mountains, Norway, Snow, azure, beauty, blue, idyll, light, paradise, peak, reflection, relaxation, rest, sea, silence, sky, sports, top, tourism, travel |
Lens | EF70-300mm f/4-5.6 IS USM |
LensInfo | 70-300mm f/? |
LightValue | 14.0 |
LuminanceAdjustmentAqua | +20 |
LuminanceAdjustmentBlue | 0 |
LuminanceAdjustmentGreen | +29 |
LuminanceAdjustmentMagenta | 0 |
LuminanceAdjustmentOrange | 0 |
LuminanceAdjustmentPurple | 0 |
LuminanceAdjustmentRed | 0 |
LuminanceAdjustmentYellow | 0 |
LuminanceSmoothing | 0 |
Make | Canon |
Marked | True |
MaxApertureValue | 4.0 |
Megapixels | 0.376 |
MeteringMode | Multi-segment |
Model | Canon EOS 400D DIGITAL |
ModifyDate (1) | 2008:03:10 19:59:57+01:00 |
ModifyDate | 2008:03:13 09:07:24 |
Orientation | Horizontal (normal) |
OwnerName | unknown |
ParametricDarks | -13 |
ParametricHighlights | +18 |
ParametricHighlightSplit | 75 |
ParametricLights | 0 |
ParametricMidtoneSplit | 50 |
ParametricShadows | 0 |
ParametricShadowSplit | 25 |
ProfileDescription | sRGB IEC61966-2.1 |
RedHue | 0 |
RedSaturation | 0 |
Rights | irmurka |
Saturation | 0 |
SaturationAdjustmentAqua | +13 |
SaturationAdjustmentBlue | 0 |
SaturationAdjustmentGreen | +60 |
SaturationAdjustmentMagenta | 0 |
SaturationAdjustmentOrange | 0 |
SaturationAdjustmentPurple | 0 |
SaturationAdjustmentRed | 0 |
SaturationAdjustmentYellow | 0 |
ScaleFactor35efl | 1.6 |
SceneCaptureType | Standard |
SerialNumber | 1480868803 |
Shadows | 7 |
ShadowTint | 0 |
SharpenDetail | 25 |
SharpenEdgeMasking | 0 |
SharpenRadius | +1.0 |
Sharpness | 0 |
ShutterSpeed | 1/250 |
ShutterSpeedValue | 1/250 |
Software | ACD Systems Digital Imaging |
SplitToningBalance | -1 |
SplitToningHighlightHue | 0 |
SplitToningHighlightSaturation | 0 |
SplitToningShadowHue | 0 |
SplitToningShadowSaturation | 0 |
Subject | Landscape, Lighter, Mountains, Norway, Snow, azure, beauty, blue, idyll, light, paradise, peak, reflection, relaxation, rest, sea, silence, sky, sports, top, tourism, travel |
ToneCurve | 0, 0, 255, 255 |
ToneCurveName | Linear |
Version | 1.0 |
Vibrance | 0 |
VignetteAmount | 0 |
WebStatement | http://www.morkirina.com/ |
WhiteBalance (2) | Custom |
WhiteBalance | Auto |