Felt | Verdi |
AlreadyApplied | True |
Aperture | 5.6 |
ApertureValue | 5.6 |
BitsPerSample | 8 |
BlueHue | 0 |
BlueSaturation | 0 |
Brightness | +50 |
By-line | Ann-Sofie Larsson |
CameraProfile | Adobe Standard |
ChromaticAberrationB | 0 |
ChromaticAberrationR | 0 |
CircleOfConfusion | 0.019 mm |
Clarity | +52 |
ColorComponents | 3 |
ColorNoiseReduction | 25 |
ColorTemperature | 6550 |
Contrast | +25 |
ConvertToGrayscale | False |
Copyright | Ann-Sofie Larsson |
CopyrightNotice | Ann-Sofie Larsson |
CreateDate (1) | 2009:02:13 10:42:55.86+01:00 |
CreateDate | 2009:02:13 10:42:55 |
Creator | Ann-Sofie Larsson |
CreatorAddress | Fjordvägen 61 |
CreatorCountry | Sweden |
CreatorPostalCode | 45791 |
CreatorRegion | Tanumshede |
CreatorTool | Adobe Photoshop Lightroom |
CreatorWorkEmail | anso_94@hotmail.com |
CreatorWorkTelephone | 0708105111 |
CropAngle | 0 |
CropBottom | 1 |
CropHeight | 455 |
CropLeft | 0.116592 |
CropRight | 0.856502 |
CropTop | 0.210762 |
CropUnit | pixels |
CropWidth | 640 |
CustomRendered | Normal |
DateTimeDigitized | 2009:02:13 10:42:55.86+01:00 |
DateTimeOriginal (1) | 2009:02:13 10:42:55.86+01:00 |
DateTimeOriginal | 2009:02:13 10:42:55 |
Defringe | 0 |
ExifImageHeight | 455 |
ExifImageWidth | 640 |
Exposure | -1.05 |
ExposureCompensation | +2 |
ExposureMode | Auto |
ExposureProgram | Aperture-priority AE |
ExposureTime | 1/200 |
FillLight | 0 |
Firmware | 1.0.3 |
Flash | Off, Did not fire |
FlashCompensation | 0 |
FlashFired | False |
FlashFunction | False |
FlashMode | Off |
FlashRedEyeMode | False |
FlashReturn | No return detection |
FNumber | 5.6 |
FocalLength | 400.0 mm |
FocalLength35efl | 400.0 mm (35 mm equivalent: 647.5 mm) |
FOV | 3.2 deg |
GreenHue | 0 |
GreenSaturation | 0 |
HasCrop | True |
HasSettings | True |
HighlightRecovery | 100 |
HueAdjustmentAqua | 0 |
HueAdjustmentBlue | 0 |
HueAdjustmentGreen | 0 |
HueAdjustmentMagenta | 0 |
HueAdjustmentOrange | 0 |
HueAdjustmentPurple | 0 |
HueAdjustmentRed | 0 |
HueAdjustmentYellow | 0 |
HyperfocalDistance | 1539.34 m |
ImageHeight | 455 |
ImageNumber | 0 |
ImageSize | 640x455 |
ImageWidth | 640 |
ISO | 1000 |
Keywords | Raftötången, fåglar, snö, sol |
Lens | EF100-400mm f/4.5-5.6L IS USM |
LensInfo | 100-400mm f/? |
LightValue | 9.3 |
LuminanceAdjustmentAqua | 0 |
LuminanceAdjustmentBlue | 0 |
LuminanceAdjustmentGreen | 0 |
LuminanceAdjustmentMagenta | 0 |
LuminanceAdjustmentOrange | 0 |
LuminanceAdjustmentPurple | 0 |
LuminanceAdjustmentRed | 0 |
LuminanceAdjustmentYellow | 0 |
LuminanceSmoothing | 0 |
Make | Canon |
MaxApertureValue | 5.7 |
Megapixels | 0.291 |
MeteringMode | Multi-segment |
Model | Canon EOS 40D |
ModifyDate (1) | 2009:02:13 12:47:51+01:00 |
ModifyDate | 2009:02:13 12:47:51 |
ParametricDarks | 0 |
ParametricHighlights | 0 |
ParametricHighlightSplit | 75 |
ParametricLights | 0 |
ParametricMidtoneSplit | 50 |
ParametricShadows | 0 |
ParametricShadowSplit | 25 |
PostCropVignetteAmount | 0 |
ProfileDescription | sRGB IEC61966-2.1 |
RedHue | 0 |
RedSaturation | 0 |
Rights | Ann-Sofie Larsson |
Saturation | +12 |
SaturationAdjustmentAqua | +5 |
SaturationAdjustmentBlue | -7 |
SaturationAdjustmentGreen | 0 |
SaturationAdjustmentMagenta | 0 |
SaturationAdjustmentOrange | +21 |
SaturationAdjustmentPurple | 0 |
SaturationAdjustmentRed | 0 |
SaturationAdjustmentYellow | 0 |
ScaleFactor35efl | 1.6 |
SceneCaptureType | Standard |
SerialNumber | 430101524 |
Shadows | 13 |
ShadowTint | 0 |
SharpenDetail | 39 |
SharpenEdgeMasking | 38 |
SharpenRadius | +0.5 |
Sharpness | 150 |
ShutterSpeed | 1/200 |
ShutterSpeedValue | 1/200 |
SplitToningBalance | 0 |
SplitToningHighlightHue | 0 |
SplitToningHighlightSaturation | 0 |
SplitToningShadowHue | 0 |
SplitToningShadowSaturation | 0 |
Subject | Raftötången, fåglar, snö, sol |
Tint | -2 |
ToneCurve | 0, 0, 32, 22, 64, 56, 128, 128, 192, 196, 255, 255 |
ToneCurveName | Medium Contrast |
Version | 5.2 |
Vibrance | 0 |
VignetteAmount | 0 |
WhiteBalance (2) | As Shot |
WhiteBalance | Manual |