Felt | Verdi |
AlreadyApplied | True |
Aperture | 5.6 |
ApertureValue | 5.6 |
Artist | Svein Otto Jacobsen |
BitsPerSample | 8 |
BlueHue | 0 |
BlueSaturation | 0 |
Brightness | +4 |
By-line | Svein Otto Jacobsen |
CameraProfile | ACR 4.4 |
ChromaticAberrationB | 0 |
ChromaticAberrationR | 0 |
CircleOfConfusion | 0.030 mm |
Clarity | 88 |
ColorComponents | 3 |
ColorNoiseReduction | 25 |
ColorTemperature | 6063 |
Contrast | +52 |
ConvertToGrayscale | False |
Copyright | Svein Otto Jacobsen |
CopyrightNotice | Svein Otto Jacobsen |
Country | Norway |
Country-PrimaryLocationName | Norway |
CreateDate | 2009:02:11 13:43:04 |
Creator | Svein Otto Jacobsen |
CreatorAddress | Nygård |
CreatorCity | KLOKKARVIK |
CreatorCountry | Norway |
CreatorPostalCode | 5378 |
CreatorRegion | Hordaland |
CreatorTool | Adobe Photoshop Lightroom |
CreatorWorkEmail | svein@bitservices.no |
CreatorWorkTelephone | +47 93638223 |
CustomRendered | Normal |
DateTimeDigitized | 2009:02:11 13:43:04+01:00 |
DateTimeOriginal (1) | 2009:02:11 13:43:04+01:00 |
DateTimeOriginal | 2009:02:11 13:43:04 |
Defringe | 0 |
Exposure | -0.76 |
ExposureCompensation | 0 |
ExposureMode | Auto |
ExposureProgram | Program AE |
ExposureTime | 1/125 |
FillLight | 0 |
Firmware | 1.0.1 |
Flash | Off, Did not fire |
FlashCompensation | 0 |
FlashFired | False |
FlashFunction | False |
FlashMode | Off |
FlashRedEyeMode | False |
FlashReturn | No return detection |
FNumber | 5.6 |
FocalLength | 28.0 mm |
FocalLength35efl | 28.0 mm (35 mm equivalent: 28.1 mm) |
FOV | 65.4 deg |
GreenHue | 0 |
GreenSaturation | 0 |
HasCrop | False |
HasSettings | True |
HierarchicalSubject | Hordaland County, Norway, Scandinavia, Trees, snow, winter |
HighlightRecovery | 80 |
HueAdjustmentAqua | 0 |
HueAdjustmentBlue | +25 |
HueAdjustmentGreen | +7 |
HueAdjustmentMagenta | 0 |
HueAdjustmentOrange | 0 |
HueAdjustmentPurple | 0 |
HueAdjustmentRed | 0 |
HueAdjustmentYellow | +45 |
HyperfocalDistance | 4.67 m |
ImageHeight | 2912 |
ImageNumber | 2 |
ImageSize | 4368x2912 |
ImageWidth | 4368 |
ISO | 100 |
Keywords | Hordaland County, Norway, Scandinavia, Trees, snow, winter |
Lens | 28.0-70.0 mm |
LensInfo | 28-70mm f/? |
LightValue | 11.9 |
LuminanceAdjustmentAqua | 0 |
LuminanceAdjustmentBlue | -45 |
LuminanceAdjustmentGreen | -52 |
LuminanceAdjustmentMagenta | 0 |
LuminanceAdjustmentOrange | 0 |
LuminanceAdjustmentPurple | 0 |
LuminanceAdjustmentRed | 0 |
LuminanceAdjustmentYellow | 0 |
LuminanceSmoothing | 60 |
Make | Canon |
MaxApertureValue | 2.8 |
Megapixels | 12.7 |
MeteringMode | Spot |
Model | Canon EOS 5D |
ModifyDate (1) | 2009:02:11 21:25:43+01:00 |
ModifyDate | 2009:02:11 21:25:43 |
OwnerName | Svein Otto Jacobsen |
ParametricDarks | 0 |
ParametricHighlights | 0 |
ParametricHighlightSplit | 75 |
ParametricLights | 0 |
ParametricMidtoneSplit | 50 |
ParametricShadows | 0 |
ParametricShadowSplit | 25 |
ProfileDescription | sRGB IEC61966-2.1 |
RedHue | 0 |
RedSaturation | 0 |
Rights | Svein Otto Jacobsen |
Saturation | 0 |
SaturationAdjustmentAqua | 0 |
SaturationAdjustmentBlue | +35 |
SaturationAdjustmentGreen | +40 |
SaturationAdjustmentMagenta | 0 |
SaturationAdjustmentOrange | 0 |
SaturationAdjustmentPurple | 0 |
SaturationAdjustmentRed | 0 |
SaturationAdjustmentYellow | +36 |
ScaleFactor35efl | 1.0 |
SceneCaptureType | Standard |
SerialNumber | 330101601 |
Shadows | 6 |
ShadowTint | 0 |
SharpenDetail | 25 |
SharpenEdgeMasking | 0 |
SharpenRadius | +1.0 |
Sharpness | 84 |
ShutterSpeed | 1/125 |
ShutterSpeedValue | 1/125 |
SplitToningBalance | 0 |
SplitToningHighlightHue | 0 |
SplitToningHighlightSaturation | 0 |
SplitToningShadowHue | 0 |
SplitToningShadowSaturation | 0 |
Subject | Hordaland County, Norway, Scandinavia, Trees, snow, winter |
Tint | -1 |
ToneCurve | 0, 0, 32, 22, 64, 56, 128, 128, 192, 196, 255, 255 |
ToneCurveName | Medium Contrast |
Version | 4.4.1 |
Vibrance | 0 |
VignetteAmount | 0 |
WhiteBalance (2) | Custom |
WhiteBalance | Auto |