Felt | Verdi |
AlreadyApplied | True |
Aperture | 18.0 |
ApertureValue | 18.0 |
BitsPerSample (1) | 16, 16, 16 |
BitsPerSample (2) | 16 16 16 |
BitsPerSample | 8 |
BlueHue | 0 |
BlueSaturation | 0 |
Brightness | 0 |
CameraProfile | Embedded |
ChromaticAberrationB | 0 |
ChromaticAberrationR | 0 |
CircleOfConfusion | 0.019 mm |
Clarity | 10 |
ColorComponents | 3 |
ColorMode | RGB |
ColorNoiseReduction | 21 |
ColorSpace | sRGB |
Contrast | +14 |
ConvertToGrayscale | False |
CopyrightFlag | False |
CreateDate (1) | 2009:02:04 18:46:47+01:00 |
CreateDate | 2009:01:31 13:33:37 |
CreatorTool | Adobe Photoshop CS3 Windows |
CropAngle | -0.610741 |
CropBottom | 0.975574 |
CropHeight | 2529 |
CropLeft | 0.009999 |
CropRight | 0.990001 |
CropTop | 0.024426 |
CropUnit | pixels |
CropWidth | 5939 |
CustomRendered | Normal |
DateTimeDigitized | 2009:01:31 13:33:37.00+01:00 |
DateTimeOriginal (1) | 2009:01:31 13:33:37.00+01:00 |
DateTimeOriginal | 2009:01:31 13:33:37 |
Defringe | 0 |
ExifImageHeight | 511 |
ExifImageWidth | 1200 |
Exposure | 0.00 |
ExposureCompensation | 0 |
ExposureMode | Auto |
ExposureProgram | Aperture-priority AE |
ExposureTime | 1/60 |
FillLight | 0 |
Firmware | 1.0.8 |
Flash | Off, Did not fire |
FlashCompensation | 0 |
FlashFired | False |
FlashFunction | False |
FlashMode | Off |
FlashRedEyeMode | False |
FlashReturn | No return detection |
FNumber | 18.0 |
FocalLength | 24.0 mm |
FocalLength35efl | 24.0 mm (35 mm equivalent: 38.9 mm) |
Format | image/jpeg |
FOV | 49.7 deg |
GreenHue | 0 |
GreenSaturation | 0 |
HasCrop | True |
HasSettings | True |
HighlightRecovery | 40 |
HueAdjustmentAqua | 0 |
HueAdjustmentBlue | 0 |
HueAdjustmentGreen | 0 |
HueAdjustmentMagenta | 0 |
HueAdjustmentOrange | 0 |
HueAdjustmentPurple | 0 |
HueAdjustmentRed | 0 |
HueAdjustmentYellow | 0 |
HyperfocalDistance | 1.72 m |
ICCProfileName | sRGB IEC61966-2.1 |
ImageHeight (2) | 2529 |
ImageHeight | 511 |
ImageNumber | 0 |
ImageSize | 1200x511 |
ImageWidth (1) | 5939 |
ImageWidth | 1200 |
IncrementalTemperature | 0 |
IncrementalTint | 0 |
ISO | 100 |
Lens | EF24-105mm f/4L IS USM |
LensInfo | 24-105mm f/? |
LightValue | 14.2 |
LuminanceAdjustmentAqua | -24 |
LuminanceAdjustmentBlue | -24 |
LuminanceAdjustmentGreen | 0 |
LuminanceAdjustmentMagenta | 0 |
LuminanceAdjustmentOrange | +2 |
LuminanceAdjustmentPurple | 0 |
LuminanceAdjustmentRed | -5 |
LuminanceAdjustmentYellow | +2 |
LuminanceSmoothing | 30 |
Make | Canon |
MaxApertureValue | 4.0 |
Megapixels | 0.613 |
MeteringMode | Multi-segment |
Model | Canon EOS 40D |
ModifyDate (1) | 2009:02:04 18:46:47+01:00 |
ModifyDate | 2009:02:04 18:46:47 |
Orientation | Horizontal (normal) |
ParametricDarks | -2 |
ParametricHighlights | -5 |
ParametricHighlightSplit | 75 |
ParametricLights | -19 |
ParametricMidtoneSplit | 50 |
ParametricShadows | -2 |
ParametricShadowSplit | 25 |
PhotometricInterpretation | RGB |
PlanarConfiguration | Chunky |
ProfileDescription | sRGB IEC61966-2.1 |
RedHue | 0 |
RedSaturation | 0 |
SamplesPerPixel | 3 |
Saturation | +5 |
SaturationAdjustmentAqua | 0 |
SaturationAdjustmentBlue | 0 |
SaturationAdjustmentGreen | 0 |
SaturationAdjustmentMagenta | 0 |
SaturationAdjustmentOrange | 0 |
SaturationAdjustmentPurple | 0 |
SaturationAdjustmentRed | 0 |
SaturationAdjustmentYellow | 0 |
ScaleFactor35efl | 1.6 |
SceneCaptureType | Standard |
SerialNumber | 630444448 |
Shadows | 0 |
ShadowTint | 0 |
SharpenDetail | 25 |
SharpenEdgeMasking | 17 |
SharpenRadius | +1.0 |
Sharpness | 48 |
ShutterSpeed | 1/60 |
ShutterSpeedValue | 1/60 |
Software | Adobe Photoshop CS3 Windows |
SplitToningBalance | 0 |
SplitToningHighlightHue | 0 |
SplitToningHighlightSaturation | 0 |
SplitToningShadowHue | 0 |
SplitToningShadowSaturation | 0 |
ToneCurve | 0, 0, 255, 255 |
ToneCurveName | Linear |
URL_List | |
Version | 4.4.1 |
Vibrance | +5 |
VignetteAmount | 0 |
WhiteBalance (2) | As Shot |
WhiteBalance | Auto |