Felt | Verdi |
AlreadyApplied | True |
Aperture | 2.8 |
ApertureValue | 2.8 |
Artist | Svein Otto Jacobsen |
BitsPerSample | 8 |
BlueHue | 0 |
BlueSaturation | 0 |
Brightness | +82 |
By-line | Svein Otto Jacobsen |
CameraProfile | ACR 4.4 |
ChromaticAberrationB | 0 |
ChromaticAberrationR | 0 |
CircleOfConfusion | 0.030 mm |
Clarity | 52 |
ColorComponents | 3 |
ColorNoiseReduction | 50 |
ColorTemperature | 2609 |
Contrast | +18 |
ConvertToGrayscale | False |
CreateDate | 2009:01:24 13:42:49 |
Creator | Svein Otto Jacobsen |
CreatorTool | Adobe Photoshop Lightroom |
CropAngle | 0 |
CropBottom | 0.895014 |
CropHeight | 2492 |
CropLeft | 0.115049 |
CropRight | 0.685477 |
CropTop | 0.039371 |
CropUnit | pixels |
CropWidth | 2492 |
CustomRendered | Normal |
DateTimeDigitized | 2009:01:24 13:42:49+01:00 |
DateTimeOriginal (1) | 2009:01:24 13:42:49+01:00 |
DateTimeOriginal | 2009:01:24 13:42:49 |
Defringe | 0 |
Exposure | -0.31 |
ExposureCompensation | 0 |
ExposureMode | Auto |
ExposureProgram | Program AE |
ExposureTime | 1/45 |
FillLight | 0 |
Firmware | 1.0.1 |
Flash | Off, Did not fire |
FlashCompensation | 0 |
FlashFired | False |
FlashFunction | False |
FlashMode | Off |
FlashRedEyeMode | False |
FlashReturn | No return detection |
FNumber | 2.8 |
FocalLength | 70.0 mm |
FocalLength35efl | 70.0 mm (35 mm equivalent: 70.1 mm) |
FOV | 28.8 deg |
GreenHue | 0 |
GreenSaturation | 0 |
HasCrop | True |
HasSettings | True |
HighlightRecovery | 77 |
HueAdjustmentAqua | 0 |
HueAdjustmentBlue | 0 |
HueAdjustmentGreen | 0 |
HueAdjustmentMagenta | 0 |
HueAdjustmentOrange | +3 |
HueAdjustmentPurple | 0 |
HueAdjustmentRed | -15 |
HueAdjustmentYellow | 0 |
HyperfocalDistance | 58.36 m |
ImageHeight | 2492 |
ImageNumber | 37 |
ImageSize | 2492x2492 |
ImageWidth | 2492 |
ISO | 100 |
Lens | 28.0-70.0 mm |
LensInfo | 28-70mm f/? |
LightValue | 8.5 |
LuminanceAdjustmentAqua | 0 |
LuminanceAdjustmentBlue | 0 |
LuminanceAdjustmentGreen | 0 |
LuminanceAdjustmentMagenta | 0 |
LuminanceAdjustmentOrange | -17 |
LuminanceAdjustmentPurple | 0 |
LuminanceAdjustmentRed | 0 |
LuminanceAdjustmentYellow | 0 |
LuminanceSmoothing | 53 |
Make | Canon |
MaxApertureValue | 2.8 |
Megapixels | 6.2 |
MeteringMode | Spot |
Model | Canon EOS 5D |
ModifyDate (1) | 2009:02:01 22:21:31+01:00 |
ModifyDate | 2009:02:01 22:21:31 |
OwnerName | Svein Otto Jacobsen |
ParametricDarks | 0 |
ParametricHighlights | 0 |
ParametricHighlightSplit | 75 |
ParametricLights | 0 |
ParametricMidtoneSplit | 50 |
ParametricShadows | 0 |
ParametricShadowSplit | 25 |
ProfileDescription | sRGB IEC61966-2.1 |
RedHue | 0 |
RedSaturation | 0 |
Saturation | 0 |
SaturationAdjustmentAqua | 0 |
SaturationAdjustmentBlue | 0 |
SaturationAdjustmentGreen | 0 |
SaturationAdjustmentMagenta | 0 |
SaturationAdjustmentOrange | +44 |
SaturationAdjustmentPurple | 0 |
SaturationAdjustmentRed | 0 |
SaturationAdjustmentYellow | -10 |
ScaleFactor35efl | 1.0 |
SceneCaptureType | Standard |
SerialNumber | 330101601 |
Shadows | 17 |
ShadowTint | 0 |
SharpenDetail | 25 |
SharpenEdgeMasking | 32 |
SharpenRadius | +1.8 |
Sharpness | 73 |
ShutterSpeed | 1/45 |
ShutterSpeedValue | 1/45 |
SplitToningBalance | 0 |
SplitToningHighlightHue | 0 |
SplitToningHighlightSaturation | 0 |
SplitToningShadowHue | 0 |
SplitToningShadowSaturation | 0 |
Tint | +3 |
ToneCurve | 0, 0, 32, 22, 64, 56, 128, 128, 192, 196, 255, 255 |
ToneCurveName | Medium Contrast |
Version | 4.4.1 |
Vibrance | 0 |
VignetteAmount | -1 |
VignetteMidpoint | 50 |
WhiteBalance (2) | Custom |
WhiteBalance | Manual |