Felt | Verdi |
AlreadyApplied | True |
Aperture | 4.0 |
ApertureValue | 4.0 |
Artist | unknown |
BitsPerSample | 8 |
BlueHue | 0 |
BlueSaturation | 0 |
Brightness | +50 |
By-line | unknown |
CameraProfile | ACR 4.4 |
ChromaticAberrationB | 0 |
ChromaticAberrationR | 0 |
CircleOfConfusion | 0.019 mm |
Clarity | 0 |
ColorComponents | 1 |
ColorNoiseReduction | 25 |
ColorTemperature | 4500 |
Contrast | +45 |
ConvertToGrayscale | True |
CreateDate (1) | 2009:01:17 11:52:34+01:00 |
CreateDate | 2009:01:17 11:52:34 |
Creator | unknown |
CreatorTool | Adobe Photoshop Lightroom |
CropAngle | 4.89421 |
CropBottom | 1 |
CropHeight | 2009 |
CropLeft | 0.086546 |
CropRight | 0.513988 |
CropTop | 0.081802 |
CropUnit | pixels |
CropWidth | 1675 |
CustomRendered | Normal |
DateTimeDigitized | 2009:01:17 11:52:34+01:00 |
DateTimeOriginal (1) | 2009:01:17 11:52:34+01:00 |
DateTimeOriginal | 2009:01:17 11:52:34 |
Defringe | 0 |
ExifImageHeight | 2009 |
ExifImageWidth | 1675 |
Exposure | -0.95 |
ExposureCompensation | -1/2 |
ExposureMode | Auto |
ExposureProgram | Program AE |
ExposureTime | 1/45 |
FillLight | 0 |
Firmware | 1.0.6 |
Flash | Off, Did not fire |
FlashCompensation | 0 |
FlashFired | False |
FlashFunction | False |
FlashMode | Off |
FlashRedEyeMode | False |
FlashReturn | No return detection |
FNumber | 4.0 |
FocalLength | 28.0 mm |
FocalLength35efl | 28.0 mm (35 mm equivalent: 44.8 mm) |
FOV | 43.7 deg |
GrayMixerAqua | -18 |
GrayMixerBlue | +9 |
GrayMixerGreen | -27 |
GrayMixerMagenta | +3 |
GrayMixerOrange | -19 |
GrayMixerPurple | +15 |
GrayMixerRed | -10 |
GrayMixerYellow | -23 |
GreenHue | 0 |
GreenSaturation | 0 |
HasCrop | True |
HasSettings | True |
HighlightRecovery | 11 |
HyperfocalDistance | 10.45 m |
ImageHeight | 2009 |
ImageNumber | 96 |
ImageSize | 1675x2009 |
ImageWidth | 1675 |
ISO | 400 |
Lens | 17.0-70.0 mm |
LensInfo | 17-70mm f/? |
LightValue | 7.5 |
LuminanceSmoothing | 0 |
Make | Canon |
MaxApertureValue | 3.5 |
Megapixels | 3.4 |
MeteringMode | Spot |
Model | Canon EOS 30D |
ModifyDate (1) | 2009:01:17 12:04:36+01:00 |
ModifyDate | 2009:01:17 12:04:36 |
OwnerName | unknown |
ParametricDarks | 0 |
ParametricHighlights | 0 |
ParametricHighlightSplit | 75 |
ParametricLights | 0 |
ParametricMidtoneSplit | 50 |
ParametricShadows | 0 |
ParametricShadowSplit | 25 |
PostCropVignetteAmount | 0 |
ProfileDescription | sRGB IEC61966-2.1 |
RedHue | 0 |
RedSaturation | 0 |
ScaleFactor35efl | 1.6 |
SceneCaptureType | Standard |
SerialNumber | 1730906541 |
Shadows | 0 |
ShadowTint | 0 |
SharpenDetail | 25 |
SharpenEdgeMasking | 0 |
SharpenRadius | +0.8 |
Sharpness | 61 |
ShutterSpeed | 1/45 |
ShutterSpeedValue | 1/45 |
SplitToningBalance | 0 |
SplitToningHighlightHue | 0 |
SplitToningHighlightSaturation | 0 |
SplitToningShadowHue | 0 |
SplitToningShadowSaturation | 0 |
Tint | -61 |
ToneCurve | 0, 0, 32, 22, 64, 56, 128, 128, 192, 196, 255, 255 |
ToneCurveName | Medium Contrast |
Version | 4.5 |
VignetteAmount | 0 |
WhiteBalance (2) | Custom |
WhiteBalance | Auto |