Felt | Verdi |
AlreadyApplied | True |
Aperture | 14.0 |
ApertureValue | 14.0 |
BitsPerSample | 8 |
BlueHue | 0 |
BlueSaturation | 0 |
Brightness | +81 |
CameraProfile | ACR 4.4 |
ChromaticAberrationB | 0 |
ChromaticAberrationR | 0 |
CircleOfConfusion | 0.019 mm |
Clarity | -40 |
ColorComponents | 3 |
ColorNoiseReduction | 89 |
ColorTemperature | 4150 |
Contrast | +59 |
ConvertToGrayscale | True |
CreateDate (1) | 2008:10:21 21:40:57.00+02:00 |
CreateDate | 2008:10:21 21:40:57 |
CreatorTool | Adobe Photoshop Lightroom |
CropAngle | 1.07129 |
CropBottom | 0.789761 |
CropHeight | 800 |
CropLeft | 0.129244 |
CropRight | 0.88788 |
CropTop | 0 |
CropUnit | pixels |
CropWidth | 1200 |
CustomRendered | Normal |
DateTimeDigitized | 2008:10:21 21:40:57.00+02:00 |
DateTimeOriginal (1) | 2008:10:21 21:40:57.00+02:00 |
DateTimeOriginal | 2008:10:21 21:40:57 |
Defringe | 0 |
ExifImageHeight | 1200 |
ExifImageWidth | 800 |
Exposure | 0.00 |
ExposureCompensation | 0 |
ExposureMode | Manual |
ExposureProgram | Manual |
ExposureTime | 1/125 |
FillLight | 0 |
Firmware | 1.0.4 |
Flash | Off, Did not fire |
FlashCompensation | 0 |
FlashFired | False |
FlashFunction | False |
FlashMode | Off |
FlashRedEyeMode | False |
FlashReturn | No return detection |
FNumber | 14.0 |
FocalLength | 40.0 mm |
FocalLength35efl | 40.0 mm (35 mm equivalent: 64.8 mm) |
FOV | 31.1 deg |
GrayMixerAqua | -19 |
GrayMixerBlue | +10 |
GrayMixerGreen | -27 |
GrayMixerMagenta | +6 |
GrayMixerOrange | -19 |
GrayMixerPurple | +17 |
GrayMixerRed | -9 |
GrayMixerYellow | -23 |
GreenHue | 0 |
GreenSaturation | 0 |
HasCrop | True |
HasSettings | True |
HighlightRecovery | 47 |
HyperfocalDistance | 6.16 m |
ImageHeight (1) | 1200 |
ImageHeight | 1204 |
ImageNumber | 0 |
ImageSize | 804x1204 |
ImageWidth (1) | 800 |
ImageWidth | 804 |
ISO | 125 |
Lens | 17-50mm |
LensInfo | 17-50mm f/? |
LightValue | 14.3 |
LuminanceSmoothing | 84 |
Make | Canon |
MaxApertureValue | 2.8 |
Megapixels | 0.968 |
MeteringMode | Multi-segment |
Model | Canon EOS 40D |
ModifyDate (1) | 2008:11:15 01:25:24+01:00 |
ModifyDate | 2008:11:15 01:25:24 |
PaintCorrectionActive | true |
PaintCorrectionAmount | 1.000000 |
PaintCorrectionBrightness (1) | 0.218391 |
PaintCorrectionBrightness | 0.000000 |
PaintCorrectionClarity (1) | 0.471264 |
PaintCorrectionClarity | -1.000000 |
PaintCorrectionContrast (1) | 0.540230 |
PaintCorrectionContrast | -0.678161 |
PaintCorrectionExposure (1) | 0.218391 |
PaintCorrectionExposure | 0.034483 |
PaintCorrectionHue | 240.000000 |
PaintCorrectionMaskCenterWeight | 0.000000 |
PaintCorrectionMaskFlow (5) | 0.988621 |
PaintCorrectionMaskFlow | 1.000000 |
PaintCorrectionMaskRadius (4) | 0.238781 |
PaintCorrectionMaskRadius (5) | 0.075806 |
PaintCorrectionMaskRadius (7) | 0.051313 |
PaintCorrectionMaskRadius (9) | 0.014947 |
PaintCorrectionMaskRadius | 0.030218 |
PaintCorrectionMaskValue (9) | 0.000000 |
PaintCorrectionMaskValue | 1.000000 |
PaintCorrectionMaskWhat | Mask/Paint |
PaintCorrectionSaturation | 0.000000 |
PaintCorrectionSharpness (1) | 0.448276 |
PaintCorrectionSharpness | -0.701149 |
PaintCorrectionWhat | Correction |
ParametricDarks | 0 |
ParametricHighlights | 0 |
ParametricHighlightSplit | 75 |
ParametricLights | 0 |
ParametricMidtoneSplit | 50 |
ParametricShadows | 0 |
ParametricShadowSplit | 25 |
PostCropVignetteAmount | -67 |
PostCropVignetteFeather | 39 |
PostCropVignetteMidpoint | 17 |
PostCropVignetteRoundness | -27 |
ProfileDescription | sRGB IEC61966-2.1 |
RedHue | 0 |
RedSaturation | 0 |
ScaleFactor35efl | 1.6 |
SceneCaptureType | Standard |
SerialNumber | 630446683 |
Shadows | 9 |
ShadowTint | 0 |
SharpenDetail | 38 |
SharpenEdgeMasking | 21 |
SharpenRadius | +1.0 |
Sharpness | 89 |
ShutterSpeed | 1/125 |
ShutterSpeedValue | 1/125 |
SplitToningBalance | -6 |
SplitToningHighlightHue | 239 |
SplitToningHighlightSaturation | 19 |
SplitToningShadowHue | 239 |
SplitToningShadowSaturation | 20 |
Tint | -4 |
ToneCurve | 0, 0, 32, 22, 64, 56, 128, 128, 192, 196, 255, 255 |
ToneCurveName | Medium Contrast |
Version | 4.5 |
VignetteAmount | 0 |
WhiteBalance (2) | Custom |
WhiteBalance | Auto |