Felt | Verdi |
AlreadyApplied | True |
Aperture | 22.0 |
ApertureValue | 22.0 |
BitsPerSample (1) | 8, 8, 8 |
BitsPerSample (2) | 8 8 8 |
BitsPerSample | 8 |
BlueHue | 0 |
BlueSaturation | -50 |
Brightness | +38 |
CameraProfile | Embedded |
ChromaticAberrationB | 0 |
ChromaticAberrationR | 0 |
CircleOfConfusion | 0.019 mm |
Clarity | -19 |
ColorComponents | 3 |
ColorMode | RGB |
ColorNoiseReduction | 67 |
ColorSpace | sRGB |
Contrast | -17 |
ConvertToGrayscale | False |
CopyrightFlag | False |
CreateDate (1) | 2008:11:05 23:19:28+01:00 |
CreateDate | 2008:10:25 14:37:05 |
CreatorTool | Adobe Photoshop CS3 Macintosh |
CropAngle | 0 |
CropBottom | 1 |
CropLeft | 0 |
CropRight | 1 |
CropTop | 0 |
CustomRendered | Normal |
DateTimeDigitized | 2008:10:25 14:37:05.00+02:00 |
DateTimeOriginal (1) | 2008:10:25 14:37:05.00+02:00 |
DateTimeOriginal | 2008:10:25 14:37:05 |
Defringe | 0 |
ExifImageHeight | 3197 |
ExifImageWidth | 4795 |
Exposure | 0.00 |
ExposureCompensation | 0 |
ExposureMode | Auto bracket |
ExposureProgram | Aperture-priority AE |
ExposureTime | 0.3 |
FillLight | 5 |
Firmware | 1.0.4 |
Flash | Off, Did not fire |
FlashCompensation | 0 |
FlashFired | False |
FlashFunction | False |
FlashMode | Off |
FlashRedEyeMode | False |
FlashReturn | No return detection |
FNumber | 22.0 |
FocalLength | 50.0 mm |
FocalLength35efl | 50.0 mm (35 mm equivalent: 80.9 mm) |
Format | image/jpeg |
FOV | 25.1 deg |
GradientBasedCorrActive | true |
GradientBasedCorrAmount | 1.000000 |
GradientBasedCorrBrightness | 0.000000 |
GradientBasedCorrClarity | 0.000000 |
GradientBasedCorrContrast | 0.011494 |
GradientBasedCorrExposure | 0.000000 |
GradientBasedCorrHue | 230.000000 |
GradientBasedCorrMaskFullX (1) | 0.522097 |
GradientBasedCorrMaskFullX (2) | 0.888834 |
GradientBasedCorrMaskFullX | 0.094511 |
GradientBasedCorrMaskFullY (1) | 0.087028 |
GradientBasedCorrMaskFullY (2) | 0.334140 |
GradientBasedCorrMaskFullY | 0.362240 |
GradientBasedCorrMaskValue | 1.000000 |
GradientBasedCorrMaskWhat | Mask/Gradient |
GradientBasedCorrMaskZeroX (1) | 0.523412 |
GradientBasedCorrMaskZeroX (2) | 0.784841 |
GradientBasedCorrMaskZeroX | 0.207187 |
GradientBasedCorrMaskZeroY (1) | 0.547961 |
GradientBasedCorrMaskZeroY (2) | 0.426917 |
GradientBasedCorrMaskZeroY | 0.471700 |
GradientBasedCorrSaturation (2) | 1.000000 |
GradientBasedCorrSaturation (5) | 0.000000 |
GradientBasedCorrSaturation | 0.712871 |
GradientBasedCorrSharpness | 0.000000 |
GradientBasedCorrWhat | Correction |
GreenHue | +10 |
GreenSaturation | +17 |
HasCrop | True |
HasSettings | True |
HierarchicalSubject | Canon EOS 40D |
HighlightRecovery | 21 |
HueAdjustmentAqua | 0 |
HueAdjustmentBlue | 0 |
HueAdjustmentGreen | 0 |
HueAdjustmentMagenta | 0 |
HueAdjustmentOrange | 0 |
HueAdjustmentPurple | 0 |
HueAdjustmentRed | 0 |
HueAdjustmentYellow | +31 |
HyperfocalDistance | 6.12 m |
ICCProfileName | sRGB IEC61966-2.1 |
ImageHeight | 3197 |
ImageNumber | 0 |
ImageSize | 4795x3197 |
ImageWidth | 4795 |
IncrementalTemperature | +25 |
IncrementalTint | +15 |
ISO | 100 |
Keywords | Canon EOS 40D |
Label | Red |
Lens | 17-50mm |
LensInfo | 17-50mm f/? |
LightValue | 10.7 |
LuminanceAdjustmentAqua | 0 |
LuminanceAdjustmentBlue | 0 |
LuminanceAdjustmentGreen | 0 |
LuminanceAdjustmentMagenta | 0 |
LuminanceAdjustmentOrange | 0 |
LuminanceAdjustmentPurple | 0 |
LuminanceAdjustmentRed | 0 |
LuminanceAdjustmentYellow | 0 |
LuminanceSmoothing | 68 |
Make | Canon |
MaxApertureValue | 2.8 |
Megapixels | 15.3 |
MeteringMode | Multi-segment |
Model | Canon EOS 40D |
ModifyDate (1) | 2008:11:05 23:19:28+01:00 |
ModifyDate | 2008:11:05 23:19:28 |
Orientation | Horizontal (normal) |
PaintCorrectionActive | true |
PaintCorrectionAmount | 1.000000 |
PaintCorrectionBrightness (2) | -0.126437 |
PaintCorrectionBrightness | 0.000000 |
PaintCorrectionClarity (1) | -0.494253 |
PaintCorrectionClarity (2) | 0.172414 |
PaintCorrectionClarity | 0.000000 |
PaintCorrectionContrast (1) | 0.034483 |
PaintCorrectionContrast (2) | 0.057471 |
PaintCorrectionContrast (3) | 0.000000 |
PaintCorrectionContrast | 0.011494 |
PaintCorrectionExposure | 0.000000 |
PaintCorrectionHue (1) | 240.000000 |
PaintCorrectionHue (3) | 227.000000 |
PaintCorrectionHue | 39.000000 |
PaintCorrectionMaskCenterWeight | 0.000000 |
PaintCorrectionMaskFlow | 1.000000 |
PaintCorrectionMaskRadius (1) | 0.236759 |
PaintCorrectionMaskRadius (2) | 0.131750 |
PaintCorrectionMaskRadius | 0.375842 |
PaintCorrectionMaskValue (2) | 1.000000 |
PaintCorrectionMaskValue | 0.942529 |
PaintCorrectionMaskWhat | Mask/Paint |
PaintCorrectionSaturation (1) | -0.609195 |
PaintCorrectionSaturation (2) | 0.000000 |
PaintCorrectionSaturation (3) | 0.264368 |
PaintCorrectionSaturation (6) | 0.340000 |
PaintCorrectionSaturation | 0.490000 |
PaintCorrectionSharpness (1) | -0.034483 |
PaintCorrectionSharpness | 0.000000 |
PaintCorrectionWhat | Correction |
ParametricDarks | 0 |
ParametricHighlights | 0 |
ParametricHighlightSplit | 75 |
ParametricLights | 0 |
ParametricMidtoneSplit | 50 |
ParametricShadows | 0 |
ParametricShadowSplit | 25 |
PhotometricInterpretation | RGB |
PlanarConfiguration | Chunky |
PostCropVignetteAmount | -46 |
PostCropVignetteFeather | 100 |
PostCropVignetteMidpoint | 0 |
PostCropVignetteRoundness | +100 |
ProfileDescription | sRGB IEC61966-2.1 |
Rating | 0 |
RawFileName | IMG_7214-Edit.psd |
RedHue | -13 |
RedSaturation | -10 |
SamplesPerPixel | 3 |
Saturation | 0 |
SaturationAdjustmentAqua | 0 |
SaturationAdjustmentBlue | 0 |
SaturationAdjustmentGreen | 0 |
SaturationAdjustmentMagenta | 0 |
SaturationAdjustmentOrange | +8 |
SaturationAdjustmentPurple | 0 |
SaturationAdjustmentRed | 0 |
SaturationAdjustmentYellow | +25 |
ScaleFactor35efl | 1.6 |
SceneCaptureType | Standard |
SerialNumber | 630446683 |
Shadows | 0 |
ShadowTint | 0 |
SharpenDetail | 25 |
SharpenEdgeMasking | 19 |
SharpenRadius | +1.4 |
Sharpness | 75 |
ShutterSpeed | 0.3 |
ShutterSpeedValue | 0.3 |
Software | Adobe Photoshop CS3 Macintosh |
SplitToningBalance | +2 |
SplitToningHighlightHue | 225 |
SplitToningHighlightSaturation | 31 |
SplitToningShadowHue | 41 |
SplitToningShadowSaturation | 27 |
Subject | Canon EOS 40D |
ToneCurve | 0, 0, 255, 255 |
ToneCurveName | Linear |
URL_List | |
Version | 4.6 |
Vibrance | 0 |
VignetteAmount | 0 |
WhiteBalance (2) | Custom |
WhiteBalance | Auto |