Felt | Verdi |
AlreadyApplied | True |
Aperture | 5.6 |
ApertureValue | 5.6 |
Artist | Geir A Granviken |
BitsPerSample | 8 |
BlueHue | 0 |
BlueSaturation | 0 |
Brightness | +29 |
By-line | Geir A Granviken |
CameraProfile | ACR 4.4 |
Caption-Abstract | |
ChromaticAberrationB | 0 |
ChromaticAberrationR | 0 |
CircleOfConfusion | 0.019 mm |
City | Drammen |
Clarity | 0 |
ColorComponents | 3 |
ColorMode | RGB |
ColorNoiseReduction | 25 |
ColorSpace | sRGB |
ColorTemperature | 5500 |
Contrast | 0 |
ConvertToGrayscale | False |
Copyright | 2008 Geir A Granviken |
CopyrightNotice | 2008 Geir A Granviken |
Country | Norway |
Country-PrimaryLocationCode | NO |
Country-PrimaryLocationName | Norway |
CountryCode | NO |
CreateDate (1) | 2008:09:09 13:20:36+02:00 |
CreateDate | 2008:09:05 08:17:46 |
Creator | Geir A Granviken |
CreatorTool | Adobe Photoshop CS3 Windows |
CropAngle | 0 |
CropBottom | 0.96044 |
CropLeft | 0.060024 |
CropRight | 0.950147 |
CropTop | 0.070317 |
CustomRendered | Normal |
DateTimeDigitized | 2008:09:05 08:17:46.3+1:00 |
DateTimeOriginal (1) | 2008:09:05 08:17:46.3+1:00 |
DateTimeOriginal | 2008:09:05 08:17:46 |
Defringe | 0 |
Description | NSB Intercity-tog over jernbanebroa Holmen-Brakerøya i Drammen |
ExifImageHeight | 599 |
ExifImageWidth | 898 |
Exposure | +0.29 |
ExposureCompensation | 0 |
ExposureMode | Auto |
ExposureProgram | Shutter speed priority AE |
ExposureTime | 1/200 |
FillLight | 0 |
Firmware | 1.0.4 |
Flash | Off, Did not fire |
FlashCompensation | 0 |
FlashFired | False |
FlashFunction | False |
FlashMode | Off |
FlashRedEyeMode | False |
FlashReturn | No return detection |
FNumber | 5.6 |
FocalLength | 32.0 mm |
FocalLength35efl | 32.0 mm (35 mm equivalent: 51.7 mm) |
Format | image/jpeg |
FOV | 38.4 deg |
GreenHue | 0 |
GreenSaturation | 0 |
HasCrop | True |
HasSettings | True |
Headline | |
HierarchicalSubject | Portf_Tog, TogInfraBro, TogRmLokEl, TogRmTog |
HighlightRecovery | 11 |
HueAdjustmentAqua | 0 |
HueAdjustmentBlue | 0 |
HueAdjustmentGreen | 0 |
HueAdjustmentMagenta | 0 |
HueAdjustmentOrange | 0 |
HueAdjustmentPurple | 0 |
HueAdjustmentRed | 0 |
HueAdjustmentYellow | 0 |
HyperfocalDistance | 9.83 m |
ICCProfileName | sRGB IEC61966-2.1 |
ImageDescription | NSB Intercity-tog over jernbanebroa Holmen-Brakerøya i Drammen |
ImageHeight | 599 |
ImageNumber | 0 |
ImageSize | 898x599 |
ImageWidth | 898 |
Instructions | |
ISO | 200 |
Lens | EF24-105mm f/4L IS USM |
LensInfo | 24-105mm f/? |
LightValue | 11.6 |
LuminanceAdjustmentAqua | 0 |
LuminanceAdjustmentBlue | 0 |
LuminanceAdjustmentGreen | 0 |
LuminanceAdjustmentMagenta | 0 |
LuminanceAdjustmentOrange | 0 |
LuminanceAdjustmentPurple | 0 |
LuminanceAdjustmentRed | 0 |
LuminanceAdjustmentYellow | 0 |
LuminanceSmoothing | 0 |
Make | Canon |
MaxApertureValue | 4.0 |
Megapixels | 0.538 |
MeteringMode | Multi-segment |
Model | Canon EOS 450D |
ModifyDate (1) | 2008:09:09 12:20:36.0+1:00 |
ModifyDate | 2008:09:09 12:20:36 |
ObjectName | Jernbanebroen Brakerøya-Holmen |
Orientation | Horizontal (normal) |
OwnerName | Geir A Granviken |
ParametricDarks | -7 |
ParametricHighlights | 0 |
ParametricHighlightSplit | 75 |
ParametricLights | +10 |
ParametricMidtoneSplit | 50 |
ParametricShadows | -15 |
ParametricShadowSplit | 25 |
ProfileDescription | sRGB IEC61966-2.1 |
Rating | 0 |
RawFileName | e147_0396.cr2 |
RedHue | 0 |
RedSaturation | 0 |
Rights | 2008 Geir A Granviken |
Saturation | +15 |
SaturationAdjustmentAqua | 0 |
SaturationAdjustmentBlue | 0 |
SaturationAdjustmentGreen | 0 |
SaturationAdjustmentMagenta | 0 |
SaturationAdjustmentOrange | 0 |
SaturationAdjustmentPurple | 0 |
SaturationAdjustmentRed | 0 |
SaturationAdjustmentYellow | 0 |
ScaleFactor35efl | 1.6 |
SceneCaptureType | Standard |
SerialNumber | 680266845 |
Shadows | 0 |
ShadowTint | 0 |
SharpenDetail | 25 |
SharpenEdgeMasking | 0 |
SharpenRadius | +1.5 |
Sharpness | 25 |
ShutterSpeed | 1/200 |
ShutterSpeedValue | 1/200 |
SidecarForExtension | CR2 |
Software | Adobe Photoshop CS3 Windows |
SpecialInstructions | |
SplitToningBalance | 0 |
SplitToningHighlightHue | 0 |
SplitToningHighlightSaturation | 0 |
SplitToningShadowHue | 0 |
SplitToningShadowSaturation | 0 |
Tint | 0 |
Title | Jernbanebroen Brakerøya-Holmen |
ToneCurve | 0, 0, 32, 22, 64, 56, 128, 128, 192, 196, 255, 255 |
ToneCurveName | Medium Contrast |
UserComment | |
Version | 4.4.1 |
Vibrance | 0 |
VignetteAmount | 0 |
WhiteBalance (2) | Custom |
WhiteBalance | Auto |