Felt | Verdi |
AlreadyApplied | True |
Aperture | 8.0 |
ApertureValue | 8.0 |
Artist | Eric Fagerheim |
BitsPerSample (1) | 8, 8, 8 |
BitsPerSample (2) | 8 8 8 |
BitsPerSample | 8 |
BlueHue | 0 |
BlueSaturation | 0 |
Brightness | +50 |
By-line | Eric Fagerheim |
CameraProfile | ACR 4.4 |
Caption-Abstract | emfphoto |
CFAPattern | [Blue,Green][Green,Red] |
ChromaticAberrationB | 0 |
ChromaticAberrationR | 0 |
CircleOfConfusion | 0.020 mm |
Clarity | 0 |
ColorComponents | 3 |
ColorMode | RGB |
ColorNoiseReduction | 25 |
ColorSpace | sRGB |
ColorTemperature | 5350 |
Contrast (2) | +25 |
Contrast | High |
ConvertToGrayscale | False |
Copyright | Eric Fagerheim |
CopyrightFlag | True |
CopyrightNotice | Eric Fagerheim |
CreateDate (1) | 2008:05:11 16:20:46+02:00 |
CreateDate | 2008:04:28 20:00:05 |
Creator | Eric Fagerheim |
CreatorCity | Melhus |
CreatorCountry | Norway |
CreatorPostalCode | 7232 |
CreatorTool | Adobe Photoshop CS3 Windows |
CreatorWorkEmail | mail@emfphoto.no |
CreatorWorkURL | www.emfphoto.no |
CustomRendered | Normal |
DateTimeDigitized | 2008:04:28 20:00:05+02:00 |
DateTimeOriginal (1) | 2008:04:28 20:00:05+02:00 |
DateTimeOriginal | 2008:04:28 20:00:05 |
Defringe | 0 |
Description | emfphoto |
ExifImageHeight | 750 |
ExifImageWidth | 498 |
Exposure | +0.48 |
ExposureCompensation | +1/2 |
ExposureMode | Manual |
ExposureProgram | Manual |
ExposureTime | 1/180 |
FillLight | 0 |
Flash | Off, Did not fire |
FlashFired | False |
FlashFunction | False |
FlashMode | Off |
FlashRedEyeMode | False |
FlashReturn | No return detection |
FNumber | 8.0 |
FocalLength | 34.0 mm |
FocalLength35efl | 34.0 mm (35 mm equivalent: 51.0 mm) |
FocalLengthIn35mmFormat | 51 mm |
Format | image/jpeg |
FOV | 38.9 deg |
GreenHue | 0 |
GreenSaturation | 0 |
HasCrop | False |
HasSettings | True |
HierarchicalSubject | Hilde, bryllup, fotograf, konfirmasjon, portrett, strobist, trondheim |
HighlightRecovery | 15 |
HueAdjustmentAqua | 0 |
HueAdjustmentBlue | 0 |
HueAdjustmentGreen | 0 |
HueAdjustmentMagenta | 0 |
HueAdjustmentOrange | 0 |
HueAdjustmentPurple | 0 |
HueAdjustmentRed | 0 |
HueAdjustmentYellow | 0 |
HyperfocalDistance | 7.21 m |
ICCProfileName | sRGB IEC61966-2.1 |
ImageDescription | emfphoto |
ImageHeight (1) | 4672 |
ImageHeight | 750 |
ImageSize | 498x750 |
ImageWidth (2) | 3104 |
ImageWidth | 498 |
ISO | 100 |
Keywords | Hilde, bryllup, fotograf, konfirmasjon, portrett, strobist, trondheim |
Label | emfphoto |
Lens | smc PENTAX-DA* 16-50mm F2.8 ED AL [IF] SDM |
LensID (1) | 8 242 |
LensID | smc PENTAX-DA* 16-50mm F2.8 ED AL [IF] SDM |
LensInfo | 16-50mm f/2.8 |
LightValue | 13.5 |
LuminanceAdjustmentAqua | 0 |
LuminanceAdjustmentBlue | 0 |
LuminanceAdjustmentGreen | 0 |
LuminanceAdjustmentMagenta | 0 |
LuminanceAdjustmentOrange | 0 |
LuminanceAdjustmentPurple | 0 |
LuminanceAdjustmentRed | 0 |
LuminanceAdjustmentYellow | 0 |
LuminanceSmoothing | 0 |
Make | PENTAX Corporation |
Marked | True |
Megapixels | 0.373 |
MeteringMode | Multi-segment |
Model | PENTAX K20D |
ModifyDate (1) | 2008:05:11 16:20:46+02:00 |
ModifyDate | 2008:05:11 16:20:46 |
Orientation | Horizontal (normal) |
ParametricDarks | 0 |
ParametricHighlights | 0 |
ParametricHighlightSplit | 75 |
ParametricLights | 0 |
ParametricMidtoneSplit | 50 |
ParametricShadows | 0 |
ParametricShadowSplit | 25 |
PhotometricInterpretation | RGB |
PlanarConfiguration | Planar |
ProfileDescription | sRGB IEC61966-2.1 |
RedHue | 0 |
RedSaturation | 0 |
Rights | Eric Fagerheim |
SamplesPerPixel | 3 |
Saturation (2) | 0 |
Saturation | High |
SaturationAdjustmentAqua | 0 |
SaturationAdjustmentBlue | 0 |
SaturationAdjustmentGreen | 0 |
SaturationAdjustmentMagenta | 0 |
SaturationAdjustmentOrange | 0 |
SaturationAdjustmentPurple | 0 |
SaturationAdjustmentRed | 0 |
SaturationAdjustmentYellow | 0 |
ScaleFactor35efl | 1.5 |
SceneCaptureType | Standard |
SensingMethod | One-chip color area |
Shadows | 5 |
ShadowTint | 0 |
SharpenDetail | 25 |
SharpenEdgeMasking | 0 |
SharpenRadius | +1.0 |
Sharpness (2) | 25 |
Sharpness | Hard |
ShutterSpeed | 1/180 |
ShutterSpeedValue | 1/180 |
Software | Adobe Photoshop CS3 Windows |
SplitToningBalance | 0 |
SplitToningHighlightHue | 0 |
SplitToningHighlightSaturation | 0 |
SplitToningShadowHue | 0 |
SplitToningShadowSaturation | 0 |
Subject | Hilde, bryllup, fotograf, konfirmasjon, portrett, strobist, trondheim |
SubjectDistanceRange | Close |
Tint | +5 |
ToneCurve | 0, 0, 32, 22, 64, 56, 128, 128, 192, 196, 255, 255 |
ToneCurveName | Medium Contrast |
URL | www.emfphoto.no |
URL_List | |
Version | 4.4.1 |
Vibrance | 0 |
VignetteAmount | 0 |
WebStatement | www.emfphoto.no |
WhiteBalance (2) | Custom |
WhiteBalance | Auto |