Felt | Verdi |
AlreadyApplied | True |
Aperture | 2.8 |
ApertureValue | 2.8 |
BitsPerSample | 8 |
BlueHue | 0 |
BlueSaturation | +83 |
Brightness | +50 |
CameraProfile | ACR 4.2 |
ChromaticAberrationB | 0 |
ChromaticAberrationR | 0 |
CircleOfConfusion | 0.019 mm |
Clarity | 100 |
ColorComponents | 1 |
ColorMode | Grayscale |
ColorSpace (1) | Unknown (-1) |
ColorSpace | Uncalibrated |
ColorTemperature | 6250 |
Contrast | +25 |
ConvertToGrayscale | True |
CopyrightFlag | False |
CreateDate (1) | 2008:04:16 23:47:51+02:00 |
CreateDate | 2008:02:07 13:25:16 |
CreatorTool | Adobe Photoshop CS3 Windows |
CropAngle | 1.086046 |
CropBottom | 0.845035 |
CropLeft | 0.133007 |
CropRight | 0.981989 |
CropTop | 0.003214 |
CustomRendered | Normal |
DateTimeDigitized | 2008:02:07 13:25:16.32+01:00 |
DateTimeOriginal (1) | 2008:02:07 13:25:16.32+01:00 |
DateTimeOriginal | 2008:02:07 13:25:16 |
Defringe | 0 |
ExifImageHeight | 768 |
ExifImageWidth | 487 |
Exposure | 0.00 |
ExposureCompensation | 0 |
ExposureMode | Auto |
ExposureProgram | Aperture-priority AE |
ExposureTime | 1/2500 |
FillLight | 0 |
Firmware | 1.0.5 |
Flash | Off, Did not fire |
FlashCompensation | 0 |
FlashFired | False |
FlashFunction | False |
FlashMode | Off |
FlashRedEyeMode | False |
FlashReturn | No return detection |
FNumber | 2.8 |
FocalLength | 150.0 mm |
FocalLength35efl | 150.0 mm (35 mm equivalent: 242.8 mm) |
Format | image/jpeg |
FOV | 8.5 deg |
GrayMixerAqua | 0 |
GrayMixerBlue | -30 |
GrayMixerGreen | 0 |
GrayMixerMagenta | +5 |
GrayMixerOrange | -16 |
GrayMixerPurple | +15 |
GrayMixerRed | -7 |
GrayMixerYellow | 0 |
GreenHue | 0 |
GreenSaturation | -4 |
HasCrop | True |
HasSettings | True |
HighlightRecovery | 0 |
HyperfocalDistance | 432.94 m |
ICCProfileName | Gray Gamma 2.2 |
ImageHeight | 768 |
ImageNumber | 0 |
ImageSize | 487x768 |
ImageWidth | 487 |
ISO | 100 |
Lens | 50-150mm |
LensInfo | 50-150mm f/? |
LightValue | 14.3 |
LuminanceSmoothing | 100 |
Make | Canon |
MaxApertureValue | 2.8 |
Megapixels | 0.374 |
MeteringMode | Multi-segment |
Model | Canon EOS 40D |
ModifyDate (1) | 2008:04:16 23:48:30+02:00 |
ModifyDate | 2008:04:16 23:48:30 |
Orientation | Horizontal (normal) |
ParametricDarks | -10 |
ParametricHighlights | 0 |
ParametricHighlightSplit | 75 |
ParametricLights | +17 |
ParametricMidtoneSplit | 50 |
ParametricShadows | -100 |
ParametricShadowSplit | 25 |
ProfileDescription | Gray Gamma 2.2 |
Rating | 0 |
RawFileName | IMG_0227.CR2 |
RedHue | 0 |
RedSaturation | -2 |
ScaleFactor35efl | 1.6 |
SceneCaptureType | Standard |
SerialNumber | 730534893 |
Shadows | 5 |
ShadowTint | 0 |
SharpenDetail | 25 |
SharpenEdgeMasking | 0 |
SharpenRadius | +1.0 |
Sharpness | 25 |
ShutterSpeed | 1/2500 |
ShutterSpeedValue | 1/2500 |
SidecarForExtension | CR2 |
Software | Adobe Photoshop CS3 Windows |
SplitToningBalance | 0 |
SplitToningHighlightHue | 0 |
SplitToningHighlightSaturation | 0 |
SplitToningShadowHue | 0 |
SplitToningShadowSaturation | 0 |
Tint | 0 |
ToneCurve | 0, 0, 32, 22, 64, 56, 128, 128, 192, 196, 255, 255 |
ToneCurveName | Medium Contrast |
URL_List | |
Version | 4.2 |
VignetteAmount | 0 |
WhiteBalance (2) | Custom |
WhiteBalance | Auto |