Felt | Verdi |
AlreadyApplied | True |
Aperture | 4.5 |
ApertureValue | 4.5 |
BitsPerSample (1) | 16, 16, 16 |
BitsPerSample | 8 |
BlueHue | 0 |
BlueSaturation | 0 |
Brightness | +50 |
CameraProfile | ACR 3.1 |
CFAPattern | [Red,Green][Green,Blue] |
ChromaticAberrationB | 0 |
ChromaticAberrationR | 0 |
CircleOfConfusion | 0.015 mm |
ColorComponents | 3 |
ColorMode | RGB |
ColorNoiseReduction | 25 |
ColorSpace | sRGB |
ColorTemperature | 5600 |
Contrast (2) | +25 |
Contrast | Low |
ConvertToGrayscale | False |
Copyright | (C)2007 {www.ketilknudsen.com}, all rights reserved |
CopyrightFlag | False |
CopyrightNotice | (C)2007 {www.ketilknudsen.com}, all rights reserved |
CreateDate (1) | 2007:11:25 04:29:20+01:00 |
CreateDate | 2007:11:14 22:52:57 |
CreatorTool | Adobe Photoshop CS3 Windows |
CustomRendered | Normal |
DateTimeDigitized | 2007:11:14 22:52:57.84+01:00 |
DateTimeOriginal (1) | 2007:11:14 22:52:57.84+01:00 |
DateTimeOriginal | 2007:11:14 22:52:57 |
DigitalZoomRatio | 1.33 |
ExifImageHeight | 680 |
ExifImageWidth | 1024 |
Exposure | 0.00 |
ExposureCompensation | -1 |
ExposureMode | Auto |
ExposureProgram | Aperture-priority AE |
ExposureTime | 1/4000 |
FillLight | 6 |
Flash | No Flash |
FlashFired | False |
FlashFunction | False |
FlashMode | Unknown |
FlashRedEyeMode | False |
FlashReturn | No return detection |
FNumber | 4.5 |
FocalLength | 300.0 mm |
FocalLength35efl | 300.0 mm (35 mm equivalent: 600.0 mm) |
FocalLengthIn35mmFormat | 600 mm |
Format | image/jpeg |
FOV | 3.4 deg |
GainControl | None |
GreenHue | 0 |
GreenSaturation | 0 |
HasCrop | False |
HasSettings | True |
HighlightRecovery | 0 |
HueAdjustmentAqua | 0 |
HueAdjustmentBlue | 0 |
HueAdjustmentGreen | 0 |
HueAdjustmentMagenta | 0 |
HueAdjustmentOrange | 0 |
HueAdjustmentPurple | 0 |
HueAdjustmentRed | 0 |
HueAdjustmentYellow | 0 |
HyperfocalDistance | 1331.28 m |
ICCProfileName | sRGB IEC61966-2.1 |
ImageHeight (1) | 2136 |
ImageHeight | 680 |
ImageNumber | 135967 |
ImageSize | 1024x680 |
ImageWidth (1) | 3216 |
ImageWidth | 1024 |
ISO | 200 |
Label | Red |
Lens | 300.0 mm f/2.8 |
LensInfo | 300mm f/2.8 |
LightSource | Flash |
LightValue | 15.3 |
LuminanceAdjustmentAqua | 0 |
LuminanceAdjustmentBlue | 0 |
LuminanceAdjustmentGreen | 0 |
LuminanceAdjustmentMagenta | 0 |
LuminanceAdjustmentOrange | 0 |
LuminanceAdjustmentPurple | 0 |
LuminanceAdjustmentRed | 0 |
LuminanceAdjustmentYellow | 0 |
LuminanceSmoothing | 0 |
Make | NIKON CORPORATION |
MaxApertureValue | 2.8 |
Megapixels | 0.696 |
MeteringMode | Multi-segment |
Model | NIKON D2X |
ModifyDate (1) | 2007:11:25 04:29:20+01:00 |
ModifyDate | 2007:11:25 04:29:20 |
Orientation | Horizontal (normal) |
ParametricDarks | 0 |
ParametricHighlights | 0 |
ParametricHighlightSplit | 75 |
ParametricLights | 0 |
ParametricMidtoneSplit | 50 |
ParametricShadows | 0 |
ParametricShadowSplit | 25 |
PhotometricInterpretation | RGB |
PlanarConfiguration | Chunky |
ProfileDescription | sRGB IEC61966-2.1 |
Rating | 0 |
RatingPercent | 0 |
RawFileName | _X080856.NEF |
RedHue | 0 |
RedSaturation | 0 |
Rights | (C)2007 {www.ketilknudsen.com}, all rights reserved |
SamplesPerPixel | 3 |
Saturation (2) | 0 |
Saturation | Normal |
SaturationAdjustmentAqua | 0 |
SaturationAdjustmentBlue | 0 |
SaturationAdjustmentGreen | 0 |
SaturationAdjustmentMagenta | 0 |
SaturationAdjustmentOrange | 0 |
SaturationAdjustmentPurple | 0 |
SaturationAdjustmentRed | 0 |
SaturationAdjustmentYellow | 0 |
ScaleFactor35efl | 2.0 |
SceneCaptureType | Standard |
SceneType | Directly photographed |
SensingMethod | One-chip color area |
SerialNumber | 5009975 |
Shadows | 5 |
ShadowTint | 0 |
Sharpness (2) | 25 |
Sharpness | Soft |
ShutterSpeed | 1/4000 |
ShutterSpeedValue | 1/4000 |
SidecarForExtension | NEF |
Software | Adobe Photoshop CS3 Windows |
SplitToningBalance | 0 |
SplitToningHighlightHue | 0 |
SplitToningHighlightSaturation | 0 |
SplitToningShadowHue | 0 |
SplitToningShadowSaturation | 0 |
SubjectDistanceRange | Unknown |
TimeZoneOffset | 1 1 |
Tint | -2 |
ToneCurve | 0, 0, 32, 22, 64, 56, 128, 128, 192, 196, 255, 255 |
ToneCurveName | Medium Contrast |
Urgency | 1 (most urgent) |
URL_List | |
Version | 4.0 |
Vibrance | +5 |
VignetteAmount | 0 |
WhiteBalance (2) | Custom |
WhiteBalance | Manual |