Felt | Verdi |
AlreadyApplied | True |
Aperture | 11.0 |
ApertureValue | 11.0 |
Artist | Jan Erik Arud |
BitsPerSample | 8 |
BlueHue | 0 |
BlueSaturation | 0 |
Brightness | +50 |
By-line | Jan Erik Arud |
CameraProfile | ACR 4.1 |
ChromaticAberrationB | 0 |
ChromaticAberrationR | 0 |
CircleOfConfusion | 0.023 mm |
Clarity | 18 |
ColorComponents | 3 |
ColorMode | RGB |
ColorNoiseReduction | 25 |
ColorSpace | sRGB |
ColorTemperature | 3584 |
Contrast | -9 |
ConvertToGrayscale | False |
Copyright | Jan Erik Arud |
CopyrightFlag | True |
CopyrightNotice | Jan Erik Arud |
CreateDate (1) | 2007:12:02 19:16:08+01:00 |
CreateDate | 2007:12:02 07:27:49 |
Creator | Jan Erik Arud |
CreatorTool | Adobe Photoshop CS2 Windows |
CropAngle | 1.302083 |
CropBottom | 0.953875 |
CropHeight | 2320 |
CropLeft | 0.037794 |
CropRight | 0.951907 |
CropTop | 0.027578 |
CropUnit | pixels |
CropWidth | 3608 |
CustomRendered | Normal |
DateTimeDigitized | 2007:12:02 07:27:49.19+01:00 |
DateTimeOriginal (1) | 2007:12:02 07:27:49.19+01:00 |
DateTimeOriginal | 2007:12:02 07:27:49 |
Defringe | 0 |
ExifImageHeight | 664 |
ExifImageWidth | 1024 |
Exposure | -0.34 |
ExposureCompensation | 0 |
ExposureMode | Manual |
ExposureProgram | Manual |
ExposureTime | 10 |
FillLight | 4 |
Firmware | 1.1.3 |
Flash | No Flash |
FlashCompensation | 0 |
FlashFired | False |
FlashFunction | False |
FlashMode | Unknown |
FlashRedEyeMode | False |
FlashReturn | No return detection |
FNumber | 11.0 |
FocalLength | 50.0 mm |
FocalLength35efl | 50.0 mm (35 mm equivalent: 64.1 mm) |
Format | image/jpeg |
FOV | 31.4 deg |
GreenHue | 0 |
GreenSaturation | 0 |
HasCrop | True |
HasSettings | True |
HighlightRecovery | 0 |
HueAdjustmentAqua | 0 |
HueAdjustmentBlue | 0 |
HueAdjustmentGreen | 0 |
HueAdjustmentMagenta | -67 |
HueAdjustmentOrange | -18 |
HueAdjustmentPurple | -19 |
HueAdjustmentRed | 0 |
HueAdjustmentYellow | -5 |
HyperfocalDistance | 9.69 m |
ICCProfileName | sRGB IEC61966-2.1 |
ImageHeight (1) | 2320 |
ImageHeight | 664 |
ImageNumber | 0 |
ImageSize | 1024x664 |
ImageWidth (1) | 3608 |
ImageWidth | 1024 |
ISO | 320 |
Label | Red |
Lens | EF50mm f/1.4 USM |
LensInfo | 50mm f/? |
LightValue | 1.9 |
LuminanceAdjustmentAqua | 0 |
LuminanceAdjustmentBlue | 0 |
LuminanceAdjustmentGreen | 0 |
LuminanceAdjustmentMagenta | 0 |
LuminanceAdjustmentOrange | 0 |
LuminanceAdjustmentPurple | 0 |
LuminanceAdjustmentRed | 0 |
LuminanceAdjustmentYellow | 0 |
LuminanceSmoothing | 0 |
Make | Canon |
Marked | True |
MaxApertureValue | 1.4 |
Megapixels | 0.680 |
MeteringMode | Multi-segment |
Model | Canon EOS-1D Mark III |
ModifyDate (1) | 2007:12:02 19:16:08+01:00 |
ModifyDate | 2007:12:02 19:16:08 |
Orientation | Horizontal (normal) |
OwnerName | Jan Erik Arud |
ParametricDarks | +7 |
ParametricHighlights | 0 |
ParametricHighlightSplit | 75 |
ParametricLights | +7 |
ParametricMidtoneSplit | 50 |
ParametricShadows | 0 |
ParametricShadowSplit | 25 |
ProfileDescription | sRGB IEC61966-2.1 |
RedHue | 0 |
RedSaturation | 0 |
Rights | Jan Erik Arud |
Saturation | 0 |
SaturationAdjustmentAqua | 0 |
SaturationAdjustmentBlue | -23 |
SaturationAdjustmentGreen | 0 |
SaturationAdjustmentMagenta | -28 |
SaturationAdjustmentOrange | -11 |
SaturationAdjustmentPurple | -62 |
SaturationAdjustmentRed | +1 |
SaturationAdjustmentYellow | 0 |
ScaleFactor35efl | 1.3 |
SceneCaptureType | Standard |
SerialNumber | 529067 |
Shadows | 5 |
ShadowTint | 0 |
SharpenDetail | 97 |
SharpenEdgeMasking | 0 |
SharpenRadius | +1.0 |
Sharpness | 50 |
ShutterSpeed | 10 |
ShutterSpeedValue | 10 |
Software | Adobe Photoshop CS2 Windows |
SplitToningBalance | 0 |
SplitToningHighlightHue | 0 |
SplitToningHighlightSaturation | 0 |
SplitToningShadowHue | 0 |
SplitToningShadowSaturation | 0 |
Tint | +56 |
ToneCurve | 0, 0, 32, 22, 64, 56, 128, 128, 192, 196, 255, 255 |
ToneCurveName | Medium Contrast |
URL | www.vision3.no |
URL_List | |
Version | 1.0 |
Vibrance | +9 |
VignetteAmount | 0 |
WebStatement | www.vision3.no |
WhiteBalance (2) | Custom |
WhiteBalance | Manual |