Felt | Verdi |
AlreadyApplied | True |
Aperture | 4.5 |
ApertureValue | 4.5 |
Artist | SINDRE_NEDREVAG |
AutoLateralCA | 1 |
BitsPerSample | 8 |
Blacks2012 | -8 |
BlueHue | 0 |
BlueSaturation | 0 |
By-line | SINDRE_NEDREVAG |
CameraProfile | Adobe Standard |
CameraProfilesApertureValue | 4.33985 |
CameraProfilesAuthor | Adobe |
CameraProfilesAutoScale | False |
CameraProfilesCameraPrettyName | Nikon Z 9 |
CameraProfilesCameraRawProfile | True |
CameraProfilesFocalLength | 41 |
CameraProfilesFocusDistance | 10000 |
CameraProfilesLens | NIKKOR Z 24-70mm f/2.8 S |
CameraProfilesLensPrettyName | NIKKOR Z 24-70mm f/2.8 S |
CameraProfilesMake | NIKON CORPORATION |
CameraProfilesModel | NIKON Z 9 |
CameraProfilesPerspectiveModelImageXCenter | 0.49474 |
CameraProfilesPerspectiveModelImageYCenter | 0.505829 |
CameraProfilesPerspectiveModelRadialDistortParam1 | 0.05529 |
CameraProfilesPerspectiveModelRadialDistortParam2 | 0.068064 |
CameraProfilesPerspectiveModelRadialDistortParam3 | 0.261049 |
CameraProfilesPerspectiveModelScaleFactor | 0.97315 |
CameraProfilesPerspectiveModelVersion | 2 |
CameraProfilesPerspectiveModelVignetteModelImageXCenter | 0.49474 |
CameraProfilesPerspectiveModelVignetteModelImageYCenter | 0.505829 |
CameraProfilesPerspectiveModelVignetteModelVignetteModelParam1 | 1 |
CameraProfilesProfileName | Camera Settings |
CameraProfilesSensorFormatFactor | 1.003485 |
CameraProfilesUniqueCameraModel | Nikon Z 9 |
CFAPattern | [Red,Green][Green,Blue] |
CircleOfConfusion | 0.030 mm |
Clarity2012 | 0 |
ColorComponents | 3 |
ColorGradeBlending | 50 |
ColorGradeGlobalHue | 0 |
ColorGradeGlobalLum | 0 |
ColorGradeGlobalSat | 0 |
ColorGradeHighlightLum | 0 |
ColorGradeMidtoneHue | 0 |
ColorGradeMidtoneLum | 0 |
ColorGradeMidtoneSat | 0 |
ColorGradeShadowLum | 0 |
ColorNoiseReduction | 0 |
ColorSpace | sRGB |
ColorTemperature | 5050 |
CompatibleVersion | 251920384 |
Contrast | Normal |
Contrast2012 | 0 |
Copyright | SINDRE_N_PHOTOGRAPHY |
CopyrightNotice | SINDRE_N_PHOTOGRAPHY |
CreateDate (1) | 2023:12:12 18:33:13.84+02:00 |
CreateDate | 2023:12:12 18:33:13 |
Creator | SINDRE_NEDREVAG |
CreatorTool | Adobe Photoshop Lightroom Classic 13.0.2 (Windows) |
CropAngle | 0 |
CropBottom | 0.997447 |
CropConstrainToWarp | 0 |
CropLeft | 0 |
CropRight | 0.944413 |
CropTop | 0.138724 |
CustomRendered | Custom |
DateCreated (1) | 2023:12:12 |
DateCreated | 2023:12:12 18:33:13.84+02:00 |
DateTimeOriginal | 2023:12:12 18:33:13 |
DefringeGreenAmount | 0 |
DefringeGreenHueHi | 60 |
DefringeGreenHueLo | 40 |
DefringePurpleAmount | 0 |
DefringePurpleHueHi | 70 |
DefringePurpleHueLo | 30 |
Dehaze | 0 |
DistortionCorrectionAlreadyApplied | True |
EnhanceDenoiseAlreadyApplied | True |
EnhanceDenoiseLumaAmount | 40 |
EnhanceDenoiseVersion | 251658240 |
EnhanceDetailsAlreadyApplied | True |
EnhanceDetailsVersion | 218300416 |
Exposure2012 | +0.86 |
ExposureCompensation | 0 |
ExposureMode | Manual |
ExposureProgram | Manual |
ExposureTime | 1/10 |
Flash | No Flash |
FNumber | 4.5 |
FocalLength | 41.0 mm |
FocalLength35efl | 41.0 mm (35 mm equivalent: 41.0 mm) |
FocalLengthIn35mmFormat | 41 mm |
Format | image/jpeg |
FOV | 47.4 deg |
GainControl | Low gain up |
GrainAmount | 0 |
GreenHue | 0 |
GreenSaturation | 0 |
HasCrop | True |
HasExtendedXMP | 7E27FA14A282C8881A8923257534F995 |
HasSettings | True |
HDREditMode | 0 |
Highlights2012 | -61 |
HueAdjustmentAqua | 0 |
HueAdjustmentBlue | 0 |
HueAdjustmentGreen | 0 |
HueAdjustmentMagenta | 0 |
HueAdjustmentOrange | +6 |
HueAdjustmentPurple | 0 |
HueAdjustmentRed | 0 |
HueAdjustmentYellow | 0 |
HyperfocalDistance | 12.43 m |
ImageHeight | 1551 |
ImageNumber | 41318 |
ImageSize | 2560x1551 |
ImageWidth | 2560 |
ISO | 2500 |
LateralChromaticAberrationCorrectionAlreadyApplied | True |
Lens | NIKKOR Z 24-70mm f/2.8 S |
LensInfo | 24-70mm f/2.8 |
LensMake | NIKON |
LensManualDistortionAmount | 0 |
LensModel | NIKKOR Z 24-70mm f/2.8 S |
LensProfileDistortionScale | 100 |
LensProfileEnable | 1 |
LensProfileIsEmbedded | True |
LensProfileName | Camera Settings |
LensProfileSetup | LensDefaults |
LensProfileVignettingScale | 100 |
LensSerialNumber | 20068775 |
LightSource | Unknown |
LightValue | 3.0 |
LookAmount | 1 |
LookGroup | Profiles |
LookName | Adobe Color |
LookParametersCameraProfile | Adobe Standard |
LookParametersConvertToGrayscale | False |
LookParametersLookTable | E1095149FDB39D7A057BAB208837E2E1 |
LookParametersProcessVersion | 15.4 |
LookParametersToneCurvePV2012 | 0, 0, 22, 16, 40, 35, 127, 127, 224, 230, 240, 246, 255, 255 |
LookParametersToneCurvePV2012Blue | 0, 0, 255, 255 |
LookParametersToneCurvePV2012Green | 0, 0, 255, 255 |
LookParametersToneCurvePV2012Red | 0, 0, 255, 255 |
LookParametersVersion | 16.0 |
LookSupportsAmount | false |
LookSupportsMonochrome | false |
LookSupportsOutputReferred | false |
LuminanceAdjustmentAqua | 0 |
LuminanceAdjustmentBlue | 0 |
LuminanceAdjustmentGreen | 0 |
LuminanceAdjustmentMagenta | 0 |
LuminanceAdjustmentOrange | 0 |
LuminanceAdjustmentPurple | 0 |
LuminanceAdjustmentRed | 0 |
LuminanceAdjustmentYellow | 0 |
LuminanceNoiseReductionContrast | 0 |
LuminanceNoiseReductionDetail | 50 |
LuminanceSmoothing | 5 |
Make | NIKON CORPORATION |
Megapixels | 4.0 |
MeteringMode | Multi-segment |
Model | NIKON Z 9 |
ModifyDate (1) | 2023:12:12 23:18:04+01:00 |
ModifyDate | 2023:12:12 23:18:04 |
Orientation | Horizontal (normal) |
OverrideLookVignette | False |
ParametricDarks | 0 |
ParametricHighlights | 0 |
ParametricHighlightSplit | 75 |
ParametricLights | 0 |
ParametricMidtoneSplit | 50 |
ParametricShadows | 0 |
ParametricShadowSplit | 25 |
PerspectiveAspect | 0 |
PerspectiveHorizontal | 0 |
PerspectiveRotate | 0.0 |
PerspectiveScale | 100 |
PerspectiveUpright | 0 |
PerspectiveVertical | 0 |
PerspectiveX | 0.00 |
PerspectiveY | 0.00 |
PostCropVignetteAmount | 0 |
PreservedFileName | DSC_1336.NEF |
ProcessVersion | 15.4 |
ProfileDescription | sRGB IEC61966-2.1 |
RawFileName | DSC_1336-Enhanced-NR.dng |
RecommendedExposureIndex | 2500 |
RedHue | 0 |
RedSaturation | 0 |
Rights | SINDRE_N_PHOTOGRAPHY |
Saturation (1) | 0 |
Saturation | Normal |
SaturationAdjustmentAqua | 0 |
SaturationAdjustmentBlue | 0 |
SaturationAdjustmentGreen | 0 |
SaturationAdjustmentMagenta | 0 |
SaturationAdjustmentOrange | 0 |
SaturationAdjustmentPurple | 0 |
SaturationAdjustmentRed | 0 |
SaturationAdjustmentYellow | 0 |
ScaleFactor35efl | 1.0 |
SceneCaptureType | Standard |
SceneType | Directly photographed |
SensingMethod | One-chip color area |
SensitivityType | Recommended Exposure Index |
SerialNumber | 6025745 |
Shadows2012 | +39 |
ShadowTint | 0 |
SharpenDetail | 27 |
SharpenEdgeMasking | 66 |
SharpenRadius | +1.0 |
Sharpness (1) | 42 |
Sharpness | Normal |
ShutterSpeed | 1/10 |
ShutterSpeedValue | 1/10 |
Software | Adobe Photoshop Lightroom Classic 13.0.2 (Windows) |
SplitToningBalance | 0 |
SplitToningHighlightHue | 0 |
SplitToningHighlightSaturation | 0 |
SplitToningShadowHue | 0 |
SplitToningShadowSaturation | 0 |
SubjectDistanceRange | Unknown |
Texture | 0 |
Tint | +17 |
ToneCurveName2012 | Linear |
ToneCurvePV2012 | 0, 0, 255, 255 |
ToneCurvePV2012Blue | 0, 0, 255, 255 |
ToneCurvePV2012Green | 0, 0, 255, 255 |
ToneCurvePV2012Red | 0, 0, 255, 255 |
Version | 16.0 |
Vibrance | 0 |
VignetteAmount | 0 |
VignetteCorrectionAlreadyApplied | True |
WhiteBalance (1) | As Shot |
WhiteBalance | Auto |
Whites2012 | 0 |