Felt | Verdi |
AlreadyApplied | True |
Aperture | 6.3 |
ApertureValue | 6.3 |
Artist | Hans Jørgen Lindeløff |
AutoLateralCA | 0 |
BitsPerSample | 8 |
Blacks2012 | -17 |
BlueHue | 0 |
BlueSaturation | 0 |
By-line | Hans Jørgen Lindeløff |
CameraProfile | Embedded |
CircleOfConfusion | 0.030 mm |
Clarity2012 | 0 |
ColorComponents | 3 |
ColorGradeBlending | 50 |
ColorGradeGlobalHue | 0 |
ColorGradeGlobalLum | 0 |
ColorGradeGlobalSat | 0 |
ColorGradeHighlightLum | 0 |
ColorGradeMidtoneHue | 0 |
ColorGradeMidtoneLum | 0 |
ColorGradeMidtoneSat | 0 |
ColorGradeShadowLum | 0 |
ColorNoiseReduction | 20 |
ColorNoiseReductionDetail | 50 |
ColorNoiseReductionSmoothness | 50 |
ColorSpace (1) | Uncalibrated |
ColorSpace | sRGB |
ColorTransform | YCbCr |
CompatibleVersion | 251658240 |
Contrast | Normal |
Contrast2012 | +7 |
ConvertToGrayscale | False |
Copyright | © Hans Jørgen Lindeløff 2022 |
CopyrightFlag | True |
CopyrightNotice | © Hans Jørgen Lindeløff 2022 |
CreateDate (1) | 2022:10:25 15:45:36.191+02:00 |
CreateDate | 2022:10:25 15:45:36 |
Creator | Hans Jørgen Lindeløff |
CreatorAddress | Bjørnevågveien 8 |
CreatorCity | Kråkerøy |
CreatorCountry | Norway |
CreatorPostalCode | 1676 |
CreatorTool | Adobe Photoshop Lightroom Classic 12.0 (Macintosh) |
CreatorWorkEmail | lundeli@mac.com |
CreatorWorkTelephone | +47 92049534 |
CreatorWorkURL | lundeliphoto.no |
CropAngle | 0 |
CropBottom | 0.876091 |
CropConstrainToWarp | 1 |
CropLeft | 0.0241 |
CropRight | 1 |
CropTop | 0.050965 |
CustomRendered | Custom |
DateCreated (1) | 2018:01:02 |
DateCreated | 2018:01:02 14:49:07.571 |
DateTimeOriginal | 2022:10:25 15:45:36 |
DefringeGreenAmount | 0 |
DefringeGreenHueHi | 60 |
DefringeGreenHueLo | 40 |
DefringePurpleAmount | 0 |
DefringePurpleHueHi | 70 |
DefringePurpleHueLo | 30 |
Dehaze | 0 |
DistortionCorrectionAlreadyApplied | True |
Exposure2012 | -0.30 |
ExposureCompensation | -2 |
ExposureMode | Manual |
ExposureProgram | Manual |
ExposureTime | 1/40 |
Flash | No Flash |
FNumber | 6.3 |
FocalLength | 70.0 mm |
FocalLength35efl | 70.0 mm (35 mm equivalent: 70.0 mm) |
FocalLengthIn35mmFormat | 70 mm |
Format | image/jpeg |
FOV | 28.8 deg |
GainControl | None |
GrainAmount | 0 |
GreenHue | 0 |
GreenSaturation | 0 |
HasCrop | True |
HasSettings | True |
Highlights2012 | -42 |
HueAdjustmentAqua | 0 |
HueAdjustmentBlue | 0 |
HueAdjustmentGreen | 0 |
HueAdjustmentMagenta | 0 |
HueAdjustmentOrange | 0 |
HueAdjustmentPurple | 0 |
HueAdjustmentRed | 0 |
HueAdjustmentYellow | 0 |
HyperfocalDistance | 25.89 m |
ImageHeight | 1152 |
ImageNumber | 9728 |
ImageSize | 2048x1152 |
ImageWidth | 2048 |
IncrementalTemperature | 0 |
IncrementalTint | 0 |
IsMergedHDR | True |
ISO | 80 |
LateralChromaticAberrationCorrectionAlreadyApplied | True |
Lens | NIKKOR Z 24-70mm f/4 S |
LensInfo (2) | 24 |
LensInfo | 24-70mm f/4 |
LensMake | NIKON |
LensManualDistortionAmount | 0 |
LensModel | NIKKOR Z 24-70mm f/4 S |
LensProfileEnable | 0 |
LensSerialNumber | 20305630 |
LightSource | Unknown |
LightValue | 11.0 |
LuminanceAdjustmentAqua | 0 |
LuminanceAdjustmentBlue | 0 |
LuminanceAdjustmentGreen | 0 |
LuminanceAdjustmentMagenta | 0 |
LuminanceAdjustmentOrange | 0 |
LuminanceAdjustmentPurple | 0 |
LuminanceAdjustmentRed | 0 |
LuminanceAdjustmentYellow | 0 |
LuminanceNoiseReductionContrast | 0 |
LuminanceNoiseReductionDetail | 50 |
LuminanceSmoothing | 23 |
Make | NIKON CORPORATION |
Marked | True |
Megapixels | 2.4 |
MeteringMode | Center-weighted average |
Model | NIKON Z 6_2 |
ModifyDate (1) | 2022:10:25 20:57:42+02:00 |
ModifyDate | 2022:10:25 20:57:42 |
OverrideLookVignette | False |
ParametricDarks | 0 |
ParametricHighlights | 0 |
ParametricHighlightSplit | 75 |
ParametricLights | 0 |
ParametricMidtoneSplit | 50 |
ParametricShadows | 0 |
ParametricShadowSplit | 25 |
PerspectiveAspect | 0 |
PerspectiveHorizontal | 0 |
PerspectiveRotate | 0.0 |
PerspectiveScale | 100 |
PerspectiveUpright | 0 |
PerspectiveVertical | 0 |
PerspectiveX | 0.00 |
PerspectiveY | 0.00 |
PostCropVignetteAmount | 0 |
PreservedFileName | _Z629755.NEF |
ProcessVersion | 11.0 |
ProfileDescription | sRGB IEC61966-2.1 |
Rating | 5 |
RawFileName | _Z629745-HDR-Edit.tif |
RedHue | 0 |
RedSaturation | 0 |
Rights | © Hans Jørgen Lindeløff 2022 |
Saturation (1) | +1 |
Saturation | Normal |
SaturationAdjustmentAqua | 0 |
SaturationAdjustmentBlue | 0 |
SaturationAdjustmentGreen | 0 |
SaturationAdjustmentMagenta | 0 |
SaturationAdjustmentOrange | 0 |
SaturationAdjustmentPurple | 0 |
SaturationAdjustmentRed | 0 |
SaturationAdjustmentYellow | 0 |
ScaleFactor35efl | 1.0 |
SceneCaptureType | Landscape |
SceneType | Directly photographed |
SensingMethod | One-chip color area |
SensitivityType | Recommended Exposure Index |
SerialNumber | 6044707 |
Shadows2012 | +56 |
ShadowTint | 0 |
SharpenDetail | 25 |
SharpenEdgeMasking | 54 |
SharpenRadius | +1.0 |
Sharpness (1) | 57 |
Sharpness | Normal |
ShutterSpeed | 1/40 |
ShutterSpeedValue | 1/40 |
Software | Adobe Photoshop Lightroom Classic 12.0 (Macintosh) |
SplitToningBalance | 0 |
SplitToningHighlightHue | 0 |
SplitToningHighlightSaturation | 0 |
SplitToningShadowHue | 0 |
SplitToningShadowSaturation | 0 |
SubjectDistanceRange | Unknown |
Texture | 0 |
ToneCurveName2012 | Custom |
ToneCurvePV2012 | 0, 0, 44, 46, 134, 144, 255, 255 |
ToneCurvePV2012Blue | 0, 0, 255, 255 |
ToneCurvePV2012Green | 0, 0, 255, 255 |
ToneCurvePV2012Red | 0, 0, 255, 255 |
UsageTerms | All rights reserved |
Version | 15.0 |
Vibrance | +15 |
VignetteAmount | 0 |
VignetteCorrectionAlreadyApplied | True |
WhiteBalance (1) | As Shot |
WhiteBalance | Auto |
Whites2012 | +9 |