Felt | Verdi |
AlreadyApplied | True |
Aperture | 9.0 |
ApertureValue | 9.0 |
ApproximateFocusDistance | 4294967295 |
AutoLateralCA | 0 |
BitsPerSample | 8 |
Blacks2012 | 0 |
BlueHue | 0 |
BlueSaturation | 0 |
CameraProfile | Adobe Standard |
CFAPattern | [Red,Green][Green,Blue] |
CircleOfConfusion | 0.030 mm |
Clarity2012 | +10 |
ColorComponents | 3 |
ColorGradeBlending | 50 |
ColorGradeGlobalHue | 0 |
ColorGradeGlobalLum | 0 |
ColorGradeGlobalSat | 0 |
ColorGradeHighlightLum | 0 |
ColorGradeMidtoneHue | 0 |
ColorGradeMidtoneLum | 0 |
ColorGradeMidtoneSat | 0 |
ColorGradeShadowLum | 0 |
ColorNoiseReduction | 25 |
ColorNoiseReductionDetail | 50 |
ColorNoiseReductionSmoothness | 50 |
ColorSpace | sRGB |
ColorTemperature | 3150 |
ColorTransform | YCbCr |
Contrast | Normal |
Contrast2012 | 0 |
CreateDate (1) | 2022:06:14 00:13:28.19+02:00 |
CreateDate | 2022:06:14 00:13:28 |
CreatorTool | Adobe Photoshop Lightroom Classic 11.3.1 (Macintosh) |
CropAngle | 0 |
CropBottom | 0.612939 |
CropConstrainToWarp | 0 |
CropLeft | 0.357362 |
CropRight | 0.584469 |
CropTop | 0.20025 |
CustomRendered | Normal |
DateCreated (1) | 2022:06:14 |
DateCreated | 2022:06:14 00:13:28.19+02:00 |
DateTimeOriginal | 2022:06:14 00:13:28 |
Dehaze | 0 |
DOF | inf (652.33 m - inf) |
Exposure2012 | 0.00 |
ExposureCompensation | 0 |
ExposureMode | Manual |
ExposureProgram | Manual |
ExposureTime | 1/400 |
Flash | No Flash |
FNumber | 9.0 |
FocalLength | 420.0 mm |
FocalLength35efl | 420.0 mm (35 mm equivalent: 420.0 mm) |
FocalLengthIn35mmFormat | 420 mm |
Format | image/jpeg |
FOV | 4.9 deg |
GainControl | None |
GrainAmount | 0 |
GrayMixerAqua | 0 |
GrayMixerBlue | -20 |
GrayMixerGreen | +20 |
GrayMixerMagenta | 0 |
GrayMixerOrange | 0 |
GrayMixerPurple | -11 |
GrayMixerRed | 0 |
GrayMixerYellow | +10 |
GreenHue | 0 |
GreenSaturation | 0 |
HasCrop | True |
HasSettings | True |
Highlights2012 | -4 |
HyperfocalDistance | 652.33 m |
ImageHeight | 1200 |
ImageNumber | 34468 |
ImageSize | 991x1200 |
ImageWidth | 991 |
ISO | 200 |
Lens | 300.0 mm f/2.8 |
LensID (1) | 72 |
LensID | AF-S Nikkor 300mm f/2.8D IF-ED + TC-17E or AF-S Nikkor 300mm f/2.8D IF-ED or AF-S Nikkor 300mm f/2.8D IF-ED + TC-14E or AF-S Nikkor 300mm f/2.8D IF-ED + TC-20E or Sigma APO 300mm F2.8 EX DG HSM |
LensInfo | 300mm f/2.8 |
LensManualDistortionAmount | 0 |
LensModel | 300.0 mm f/2.8 |
LensProfileEnable | 0 |
LightSource | Unknown |
LightValue | 14.0 |
LookAmount | 0.8 |
LookCluster | Adobe |
LookGroup | B&W |
LookName | B&W 04 |
LookParametersClarity2012 | +8 |
LookParametersContrast2012 | +8 |
LookParametersConvertToGrayscale | True |
LookParametersLookTable | AC0E24EFC658D3BD29B430044AE2FB7C |
LookParametersProcessVersion | 11.0 |
LookParametersToneCurvePV2012 | 0, 0, 17, 10, 34, 24, 51, 41, 68, 63, 85, 89, 102, 116, 119, 143, 136, 169, 153, 193, 170, 212, 187, 228, 204, 239, 221, 246, 238, 251, 255, 255 |
LookParametersToneCurvePV2012Blue | 0, 0, 255, 255 |
LookParametersToneCurvePV2012Green | 0, 0, 255, 255 |
LookParametersToneCurvePV2012Red | 0, 0, 255, 255 |
LookParametersVersion | 14.3 |
LookSortName | B&W 04 |
LookSupportsMonochrome | false |
LuminanceNoiseReductionContrast | 0 |
LuminanceNoiseReductionDetail | 50 |
LuminanceSmoothing | 23 |
Make | NIKON CORPORATION |
MaxApertureValue | 4.0 |
Megapixels | 1.2 |
MeteringMode | Multi-segment |
Model | NIKON D850 |
ModifyDate (1) | 2022:06:15 21:12:12+02:00 |
ModifyDate | 2022:06:15 21:12:12 |
OverrideLookVignette | False |
ParametricDarks | 0 |
ParametricHighlights | 0 |
ParametricHighlightSplit | 75 |
ParametricLights | 0 |
ParametricMidtoneSplit | 50 |
ParametricShadows | 0 |
ParametricShadowSplit | 25 |
PerspectiveAspect | 0 |
PerspectiveHorizontal | 0 |
PerspectiveRotate | 0.0 |
PerspectiveScale | 100 |
PerspectiveUpright | 1 |
PerspectiveVertical | 0 |
PerspectiveX | 0.00 |
PerspectiveY | 0.00 |
PostCropVignetteAmount | 0 |
PreservedFileName | D85_3931.NEF |
ProcessVersion | 11.0 |
ProfileDescription | sRGB IEC61966-2.1 |
RawFileName | D85_3931.NEF |
RecommendedExposureIndex | 200 |
RedHue | 0 |
RedSaturation | 0 |
Saturation | High |
ScaleFactor35efl | 1.0 |
SceneCaptureType | Standard |
SceneType | Directly photographed |
SensingMethod | One-chip color area |
SensitivityType | Recommended Exposure Index |
SerialNumber | 6014854 |
Shadows2012 | +29 |
ShadowTint | 0 |
SharpenDetail | 25 |
SharpenEdgeMasking | 0 |
SharpenRadius | +1.0 |
Sharpness (1) | 40 |
Sharpness | Hard |
ShutterSpeed | 1/400 |
ShutterSpeedValue | 1/400 |
Software | Adobe Photoshop Lightroom Classic 11.3.1 (Macintosh) |
SplitToningBalance | 0 |
SplitToningHighlightHue | 0 |
SplitToningHighlightSaturation | 0 |
SplitToningShadowHue | 0 |
SplitToningShadowSaturation | 0 |
SubjectDistanceRange | Unknown |
Texture | 0 |
Tint | +17 |
ToneCurveName2012 | Linear |
ToneCurvePV2012 | 0, 0, 255, 255 |
ToneCurvePV2012Blue | 0, 0, 255, 255 |
ToneCurvePV2012Green | 0, 0, 255, 255 |
ToneCurvePV2012Red | 0, 0, 255, 255 |
Version | 14.3 |
VignetteAmount | 0 |
WhiteBalance (1) | As Shot |
WhiteBalance | Auto |
Whites2012 | 0 |