Felt | Verdi |
AlreadyApplied | True |
Aperture | 11.0 |
ApertureValue | 11.0 |
Artist | Hans Jørgen Lindeløff |
AutoLateralCA | 0 |
BitsPerSample | 8 |
Blacks2012 | -15 |
BlueHue | 0 |
BlueSaturation | 0 |
By-line | Hans Jørgen Lindeløff |
CameraProfile | Embedded |
CircleOfConfusion | 0.030 mm |
Clarity2012 | 0 |
ColorComponents | 3 |
ColorGradeBlending | 50 |
ColorGradeGlobalHue | 0 |
ColorGradeGlobalLum | 0 |
ColorGradeGlobalSat | 0 |
ColorGradeHighlightLum | 0 |
ColorGradeMidtoneHue | 0 |
ColorGradeMidtoneLum | 0 |
ColorGradeMidtoneSat | 0 |
ColorGradeShadowLum | 0 |
ColorNoiseReduction | 21 |
ColorNoiseReductionDetail | 50 |
ColorNoiseReductionSmoothness | 50 |
ColorSpace (1) | Uncalibrated |
ColorSpace | sRGB |
ColorTransform | YCbCr |
CompatibleVersion | 234881024 |
Contrast | Normal |
Contrast2012 | +6 |
ConvertToGrayscale | False |
Copyright | © Hans Jørgen Lindeløff 2022 |
CopyrightFlag | True |
CopyrightNotice | © Hans Jørgen Lindeløff 2022 |
CreateDate (1) | 2022:04:27 20:59:29.00+02:00 |
CreateDate | 2022:04:27 20:59:29 |
Creator | Hans Jørgen Lindeløff |
CreatorAddress | Bjørnevågveien 8 |
CreatorCity | Kråkerøy |
CreatorCountry | Norway |
CreatorPostalCode | 1676 |
CreatorTool | Adobe Photoshop Lightroom Classic 11.3.1 (Macintosh) |
CreatorWorkEmail | lundeli@mac.com |
CreatorWorkTelephone | +47 92049534 |
CreatorWorkURL | lundeliphoto.no |
CropAngle | 0 |
CropBottom | 0.845428 |
CropConstrainToWarp | 1 |
CropLeft | 0 |
CropRight | 1 |
CropTop | 0 |
CustomRendered | Custom |
DateCreated (1) | 2018:01:02 |
DateCreated | 2018:01:02 14:49:07.571 |
DateTimeOriginal | 2022:04:27 20:59:29 |
DefringeGreenAmount | 0 |
DefringeGreenHueHi | 60 |
DefringeGreenHueLo | 40 |
DefringePurpleAmount | 0 |
DefringePurpleHueHi | 70 |
DefringePurpleHueLo | 30 |
Dehaze | 0 |
DistortionCorrectionAlreadyApplied | True |
Exposure2012 | -0.70 |
ExposureCompensation | 0 |
ExposureMode | Manual |
ExposureProgram | Manual |
ExposureTime | 99 |
Flash | No Flash |
FNumber | 11.0 |
FocalLength | 24.0 mm |
FocalLength35efl | 24.0 mm (35 mm equivalent: 24.0 mm) |
FocalLengthIn35mmFormat | 24 mm |
Format | image/jpeg |
FOV | 73.7 deg |
GainControl | None |
GrainAmount | 0 |
GreenHue | 0 |
GreenSaturation | 0 |
HasCrop | True |
HasExtendedXMP | E7C426FA872AC2777AD571E5BC01F6F3 |
HasSettings | True |
Highlights2012 | 0 |
HueAdjustmentAqua | 0 |
HueAdjustmentBlue | 0 |
HueAdjustmentGreen | 0 |
HueAdjustmentMagenta | 0 |
HueAdjustmentOrange | 0 |
HueAdjustmentPurple | 0 |
HueAdjustmentRed | 0 |
HueAdjustmentYellow | 0 |
HyperfocalDistance | 1.74 m |
ImageHeight | 1152 |
ImageNumber | 2381 |
ImageSize | 2048x1152 |
ImageWidth | 2048 |
IncrementalTemperature | 0 |
IncrementalTint | 0 |
ISO | 80 |
Keywords | Gate, blomster, lang lukkertid, oslo, rosa, trær, tøyen |
LateralChromaticAberrationCorrectionAlreadyApplied | True |
Lens | NIKKOR Z 24-70mm f/4 S |
LensInfo (2) | 24 |
LensInfo | 24-70mm f/4 |
LensMake | NIKON |
LensManualDistortionAmount | 0 |
LensModel | NIKKOR Z 24-70mm f/4 S |
LensProfileEnable | 0 |
LensSerialNumber | 20305630 |
LightSource | Unknown |
LightValue | 0.6 |
LuminanceAdjustmentAqua | 0 |
LuminanceAdjustmentBlue | 0 |
LuminanceAdjustmentGreen | 0 |
LuminanceAdjustmentMagenta | 0 |
LuminanceAdjustmentOrange | 0 |
LuminanceAdjustmentPurple | 0 |
LuminanceAdjustmentRed | 0 |
LuminanceAdjustmentYellow | 0 |
LuminanceNoiseReductionContrast | 0 |
LuminanceNoiseReductionDetail | 50 |
LuminanceSmoothing | 22 |
Make | NIKON CORPORATION |
Marked | True |
Megapixels | 2.4 |
MeteringMode | Multi-segment |
Model | NIKON Z 6_2 |
ModifyDate (1) | 2022:05:02 03:07:17+02:00 |
ModifyDate | 2022:05:02 03:07:17 |
OverrideLookVignette | False |
ParametricDarks | 0 |
ParametricHighlights | 0 |
ParametricHighlightSplit | 75 |
ParametricLights | 0 |
ParametricMidtoneSplit | 50 |
ParametricShadows | 0 |
ParametricShadowSplit | 25 |
PerspectiveAspect | 0 |
PerspectiveHorizontal | 0 |
PerspectiveRotate | 0.0 |
PerspectiveScale | 100 |
PerspectiveUpright | 0 |
PerspectiveVertical | 0 |
PerspectiveX | 0.00 |
PerspectiveY | 0.00 |
PostCropVignetteAmount | 0 |
PreservedFileName | _Z622404.NEF |
ProcessVersion | 11.0 |
ProfileDescription | sRGB IEC61966-2.1 |
RangeMaskMapInfoRangeMaskMapInfoLabMax | 0.974105 0.715160 0.687602 |
RangeMaskMapInfoRangeMaskMapInfoLabMin | 0.000000 0.426169 0.387854 |
RangeMaskMapInfoRangeMaskMapInfoRGBMax | 0.377569 0.344274 0.399634 |
RangeMaskMapInfoRangeMaskMapInfoRGBMin | 0.000000 0.000000 0.000000 |
Rating | 5 |
RawFileName | |
RedHue | 0 |
RedSaturation | 0 |
Rights | © Hans Jørgen Lindeløff 2022 |
Saturation (1) | +2 |
Saturation | Normal |
SaturationAdjustmentAqua | 0 |
SaturationAdjustmentBlue | 0 |
SaturationAdjustmentGreen | 0 |
SaturationAdjustmentMagenta | 0 |
SaturationAdjustmentOrange | 0 |
SaturationAdjustmentPurple | 0 |
SaturationAdjustmentRed | 0 |
SaturationAdjustmentYellow | 0 |
ScaleFactor35efl | 1.0 |
SceneCaptureType | Landscape |
SceneType | Directly photographed |
SensingMethod | One-chip color area |
SensitivityType | Recommended Exposure Index |
SerialNumber | 6044707 |
Shadows2012 | +94 |
ShadowTint | 0 |
SharpenDetail | 25 |
SharpenEdgeMasking | 56 |
SharpenRadius | +1.0 |
Sharpness (1) | 59 |
Sharpness | Normal |
ShutterSpeed | 99 |
ShutterSpeedValue | 99 |
Software | Adobe Photoshop Lightroom Classic 11.3.1 (Macintosh) |
SplitToningBalance | 0 |
SplitToningHighlightHue | 0 |
SplitToningHighlightSaturation | 0 |
SplitToningShadowHue | 0 |
SplitToningShadowSaturation | 0 |
Subject | Gate, blomster, lang lukkertid, oslo, rosa, trær, tøyen |
SubjectDistanceRange | Unknown |
Texture | 0 |
ToneCurveName2012 | Custom |
ToneCurvePV2012 | 0, 0, 48, 43, 129, 140, 255, 255 |
ToneCurvePV2012Blue | 0, 0, 255, 255 |
ToneCurvePV2012Green | 0, 0, 255, 255 |
ToneCurvePV2012Red | 0, 0, 255, 255 |
Transformation | Perspective |
UsageTerms | All rights reserved |
Version | 14.3 |
Vibrance | +13 |
VignetteAmount | 0 |
VignetteCorrectionAlreadyApplied | True |
VirtualFocalLength | 0.666667 |
VirtualImageXCenter | 0.500000 |
VirtualImageYCenter | 0.332672 |
WeightedFlatSubject | oslo, tøyen, lang lukkertid, rosa, blomster, trær, Gate |
WhiteBalance (1) | As Shot |
WhiteBalance | Auto |
Whites2012 | +38 |