Felt | Verdi |
AlreadyApplied | True |
Aperture | 29.0 |
ApertureValue | 29.0 |
ApproximateFocusDistance | 4294967295 |
AutoLateralCA | 1 |
BitsPerSample | 8 |
Blacks2012 | -5 |
BlueHue | +11 |
BlueSaturation | -13 |
CameraProfile | Embedded |
CircleOfConfusion | 0.030 mm |
Clarity2012 | +18 |
ColorComponents | 3 |
ColorGradeBlending | 50 |
ColorGradeGlobalHue | 0 |
ColorGradeGlobalLum | 0 |
ColorGradeGlobalSat | 0 |
ColorGradeHighlightLum | 0 |
ColorGradeMidtoneHue | 0 |
ColorGradeMidtoneLum | 0 |
ColorGradeMidtoneSat | 0 |
ColorGradeShadowLum | 0 |
ColorNoiseReduction | 20 |
ColorNoiseReductionDetail | 75 |
ColorNoiseReductionSmoothness | 75 |
ColorSpace | sRGB |
ColorTransform | YCbCr |
CompatibleVersion | 234881024 |
Contrast2012 | +71 |
CreateDate (1) | 2021:10:31 14:01:01.27+01:00 |
CreateDate | 2021:10:31 14:01:01 |
CreatorTool | Adobe Photoshop Lightroom Classic 11.0 (Macintosh) |
CropAngle | -2.25436 |
CropBottom | 0.944241 |
CropConstrainToWarp | 0 |
CropLeft | 0.02495 |
CropRight | 0.994011 |
CropTop | 0.055759 |
CustomRendered | Normal |
DateCreated (1) | 2021:10:31 |
DateCreated | 2021:10:31 14:01:01.27+01:00 |
DateTimeOriginal | 2021:10:31 14:01:01 |
DefringeGreenAmount | 0 |
DefringeGreenHueHi | 60 |
DefringeGreenHueLo | 40 |
DefringePurpleAmount | 0 |
DefringePurpleHueHi | 70 |
DefringePurpleHueLo | 30 |
Dehaze | +12 |
DOF | inf (66.31 m - inf) |
Exposure2012 | +0.45 |
ExposureCompensation | 0 |
ExposureMode | Manual |
ExposureProgram | Manual |
ExposureTime | 1/5 |
Firmware | 1.4.0 |
Flash | No Flash |
FlashCompensation | 0 |
FNumber | 29.0 |
FocalLength | 240.0 mm |
FocalLength35efl | 240.0 mm (35 mm equivalent: 240.7 mm) |
Format | image/jpeg |
FOV | 8.6 deg |
GrainAmount | 0 |
GrainFrequency | 21 |
GrainSize | 17 |
GreenHue | 0 |
GreenSaturation | 0 |
HasCrop | True |
HasSettings | True |
Highlights2012 | -80 |
HueAdjustmentAqua | 0 |
HueAdjustmentBlue | 0 |
HueAdjustmentGreen | +67 |
HueAdjustmentMagenta | 0 |
HueAdjustmentOrange | -6 |
HueAdjustmentPurple | 0 |
HueAdjustmentRed | +17 |
HueAdjustmentYellow | -27 |
HyperfocalDistance | 66.31 m |
ImageHeight | 5171 |
ImageNumber | 0 |
ImageSize | 3447x5171 |
ImageWidth | 3447 |
IncrementalTemperature | 0 |
IncrementalTint | 0 |
ISO | 100 |
LateralChromaticAberrationCorrectionAlreadyApplied | True |
Lens | RF24-240mm F4-6.3 IS USM |
LensID (1) | 61182 |
LensID | Canon RF 24-240mm F4-6.3 IS USM |
LensInfo | 24-240mm f/? |
LensManualDistortionAmount | 0 |
LensModel | RF24-240mm F4-6.3 IS USM |
LensProfileEnable | 0 |
LensSerialNumber | 000000b40e |
LightValue | 12.0 |
LookAmount | 1.39 |
LookCluster | Adobe |
LookGroup | Vintage |
LookName | Vintage 01 |
LookParametersConvertToGrayscale | False |
LookParametersLookTable | E1095149FDB39D7A057BAB208837E2E1 |
LookParametersProcessVersion | 11.0 |
LookParametersRGBTable | D133EC539BB44CE73B8890C50B8D9F9E |
LookParametersRGBTableAmount | 0.5 |
LookParametersVersion | 14.0 |
LookSupportsMonochrome | false |
LuminanceAdjustmentAqua | 0 |
LuminanceAdjustmentBlue | 0 |
LuminanceAdjustmentGreen | -6 |
LuminanceAdjustmentMagenta | 0 |
LuminanceAdjustmentOrange | -17 |
LuminanceAdjustmentPurple | 0 |
LuminanceAdjustmentRed | -14 |
LuminanceAdjustmentYellow | 0 |
LuminanceSmoothing | 0 |
Make | Canon |
MaxApertureValue | 6.4 |
Megapixels | 17.8 |
MeteringMode | Multi-segment |
Model | Canon EOS R6 |
ModifyDate (1) | 2021:11:01 22:38:36+01:00 |
ModifyDate | 2021:11:01 22:38:36 |
OverrideLookVignette | True |
ParametricDarks | +27 |
ParametricHighlights | +36 |
ParametricHighlightSplit | 84 |
ParametricLights | -14 |
ParametricMidtoneSplit | 45 |
ParametricShadows | -50 |
ParametricShadowSplit | 19 |
PerspectiveAspect | 0 |
PerspectiveHorizontal | 0 |
PerspectiveRotate | 0.0 |
PerspectiveScale | 100 |
PerspectiveUpright | 0 |
PerspectiveVertical | 0 |
PerspectiveX | 0.00 |
PerspectiveY | 0.00 |
PostCropVignetteAmount | -7 |
PostCropVignetteFeather | 75 |
PostCropVignetteHighlightContrast | 0 |
PostCropVignetteMidpoint | 65 |
PostCropVignetteRoundness | 0 |
PostCropVignetteStyle | 1 |
PreservedFileName | 5R4A0162.JPG |
ProcessVersion | 11.0 |
ProfileDescription | sRGB IEC61966-2.1 |
RangeMaskMapInfoRangeMaskMapInfoLabMax | 0.999954 0.539055 0.615778 |
RangeMaskMapInfoRangeMaskMapInfoLabMin | 0.000824 0.455863 0.467491 |
RangeMaskMapInfoRangeMaskMapInfoRGBMax | 0.280232 0.278721 0.338933 |
RangeMaskMapInfoRangeMaskMapInfoRGBMin | 0.002365 0.002457 0.002502 |
RawFileName | |
RecommendedExposureIndex | 100 |
RedHue | -24 |
RedSaturation | +3 |
Saturation | +10 |
SaturationAdjustmentAqua | -50 |
SaturationAdjustmentBlue | -50 |
SaturationAdjustmentGreen | -40 |
SaturationAdjustmentMagenta | -50 |
SaturationAdjustmentOrange | +53 |
SaturationAdjustmentPurple | -50 |
SaturationAdjustmentRed | +46 |
SaturationAdjustmentYellow | -50 |
ScaleFactor35efl | 1.0 |
SceneCaptureType | Standard |
SensitivityType | Recommended Exposure Index |
SerialNumber | 153026002074 |
Shadows2012 | +4 |
ShadowTint | -11 |
SharpenDetail | 40 |
SharpenEdgeMasking | 78 |
SharpenRadius | +2.2 |
Sharpness | 50 |
ShutterSpeed | 1/5 |
ShutterSpeedValue | 1/5 |
Software | Adobe Photoshop Lightroom Classic 11.0 (Macintosh) |
SplitToningBalance | 0 |
SplitToningHighlightHue | 0 |
SplitToningHighlightSaturation | 0 |
SplitToningShadowHue | 0 |
SplitToningShadowSaturation | 0 |
Texture | +15 |
ToneCurveName2012 | Custom |
ToneCurvePV2012 | 0, 31, 18, 30, 36, 39, 61, 55, 123, 112, 190, 188, 214, 217, 255, 251 |
ToneCurvePV2012Blue | 0, 0, 255, 255 |
ToneCurvePV2012Green | 0, 0, 255, 255 |
ToneCurvePV2012Red | 0, 0, 255, 255 |
Version | 14.0 |
Vibrance | -60 |
VignetteAmount | 0 |
WhiteBalance (1) | As Shot |
WhiteBalance | Auto |
Whites2012 | +19 |