Felt | Verdi |
AlreadyApplied | True |
Aperture | 1.6 |
ApertureValue | 1.6 |
Artist | Hans Jørgen Lindeløff |
AutoLateralCA | 1 |
BitsPerSample | 8 |
Blacks2012 | -10 |
BlueHue | 0 |
BlueSaturation | 0 |
BrightnessValue | 0.1090353805 |
By-line | Hans Jørgen Lindeløff |
CameraProfile | Apple Embedded Color Profile |
CircGradBasedCorrActive | true |
CircGradBasedCorrAmount | 1.000000 |
CircGradBasedCorrBrightness | 0.000000 |
CircGradBasedCorrClarity2012 | 0.000000 |
CircGradBasedCorrContrast2012 | 0.000000 |
CircGradBasedCorrCorrectionRangeMaskColorAmount | 0.500000 |
CircGradBasedCorrCorrectionRangeMaskDepthFeather | 0.500000 |
CircGradBasedCorrCorrectionRangeMaskDepthMax | 1.000000 |
CircGradBasedCorrCorrectionRangeMaskDepthMin | 0.000000 |
CircGradBasedCorrCorrectionRangeMaskLumFeather | 0.500000 |
CircGradBasedCorrCorrectionRangeMaskLumMax (3) | 0.743451 |
CircGradBasedCorrCorrectionRangeMaskLumMax | 1.000000 |
CircGradBasedCorrCorrectionRangeMaskLumMin | 0.000000 |
CircGradBasedCorrCorrectionRangeMaskType (3) | +2 |
CircGradBasedCorrCorrectionRangeMaskType | 0 |
CircGradBasedCorrCorrectionRangeMaskVersion | +2 |
CircGradBasedCorrDefringe | 0.000000 |
CircGradBasedCorrExposure2012 (1) | 0.326980 |
CircGradBasedCorrExposure2012 (3) | 0.329208 |
CircGradBasedCorrExposure2012 (4) | 0.426773 |
CircGradBasedCorrExposure2012 (5) | 0.189843 |
CircGradBasedCorrExposure2012 | 0.000000 |
CircGradBasedCorrHighlights2012 (1) | -0.402687 |
CircGradBasedCorrHighlights2012 (5) | -0.188450 |
CircGradBasedCorrHighlights2012 (6) | -0.367504 |
CircGradBasedCorrHighlights2012 | 0.033875 |
CircGradBasedCorrHue | 240.000000 |
CircGradBasedCorrLocalBlacks2012 (6) | 0.000000 |
CircGradBasedCorrLocalBlacks2012 | -0.147117 |
CircGradBasedCorrLocalDehaze | 0.000000 |
CircGradBasedCorrLocalHue | 0.000000 |
CircGradBasedCorrLocalTexture (6) | 0.000000 |
CircGradBasedCorrLocalTexture | 0.125698 |
CircGradBasedCorrLocalWhites2012 (6) | 0.163585 |
CircGradBasedCorrLocalWhites2012 | 0.230232 |
CircGradBasedCorrLuminanceNoise | 0.000000 |
CircGradBasedCorrMaskAngle (1) | -6.577140 |
CircGradBasedCorrMaskAngle (2) | -10.393200 |
CircGradBasedCorrMaskAngle | 0.000000 |
CircGradBasedCorrMaskBottom (1) | 0.652788 |
CircGradBasedCorrMaskBottom (2) | 0.553417 |
CircGradBasedCorrMaskBottom (3) | 0.656102 |
CircGradBasedCorrMaskBottom (4) | 0.772111 |
CircGradBasedCorrMaskBottom (5) | 0.868043 |
CircGradBasedCorrMaskBottom (6) | 0.570485 |
CircGradBasedCorrMaskBottom | 0.591906 |
CircGradBasedCorrMaskFeather | +100 |
CircGradBasedCorrMaskFlipped | true |
CircGradBasedCorrMaskLeft (1) | 0.229843 |
CircGradBasedCorrMaskLeft (2) | 0.451255 |
CircGradBasedCorrMaskLeft (3) | 0.678442 |
CircGradBasedCorrMaskLeft (4) | -0.065318 |
CircGradBasedCorrMaskLeft (5) | 0.649279 |
CircGradBasedCorrMaskLeft (6) | 0.562886 |
CircGradBasedCorrMaskLeft | 0.469532 |
CircGradBasedCorrMaskMidpoint | +50 |
CircGradBasedCorrMaskRight (1) | 0.651369 |
CircGradBasedCorrMaskRight (2) | 0.722535 |
CircGradBasedCorrMaskRight (3) | 1.046390 |
CircGradBasedCorrMaskRight (4) | 0.284453 |
CircGradBasedCorrMaskRight (5) | 1.013790 |
CircGradBasedCorrMaskRight (6) | 0.803820 |
CircGradBasedCorrMaskRight | 0.813620 |
CircGradBasedCorrMaskRoundness | 0 |
CircGradBasedCorrMaskTop (1) | 0.491619 |
CircGradBasedCorrMaskTop (2) | 0.512855 |
CircGradBasedCorrMaskTop (3) | 0.369468 |
CircGradBasedCorrMaskTop (4) | 0.202005 |
CircGradBasedCorrMaskTop (5) | 0.522073 |
CircGradBasedCorrMaskTop (6) | 0.436604 |
CircGradBasedCorrMaskTop | 0.335952 |
CircGradBasedCorrMaskValue | 1.000000 |
CircGradBasedCorrMaskVersion | +2 |
CircGradBasedCorrMaskWhat | Mask/CircularGradient |
CircGradBasedCorrMoire | 0.000000 |
CircGradBasedCorrSaturation | 0.000000 |
CircGradBasedCorrShadows2012 (1) | 0.358238 |
CircGradBasedCorrShadows2012 (3) | 0.000000 |
CircGradBasedCorrShadows2012 | 0.489167 |
CircGradBasedCorrSharpness | 0.000000 |
CircGradBasedCorrTemperature (1) | 0.070640 |
CircGradBasedCorrTemperature (2) | 0.090764 |
CircGradBasedCorrTemperature (3) | -0.062229 |
CircGradBasedCorrTemperature (4) | 0.218079 |
CircGradBasedCorrTemperature | 0.147639 |
CircGradBasedCorrTint (1) | 0.249227 |
CircGradBasedCorrTint (3) | 0.000000 |
CircGradBasedCorrTint (4) | 0.034762 |
CircGradBasedCorrTint (6) | 0.194816 |
CircGradBasedCorrTint | 0.277309 |
CircGradBasedCorrWhat | Correction |
CircleOfConfusion | 0.006 mm |
City | Vesterøy |
Clarity2012 | +8 |
ColorComponents | 3 |
ColorGradeBlending | 50 |
ColorGradeGlobalHue | 0 |
ColorGradeGlobalLum | 0 |
ColorGradeGlobalSat | 0 |
ColorGradeHighlightLum | 0 |
ColorGradeMidtoneHue | 0 |
ColorGradeMidtoneLum | 0 |
ColorGradeMidtoneSat | 0 |
ColorGradeShadowLum | 0 |
ColorNoiseReduction | 25 |
ColorNoiseReductionDetail | 50 |
ColorNoiseReductionSmoothness | 50 |
ColorSpace | sRGB |
ColorTemperature | 6008 |
ColorTransform | YCbCr |
Contrast2012 | 0 |
Copyright | © Hans Jørgen Lindeløff 2020 |
CopyrightFlag | True |
CopyrightNotice | © Hans Jørgen Lindeløff 2020 |
Country | Norway |
Country-PrimaryLocationCode | NO |
Country-PrimaryLocationName | Norway |
CountryCode | NO |
CreateDate (1) | 2020:11:24 16:02:23.534+01:00 |
CreateDate | 2020:11:24 16:02:23 |
Creator | Hans Jørgen Lindeløff |
CreatorAddress | Bjørnevågveien 8 |
CreatorCity | Kråkerøy |
CreatorCountry | Norway |
CreatorPostalCode | 1676 |
CreatorTool | Adobe Photoshop Lightroom Classic 10.0 (Macintosh) |
CreatorWorkEmail | lundeli@mac.com |
CreatorWorkTelephone | +47 92049534 |
CreatorWorkURL | lundeliphoto.no |
CropAngle | 0 |
CropBottom | 0.856134 |
CropConstrainToWarp | 1 |
CropLeft | 0.002219 |
CropRight | 0.997728 |
CropTop | 0.109503 |
DateCreated (1) | 2018:01:02 |
DateCreated | 2018:01:02 14:49:07.571 |
DateTimeOriginal | 2020:11:24 16:02:23 |
DefringeGreenAmount | 0 |
DefringeGreenHueHi | 60 |
DefringeGreenHueLo | 40 |
DefringePurpleAmount | 0 |
DefringePurpleHueHi | 70 |
DefringePurpleHueLo | 30 |
Dehaze | 0 |
DistortionCorrectionAlreadyApplied | True |
Exposure2012 | 0.00 |
ExposureCompensation | -1.17 |
ExposureMode | Auto |
ExposureProgram | Program AE |
ExposureTime | 1/50 |
Flash | Off, Did not fire |
FNumber | 1.6 |
FocalLength | 5.1 mm |
FocalLength35efl | 5.1 mm (35 mm equivalent: 26.0 mm) |
FocalLengthIn35mmFormat | 26 mm |
Format | image/jpeg |
FOV | 69.4 deg |
GPSAltitude | 3.3 m |
GPSDestBearing | 204.7592544 |
GPSDestBearingRef | Magnetic North |
GPSHPositioningError | 4.747152705 m |
GPSImgDirection | 204.7592544 |
GPSImgDirectionRef | Magnetic North |
GPSLatitude (1) | 59 deg 4' 43.01" |
GPSLatitude | 59 deg 4' 43.01" N |
GPSLatitudeRef | North |
GPSLongitude (1) | 10 deg 52' 21.55" |
GPSLongitude | 10 deg 52' 21.55" E |
GPSLongitudeRef | East |
GPSPosition | 59 deg 4' 43.01" N, 10 deg 52' 21.55" E |
GPSSpeed | 0 |
GPSSpeedRef | km/h |
GPSVersionID | 2.2.0.0 |
GrainAmount | 0 |
GreenHue | 0 |
GreenSaturation | 0 |
HasCrop | True |
HasSettings | True |
Highlights2012 | -46 |
HueAdjustmentAqua | 0 |
HueAdjustmentBlue | 0 |
HueAdjustmentGreen | 0 |
HueAdjustmentMagenta | 0 |
HueAdjustmentOrange | 0 |
HueAdjustmentPurple | 0 |
HueAdjustmentRed | 0 |
HueAdjustmentYellow | 0 |
HyperfocalDistance | 2.76 m |
ImageHeight | 1152 |
ImageSize | 2048x1152 |
ImageWidth | 2048 |
ISO | 250 |
Keywords | Hvaler, Utgårdskilen, night mode |
LateralChromaticAberrationCorrectionAlreadyApplied | True |
Lens | iPhone 12 Pro Max back triple camera 5.1mm f/1.6 |
LensInfo (1) | 1.53999996185121-7.5mm f/1.6-2.4 |
LensInfo | 1.539999962-7.5mm f/1.6-2.4 |
LensMake | Apple |
LensManualDistortionAmount | 0 |
LensModel | iPhone 12 Pro Max back triple camera 5.1mm f/1.6 |
LensProfileDistortionScale | 100 |
LensProfileEnable | 1 |
LensProfileFilename | Apple iPhone (Apple iPhone 11 Pro Max back camera 4.25mm f1.8) - RAW.lcp |
LensProfileIsEmbedded | False |
LensProfileName | Adobe (Apple iPhone 11 Pro Max back camera 4.25mm f/1.8) |
LensProfileSetup | Custom |
LensProfileVignettingScale | 100 |
LightValue | 5.7 |
LookAmount | 1.000000 |
LookGroup | Profiles |
LookName | Adobe Landscape |
LookParametersCameraProfile | Adobe Standard |
LookParametersClarity2012 | +10 |
LookParametersConvertToGrayscale | False |
LookParametersHighlights2012 | -12 |
LookParametersLookTable | 0B3BFB5CFB7DBF7FF175E98F24D316B0 |
LookParametersProcessVersion | 11.0 |
LookParametersShadows2012 | +12 |
LookParametersToneCurvePV2012 | 0, 0, 64, 60, 128, 128, 192, 196, 255, 255 |
LookParametersVersion | 13.0 |
LookSupportsAmount | false |
LookSupportsMonochrome | false |
LookSupportsOutputReferred | false |
LuminanceAdjustmentAqua | 0 |
LuminanceAdjustmentBlue | 0 |
LuminanceAdjustmentGreen | 0 |
LuminanceAdjustmentMagenta | 0 |
LuminanceAdjustmentOrange | 0 |
LuminanceAdjustmentPurple | 0 |
LuminanceAdjustmentRed | 0 |
LuminanceAdjustmentYellow | 0 |
LuminanceNoiseReductionContrast | 0 |
LuminanceNoiseReductionDetail | 50 |
LuminanceSmoothing | 25 |
Make | Apple |
Marked | True |
Megapixels | 2.4 |
MeteringMode | Spot |
MissingCameraProfile | Adobe Standard |
Model | iPhone 12 Pro Max |
ModifyDate (1) | 2020:11:30 02:32:53+01:00 |
ModifyDate | 2020:11:30 02:32:53 |
OverrideLookVignette | False |
PaintCorrectionActive | true |
PaintCorrectionAmount | 1.000000 |
PaintCorrectionBrightness | 0.000000 |
PaintCorrectionClarity2012 | 0.000000 |
PaintCorrectionContrast2012 | 0.000000 |
PaintCorrectionCorrectionRangeMaskColorAmount | 0.500000 |
PaintCorrectionCorrectionRangeMaskDepthFeather | 0.500000 |
PaintCorrectionCorrectionRangeMaskDepthMax | 1.000000 |
PaintCorrectionCorrectionRangeMaskDepthMin | 0.000000 |
PaintCorrectionCorrectionRangeMaskLumFeather | 0.500000 |
PaintCorrectionCorrectionRangeMaskLumMax | 1.000000 |
PaintCorrectionCorrectionRangeMaskLumMin | 0.000000 |
PaintCorrectionCorrectionRangeMaskType | 0 |
PaintCorrectionCorrectionRangeMaskVersion | +2 |
PaintCorrectionDefringe | 0.000000 |
PaintCorrectionExposure2012 | 0.020065 |
PaintCorrectionHighlights2012 | -0.606177 |
PaintCorrectionHue | 240.000000 |
PaintCorrectionLocalBlacks2012 | 0.000000 |
PaintCorrectionLocalDehaze | 0.000000 |
PaintCorrectionLocalHue | 0.000000 |
PaintCorrectionLocalTexture | 0.000000 |
PaintCorrectionLocalWhites2012 | 0.000000 |
PaintCorrectionLuminanceNoise | 0.000000 |
PaintCorrectionMaskCenterWeight | 0.031330 |
PaintCorrectionMaskFlow | 0.635949 |
PaintCorrectionMaskRadius | 0.015884 |
PaintCorrectionMaskValue | 0.480732 |
PaintCorrectionMaskWhat | Mask/Paint |
PaintCorrectionMoire | 0.000000 |
PaintCorrectionSaturation | 0.000000 |
PaintCorrectionShadows2012 | 0.000000 |
PaintCorrectionSharpness | 0.000000 |
PaintCorrectionTemperature | 0.000000 |
PaintCorrectionTint | 0.000000 |
PaintCorrectionWhat | Correction |
ParametricDarks | 0 |
ParametricHighlights | 0 |
ParametricHighlightSplit | 75 |
ParametricLights | 0 |
ParametricMidtoneSplit | 50 |
ParametricShadows | 0 |
ParametricShadowSplit | 25 |
PerspectiveAspect | 0 |
PerspectiveHorizontal | 0 |
PerspectiveRotate | 0.0 |
PerspectiveScale | 100 |
PerspectiveUpright | 0 |
PerspectiveVertical | -3 |
PerspectiveX | 0.00 |
PerspectiveY | 0.00 |
PostCropVignetteAmount | 0 |
PreservedFileName | IMG_0174.DNG |
ProcessVersion | 11.0 |
ProfileDescription | sRGB IEC61966-2.1 |
Province-State | Viken |
RangeMaskMapInfoRangeMaskMapInfoLabMax | 0.999985 0.597177 0.558526 |
RangeMaskMapInfoRangeMaskMapInfoLabMin | 0.000549 0.484031 0.430304 |
RangeMaskMapInfoRangeMaskMapInfoRGBMax | 0.383673 0.378637 0.334173 |
RangeMaskMapInfoRangeMaskMapInfoRGBMin | 0.000290 0.000229 0.000214 |
Rating | 5 |
RawFileName | |
RedHue | 0 |
RedSaturation | 0 |
Rights | © Hans Jørgen Lindeløff 2020 |
Saturation | +7 |
SaturationAdjustmentAqua | 0 |
SaturationAdjustmentBlue | 0 |
SaturationAdjustmentGreen | 0 |
SaturationAdjustmentMagenta | 0 |
SaturationAdjustmentOrange | 0 |
SaturationAdjustmentPurple | 0 |
SaturationAdjustmentRed | 0 |
SaturationAdjustmentYellow | 0 |
ScaleFactor35efl | 5.1 |
SceneType | Directly photographed |
SensingMethod | One-chip color area |
Shadows2012 | +100 |
ShadowTint | 0 |
SharpenDetail | 24 |
SharpenEdgeMasking | 51 |
SharpenRadius | +1.4 |
Sharpness | 50 |
ShutterSpeed | 1/50 |
ShutterSpeedValue | 1/50 |
Software | Adobe Photoshop Lightroom Classic 10.0 (Macintosh) |
SplitToningBalance | 0 |
SplitToningHighlightHue | 0 |
SplitToningHighlightSaturation | 0 |
SplitToningShadowHue | 0 |
SplitToningShadowSaturation | 0 |
State | Viken |
Subject | Hvaler, Utgårdskilen, night mode |
SubjectArea | 1757 1532 751 749 |
Texture | 0 |
Tint | +20 |
ToneCurveName2012 | Custom |
ToneCurvePV2012 | 0, 0, 81, 72, 158, 166, 255, 255 |
ToneCurvePV2012Blue | 0, 0, 255, 255 |
ToneCurvePV2012Green | 0, 0, 255, 255 |
ToneCurvePV2012Red | 0, 0, 255, 255 |
UsageTerms | All rights reserved |
Version | 13.0 |
Vibrance | +21 |
VignetteAmount | 0 |
WhiteBalance (1) | Custom |
WhiteBalance | Auto |
Whites2012 | +15 |