Felt | Verdi |
AlreadyApplied | True |
Aperture | 8.0 |
ApertureValue | 8.0 |
ApproximateFocusDistance | 4294967295 |
Artist | Hans Jørgen Lindeløff |
AutoLateralCA | 1 |
BitsPerSample | 8 |
Blacks2012 | -48 |
BlueHue | 0 |
BlueSaturation | 0 |
By-line | Hans Jørgen Lindeløff |
CameraProfile | Adobe Standard |
CFAPattern | [Red,Green][Green,Blue] |
CircGradBasedCorrActive | true |
CircGradBasedCorrAmount | 1.000000 |
CircGradBasedCorrBrightness | 0.000000 |
CircGradBasedCorrClarity2012 | 0.000000 |
CircGradBasedCorrContrast2012 | 0.000000 |
CircGradBasedCorrCorrectionRangeMaskDepthMax | 1.000000 |
CircGradBasedCorrCorrectionRangeMaskDepthMin | 0.000000 |
CircGradBasedCorrCorrectionRangeMaskLumMax | 0.115790 |
CircGradBasedCorrCorrectionRangeMaskLumMin | 0.000000 |
CircGradBasedCorrCorrectionRangeMaskType (1) | 0 |
CircGradBasedCorrCorrectionRangeMaskType | +2 |
CircGradBasedCorrCorrectionRangeMaskVersion | +2 |
CircGradBasedCorrDefringe | 0.000000 |
CircGradBasedCorrExposure2012 (1) | 0.168010 |
CircGradBasedCorrExposure2012 | 0.103642 |
CircGradBasedCorrHighlights2012 | 0.000000 |
CircGradBasedCorrHue | 240.000000 |
CircGradBasedCorrLocalBlacks2012 (1) | -0.148007 |
CircGradBasedCorrLocalBlacks2012 | -0.125910 |
CircGradBasedCorrLocalDehaze | 0.000000 |
CircGradBasedCorrLocalHue | 0.000000 |
CircGradBasedCorrLocalTexture | 0.000000 |
CircGradBasedCorrLocalWhites2012 (1) | 0.078257 |
CircGradBasedCorrLocalWhites2012 | 0.541525 |
CircGradBasedCorrLuminanceNoise | 0.000000 |
CircGradBasedCorrMaskAngle (1) | 0.000000 |
CircGradBasedCorrMaskAngle | 0.365197 |
CircGradBasedCorrMaskBottom (1) | 0.825833 |
CircGradBasedCorrMaskBottom | 0.597862 |
CircGradBasedCorrMaskCenterWeight | 0.000000 |
CircGradBasedCorrMaskFeather | +100 |
CircGradBasedCorrMaskFlipped | true |
CircGradBasedCorrMaskFlow | 0.616348 |
CircGradBasedCorrMaskLeft (1) | -0.125595 |
CircGradBasedCorrMaskLeft | 0.421869 |
CircGradBasedCorrMaskMidpoint | +50 |
CircGradBasedCorrMaskRadius (1) | 0.015286 |
CircGradBasedCorrMaskRadius (2) | 0.014892 |
CircGradBasedCorrMaskRadius | 0.014868 |
CircGradBasedCorrMaskRight (1) | 1.088210 |
CircGradBasedCorrMaskRight | 0.572789 |
CircGradBasedCorrMaskRoundness | 0 |
CircGradBasedCorrMaskTop (1) | 0.430133 |
CircGradBasedCorrMaskTop | 0.453987 |
CircGradBasedCorrMaskValue (1) | 1.000000 |
CircGradBasedCorrMaskValue | 0.000000 |
CircGradBasedCorrMaskVersion | +2 |
CircGradBasedCorrMaskWhat (3) | Mask/CircularGradient |
CircGradBasedCorrMaskWhat | Mask/Paint |
CircGradBasedCorrMoire | 0.000000 |
CircGradBasedCorrSaturation | 0.000000 |
CircGradBasedCorrShadows2012 (1) | 1.000000 |
CircGradBasedCorrShadows2012 | -0.237918 |
CircGradBasedCorrSharpness | 0.000000 |
CircGradBasedCorrTemperature (1) | 0.243011 |
CircGradBasedCorrTemperature | 0.000000 |
CircGradBasedCorrTint (1) | 0.121923 |
CircGradBasedCorrTint | 0.000000 |
CircGradBasedCorrWhat | Correction |
CircleOfConfusion | 0.030 mm |
Clarity2012 | 0 |
ColorComponents | 3 |
ColorGradeBlending | 50 |
ColorGradeGlobalHue | 0 |
ColorGradeGlobalLum | 0 |
ColorGradeGlobalSat | 0 |
ColorGradeHighlightLum | 0 |
ColorGradeMidtoneHue | 0 |
ColorGradeMidtoneLum | 0 |
ColorGradeMidtoneSat | 0 |
ColorGradeShadowLum | 0 |
ColorNoiseReduction | 25 |
ColorNoiseReductionDetail | 50 |
ColorNoiseReductionSmoothness | 50 |
ColorSpace | sRGB |
ColorTemperature | 7375 |
ColorTransform | YCbCr |
Contrast | Normal |
Contrast2012 | -4 |
Copyright | © Hans Jørgen Lindeløff 2020 |
CopyrightFlag | True |
CopyrightNotice | © Hans Jørgen Lindeløff 2020 |
CreateDate (1) | 2020:11:11 13:43:11.23 |
CreateDate | 2020:11:11 13:43:11 |
Creator | Hans Jørgen Lindeløff |
CreatorAddress | Bjørnevågveien 8 |
CreatorCity | Kråkerøy |
CreatorCountry | Norway |
CreatorPostalCode | 1676 |
CreatorWorkEmail | lundeli@mac.com |
CreatorWorkTelephone | +47 92049534 |
CreatorWorkURL | lundeliphoto.no |
CropAngle | 0.554922 |
CropBottom | 0.947762 |
CropConstrainToWarp | 1 |
CropLeft | 0.056297 |
CropRight | 0.96055 |
CropTop | 0.168446 |
CustomRendered | Normal |
DateCreated (1) | 2018:01:02 |
DateCreated | 2018:01:02 14:49:07.571 |
DateTimeOriginal | 2020:11:11 13:43:11 |
DefringeGreenAmount | 0 |
DefringeGreenHueHi | 60 |
DefringeGreenHueLo | 40 |
DefringePurpleAmount | 0 |
DefringePurpleHueHi | 70 |
DefringePurpleHueLo | 30 |
Dehaze | 0 |
DigitalZoomRatio | 1 |
DistortionCorrectionAlreadyApplied | True |
DOF | inf (9.59 m - inf) |
Exposure2012 | +1.35 |
ExposureCompensation | 0 |
ExposureMode | Manual |
ExposureProgram | Manual |
ExposureTime | 1/60 |
Flash | Off, Did not fire |
FNumber | 8.0 |
FocalLength | 48.0 mm |
FocalLength35efl | 48.0 mm (35 mm equivalent: 48.0 mm) |
FocalLengthIn35mmFormat | 48 mm |
Format | image/jpeg |
FOV | 41.1 deg |
GainControl | None |
GradientBasedCorrActive | true |
GradientBasedCorrAmount | 1.000000 |
GradientBasedCorrBrightness | 0.000000 |
GradientBasedCorrClarity2012 | 0.000000 |
GradientBasedCorrContrast2012 | 0.000000 |
GradientBasedCorrCorrectionRangeMaskDepthMax | 1.000000 |
GradientBasedCorrCorrectionRangeMaskDepthMin | 0.000000 |
GradientBasedCorrCorrectionRangeMaskLumMax | 1.000000 |
GradientBasedCorrCorrectionRangeMaskLumMin | 0.000000 |
GradientBasedCorrCorrectionRangeMaskType | 0 |
GradientBasedCorrCorrectionRangeMaskVersion | +2 |
GradientBasedCorrDefringe | 0.000000 |
GradientBasedCorrExposure2012 | 0.140517 |
GradientBasedCorrHighlights2012 | 0.000000 |
GradientBasedCorrHue | 240.000000 |
GradientBasedCorrLocalBlacks2012 | 0.000000 |
GradientBasedCorrLocalDehaze | 0.000000 |
GradientBasedCorrLocalHue | 0.000000 |
GradientBasedCorrLocalTexture | 0.000000 |
GradientBasedCorrLocalWhites2012 | 0.000000 |
GradientBasedCorrLuminanceNoise | 0.000000 |
GradientBasedCorrMaskFullX (1) | 0.538917 |
GradientBasedCorrMaskFullX | 0.525077 |
GradientBasedCorrMaskFullY (1) | 0.227260 |
GradientBasedCorrMaskFullY | 0.899846 |
GradientBasedCorrMaskValue | 1.000000 |
GradientBasedCorrMaskWhat | Mask/Gradient |
GradientBasedCorrMaskZeroX (1) | 0.536150 |
GradientBasedCorrMaskZeroX | 0.526176 |
GradientBasedCorrMaskZeroY (1) | 0.458767 |
GradientBasedCorrMaskZeroY | 0.687121 |
GradientBasedCorrMoire | 0.000000 |
GradientBasedCorrSaturation | 0.000000 |
GradientBasedCorrShadows2012 | 0.000000 |
GradientBasedCorrSharpness | 0.000000 |
GradientBasedCorrTemperature | 0.000000 |
GradientBasedCorrTint | 0.000000 |
GradientBasedCorrWhat | Correction |
GrainAmount | 0 |
GreenHue | 0 |
GreenSaturation | 0 |
HasCrop | True |
HasExtendedXMP | C85F1BC8BFC12B39E66CA69758C75CD4 |
HasSettings | True |
Highlights2012 | -68 |
HueAdjustmentAqua | 0 |
HueAdjustmentBlue | 0 |
HueAdjustmentGreen | 0 |
HueAdjustmentMagenta | 0 |
HueAdjustmentOrange | 0 |
HueAdjustmentPurple | 0 |
HueAdjustmentRed | 0 |
HueAdjustmentYellow | 0 |
HyperfocalDistance | 9.59 m |
ImageHeight | 1152 |
ImageNumber | 12591 |
ImageSize | 2048x1152 |
ImageWidth | 2048 |
ISO | 100 |
Keywords | Evenstad kapell, kirke |
Lens | 24.0-70.0 mm f/2.8 |
LensID (1) | 147 |
LensID | AF-S Zoom-Nikkor 24-70mm f/2.8G ED |
LensInfo | 24-70mm f/2.8 |
LensManualDistortionAmount | 0 |
LensModel | 24.0-70.0 mm f/2.8 |
LensProfileDistortionScale | 100 |
LensProfileEnable | 1 |
LensProfileIsEmbedded | False |
LensProfileSetup | LensDefaults |
LensProfileVignettingScale | 100 |
LightSource | Unknown |
LightValue | 11.9 |
LookAmount | 1.000000 |
LookGroup | Profiles |
LookName | Adobe Landscape |
LookParametersCameraProfile | Adobe Standard |
LookParametersClarity2012 | +10 |
LookParametersConvertToGrayscale | False |
LookParametersHighlights2012 | -12 |
LookParametersLookTable | 0B3BFB5CFB7DBF7FF175E98F24D316B0 |
LookParametersProcessVersion | 11.0 |
LookParametersShadows2012 | +12 |
LookParametersToneCurvePV2012 | 0, 0, 64, 60, 128, 128, 192, 196, 255, 255 |
LookParametersVersion | 13.0 |
LookSupportsAmount | false |
LookSupportsMonochrome | false |
LookSupportsOutputReferred | false |
LuminanceAdjustmentAqua | 0 |
LuminanceAdjustmentBlue | 0 |
LuminanceAdjustmentGreen | 0 |
LuminanceAdjustmentMagenta | 0 |
LuminanceAdjustmentOrange | 0 |
LuminanceAdjustmentPurple | 0 |
LuminanceAdjustmentRed | 0 |
LuminanceAdjustmentYellow | 0 |
LuminanceNoiseReductionContrast | 0 |
LuminanceNoiseReductionDetail | 50 |
LuminanceSmoothing | 24 |
Make | NIKON CORPORATION |
Marked | True |
MaxApertureValue | 2.8 |
Megapixels | 2.4 |
MeteringMode | Center-weighted average |
Model | NIKON D750 |
ModifyDate (1) | 2020:11:21 19:27:12+01:00 |
ModifyDate | 2020:11:21 19:27:12 |
OverrideLookVignette | False |
PaintCorrectionActive | true |
PaintCorrectionAmount | 1.000000 |
PaintCorrectionBrightness | 0.000000 |
PaintCorrectionClarity2012 | 0.000000 |
PaintCorrectionContrast2012 | 0.000000 |
PaintCorrectionCorrectionRangeMaskColorAmount | 0.500000 |
PaintCorrectionCorrectionRangeMaskDepthFeather | 0.500000 |
PaintCorrectionCorrectionRangeMaskDepthMax | 1.000000 |
PaintCorrectionCorrectionRangeMaskDepthMin | 0.000000 |
PaintCorrectionCorrectionRangeMaskLumFeather | 0.500000 |
PaintCorrectionCorrectionRangeMaskLumMax | 1.000000 |
PaintCorrectionCorrectionRangeMaskLumMin | 0.000000 |
PaintCorrectionCorrectionRangeMaskType | 0 |
PaintCorrectionCorrectionRangeMaskVersion | +2 |
PaintCorrectionDefringe | 0.000000 |
PaintCorrectionExposure2012 (1) | 0.138734 |
PaintCorrectionExposure2012 (2) | 0.172074 |
PaintCorrectionExposure2012 (3) | 0.205200 |
PaintCorrectionExposure2012 | 0.000000 |
PaintCorrectionHighlights2012 | 0.000000 |
PaintCorrectionHue | 240.000000 |
PaintCorrectionLocalBlacks2012 (2) | -0.097530 |
PaintCorrectionLocalBlacks2012 | 0.000000 |
PaintCorrectionLocalDehaze | 0.000000 |
PaintCorrectionLocalHue | 0.000000 |
PaintCorrectionLocalTexture | 0.000000 |
PaintCorrectionLocalWhites2012 (2) | 0.250484 |
PaintCorrectionLocalWhites2012 | 0.000000 |
PaintCorrectionLuminanceNoise | 0.000000 |
PaintCorrectionMaskCenterWeight | 0.031330 |
PaintCorrectionMaskFlow | 0.635949 |
PaintCorrectionMaskRadius (1) | 0.036951 |
PaintCorrectionMaskRadius (10) | 0.039086 |
PaintCorrectionMaskRadius (11) | 0.039593 |
PaintCorrectionMaskRadius (12) | 0.039929 |
PaintCorrectionMaskRadius (13) | 0.023827 |
PaintCorrectionMaskRadius (14) | 0.023920 |
PaintCorrectionMaskRadius (15) | 0.022920 |
PaintCorrectionMaskRadius (16) | 0.022951 |
PaintCorrectionMaskRadius (17) | 0.022841 |
PaintCorrectionMaskRadius (18) | 0.024070 |
PaintCorrectionMaskRadius (19) | 0.024371 |
PaintCorrectionMaskRadius (2) | 0.036586 |
PaintCorrectionMaskRadius (20) | 0.024551 |
PaintCorrectionMaskRadius (21) | 0.023038 |
PaintCorrectionMaskRadius (22) | 0.022811 |
PaintCorrectionMaskRadius (23) | 0.022942 |
PaintCorrectionMaskRadius (24) | 0.023074 |
PaintCorrectionMaskRadius (25) | 0.023412 |
PaintCorrectionMaskRadius (26) | 0.027899 |
PaintCorrectionMaskRadius (27) | 0.028050 |
PaintCorrectionMaskRadius (28) | 0.028207 |
PaintCorrectionMaskRadius (29) | 0.028203 |
PaintCorrectionMaskRadius (3) | 0.036779 |
PaintCorrectionMaskRadius (30) | 0.027885 |
PaintCorrectionMaskRadius (31) | 0.028081 |
PaintCorrectionMaskRadius (32) | 0.028194 |
PaintCorrectionMaskRadius (33) | 0.028371 |
PaintCorrectionMaskRadius (34) | 0.028220 |
PaintCorrectionMaskRadius (35) | 0.028568 |
PaintCorrectionMaskRadius (4) | 0.037387 |
PaintCorrectionMaskRadius (5) | 0.037683 |
PaintCorrectionMaskRadius (6) | 0.039193 |
PaintCorrectionMaskRadius (7) | 0.038928 |
PaintCorrectionMaskRadius (8) | 0.039214 |
PaintCorrectionMaskRadius (9) | 0.039209 |
PaintCorrectionMaskRadius | 0.028190 |
PaintCorrectionMaskValue | 0.480732 |
PaintCorrectionMaskWhat | Mask/Paint |
PaintCorrectionMoire | 0.000000 |
PaintCorrectionSaturation | 0.000000 |
PaintCorrectionShadows2012 | 0.000000 |
PaintCorrectionSharpness | 0.000000 |
PaintCorrectionTemperature | 0.000000 |
PaintCorrectionTint (1) | 0.000000 |
PaintCorrectionTint | -0.744576 |
PaintCorrectionWhat | Correction |
ParametricDarks | 0 |
ParametricHighlights | 0 |
ParametricHighlightSplit | 75 |
ParametricLights | 0 |
ParametricMidtoneSplit | 50 |
ParametricShadows | 0 |
ParametricShadowSplit | 25 |
PerspectiveAspect | 0 |
PerspectiveHorizontal | 0 |
PerspectiveRotate | 0.0 |
PerspectiveScale | 100 |
PerspectiveUpright | 0 |
PerspectiveVertical | -3 |
PerspectiveX | 0.00 |
PerspectiveY | 0.00 |
PostCropVignetteAmount | -13 |
PostCropVignetteFeather | 50 |
PostCropVignetteHighlightContrast | 0 |
PostCropVignetteMidpoint | 50 |
PostCropVignetteRoundness | 0 |
PostCropVignetteStyle | 1 |
PreservedFileName | D75_2269.NEF |
ProcessVersion | 11.0 |
ProfileDescription | sRGB IEC61966-2.1 |
Rating | 5 |
RawFileName | D75_2269.NEF |
RedHue | 0 |
RedSaturation | 0 |
Rights | © Hans Jørgen Lindeløff 2020 |
Saturation (1) | 0 |
Saturation | Normal |
SaturationAdjustmentAqua | 0 |
SaturationAdjustmentBlue | 0 |
SaturationAdjustmentGreen | 0 |
SaturationAdjustmentMagenta | 0 |
SaturationAdjustmentOrange | 0 |
SaturationAdjustmentPurple | 0 |
SaturationAdjustmentRed | 0 |
SaturationAdjustmentYellow | 0 |
ScaleFactor35efl | 1.0 |
SceneCaptureType | Landscape |
SceneType | Directly photographed |
SensingMethod | One-chip color area |
SensitivityType | Recommended Exposure Index |
SerialNumber | 6128653 |
Shadows2012 | +94 |
ShadowTint | 0 |
SharpenDetail | 25 |
SharpenEdgeMasking | 54 |
SharpenRadius | +1.0 |
Sharpness (1) | 50 |
Sharpness | Normal |
ShutterSpeed | 1/60 |
ShutterSpeedValue | 1/60 |
SplitToningBalance | 0 |
SplitToningHighlightHue | 0 |
SplitToningHighlightSaturation | 0 |
SplitToningShadowHue | 0 |
SplitToningShadowSaturation | 0 |
Subject | Evenstad kapell, kirke |
SubjectDistanceRange | Unknown |
Texture | +16 |
Tint | +1 |
ToneCurveName2012 | Custom |
ToneCurvePV2012 | 0, 0, 82, 73, 164, 171, 255, 255 |
ToneCurvePV2012Blue | 0, 0, 255, 255 |
ToneCurvePV2012Green | 0, 0, 255, 255 |
ToneCurvePV2012Red | 0, 0, 255, 255 |
UsageTerms | All rights reserved |
Version | 13.0 |
Vibrance | 0 |
VignetteAmount | 0 |
VignetteCorrectionAlreadyApplied | True |
WhiteBalance (1) | Custom |
WhiteBalance | Manual |
Whites2012 | +41 |