Felt | Verdi |
AlreadyApplied | True |
Artist | ARILD THINGVOLL |
AutoLateralCA | 0 |
BitsPerSample | 8 |
Blacks2012 | 0 |
BlueHue | 0 |
BlueSaturation | 0 |
By-line | ARILD THINGVOLL |
CameraProfile | Embedded |
Clarity2012 | 0 |
ColorComponents | 3 |
ColorNoiseReduction | 0 |
ColorSpace | sRGB |
ColorTransform | YCbCr |
Contrast2012 | 0 |
ConvertToGrayscale | False |
CreateDate | 2020:09:10 13:20:56 |
Creator | ARILD THINGVOLL |
CreatorTool | Adobe Photoshop Lightroom Classic 9.4 (Windows) |
CropAngle | 0 |
CropBottom | 0.978339 |
CropConstrainToWarp | 0 |
CropLeft | 0 |
CropRight | 1 |
CropTop | 0 |
DateCreated (1) | 2020:09:10 |
DateCreated | 2020:09:10 13:20:56 |
DateTimeOriginal | 2020:09:10 13:20:56 |
DefringeGreenAmount | 0 |
DefringeGreenHueHi | 60 |
DefringeGreenHueLo | 40 |
DefringePurpleAmount | 0 |
DefringePurpleHueHi | 70 |
DefringePurpleHueLo | 30 |
Dehaze | 0 |
DistortionCorrectionAlreadyApplied | True |
Exposure2012 | 0.00 |
Format | image/jpeg |
FujiRatingAlreadyApplied | True |
GrainAmount | 0 |
GreenHue | 0 |
GreenSaturation | 0 |
HasCrop | True |
HasExtendedXMP | 5BC500225F1AC68BE2741C7F81D8D899 |
HasSettings | True |
Highlights2012 | 0 |
HueAdjustmentAqua | 0 |
HueAdjustmentBlue | 0 |
HueAdjustmentGreen | 0 |
HueAdjustmentMagenta | 0 |
HueAdjustmentOrange | 0 |
HueAdjustmentPurple | 0 |
HueAdjustmentRed | 0 |
HueAdjustmentYellow | 0 |
ImageHeight | 1147 |
ImageSize | 2000x1147 |
ImageWidth | 2000 |
IncrementalTemperature | 0 |
IncrementalTint | 0 |
LateralChromaticAberrationCorrectionAlreadyApplied | True |
Lens | XF60mmF2.4 R Macro |
LensInfo | 60mm f/2.4 |
LensManualDistortionAmount | 0 |
LensModel | XF60mmF2.4 R Macro |
LensProfileEnable | 0 |
LensProfileSetup | LensDefaults |
LensSerialNumber | 22A06806 |
LookName | |
LuminanceAdjustmentAqua | 0 |
LuminanceAdjustmentBlue | 0 |
LuminanceAdjustmentGreen | 0 |
LuminanceAdjustmentMagenta | 0 |
LuminanceAdjustmentOrange | 0 |
LuminanceAdjustmentPurple | 0 |
LuminanceAdjustmentRed | 0 |
LuminanceAdjustmentYellow | 0 |
LuminanceSmoothing | 0 |
Make | FUJIFILM |
Megapixels | 2.3 |
Model | X-H1 |
ModifyDate (1) | 2020:09:10 14:44:53+02:00 |
ModifyDate | 2020:09:10 14:44:53 |
OverrideLookVignette | False |
PaintCorrectionActive | true |
PaintCorrectionAmount | 1.000000 |
PaintCorrectionBrightness | 0.000000 |
PaintCorrectionClarity2012 | 0.000000 |
PaintCorrectionContrast2012 | 0.000000 |
PaintCorrectionCorrectionRangeMaskColorAmount | 0.500000 |
PaintCorrectionCorrectionRangeMaskDepthFeather | 0.500000 |
PaintCorrectionCorrectionRangeMaskDepthMax | 1.000000 |
PaintCorrectionCorrectionRangeMaskDepthMin | 0.000000 |
PaintCorrectionCorrectionRangeMaskLumFeather | 0.500000 |
PaintCorrectionCorrectionRangeMaskLumMax | 1.000000 |
PaintCorrectionCorrectionRangeMaskLumMin | 0.000000 |
PaintCorrectionCorrectionRangeMaskType | 0 |
PaintCorrectionCorrectionRangeMaskVersion | +2 |
PaintCorrectionDefringe | 0.000000 |
PaintCorrectionExposure2012 (3) | 0.000000 |
PaintCorrectionExposure2012 | -1.000000 |
PaintCorrectionHighlights2012 | 0.000000 |
PaintCorrectionHue | 139.000000 |
PaintCorrectionLocalBlacks2012 (1) | -0.385960 |
PaintCorrectionLocalBlacks2012 (2) | -0.771930 |
PaintCorrectionLocalBlacks2012 (3) | -0.929820 |
PaintCorrectionLocalBlacks2012 | -1.000000 |
PaintCorrectionLocalDehaze | 0.000000 |
PaintCorrectionLocalHue | 0.000000 |
PaintCorrectionLocalTexture | 0.000000 |
PaintCorrectionLocalWhites2012 | 0.000000 |
PaintCorrectionLuminanceNoise | 0.000000 |
PaintCorrectionMaskCenterWeight | 0.057135 |
PaintCorrectionMaskFlow | 0.300000 |
PaintCorrectionMaskRadius (11) | 0.069451 |
PaintCorrectionMaskRadius (12) | 0.052308 |
PaintCorrectionMaskRadius (120) | 0.012514 |
PaintCorrectionMaskRadius (124) | 0.016824 |
PaintCorrectionMaskRadius (125) | 0.014650 |
PaintCorrectionMaskRadius (140) | 0.008355 |
PaintCorrectionMaskRadius (149) | 0.006332 |
PaintCorrectionMaskRadius (18) | 0.046780 |
PaintCorrectionMaskRadius (22) | 0.030753 |
PaintCorrectionMaskRadius (32) | 0.025596 |
PaintCorrectionMaskRadius (33) | 0.010684 |
PaintCorrectionMaskRadius (36) | 0.041345 |
PaintCorrectionMaskRadius (38) | 0.015562 |
PaintCorrectionMaskRadius (4) | 0.057929 |
PaintCorrectionMaskRadius (7) | 0.020532 |
PaintCorrectionMaskRadius (86) | 0.010416 |
PaintCorrectionMaskRadius | 0.036002 |
PaintCorrectionMaskValue | 0.578000 |
PaintCorrectionMaskWhat | Mask/Paint |
PaintCorrectionMoire | 0.000000 |
PaintCorrectionSaturation | 0.000000 |
PaintCorrectionShadows2012 | 0.000000 |
PaintCorrectionSharpness | 0.000000 |
PaintCorrectionTemperature | 0.000000 |
PaintCorrectionTint | 0.000000 |
PaintCorrectionWhat | Correction |
ParametricDarks | -15 |
ParametricHighlights | -10 |
ParametricHighlightSplit | 75 |
ParametricLights | 0 |
ParametricMidtoneSplit | 50 |
ParametricShadows | +23 |
ParametricShadowSplit | 25 |
PerspectiveAspect | 0 |
PerspectiveHorizontal | 0 |
PerspectiveRotate | 0.0 |
PerspectiveScale | 100 |
PerspectiveUpright | 0 |
PerspectiveVertical | 0 |
PerspectiveX | 0.00 |
PerspectiveY | 0.00 |
PostCropVignetteAmount | -12 |
PostCropVignetteFeather | 50 |
PostCropVignetteHighlightContrast | 0 |
PostCropVignetteMidpoint | 50 |
PostCropVignetteRoundness | 0 |
PostCropVignetteStyle | 1 |
PreservedFileName | XH105029.RAF |
ProcessVersion | 11.0 |
ProfileDescription | sRGB IEC61966-2.1 |
RawFileName | |
RedHue | 0 |
RedSaturation | 0 |
Saturation | 0 |
SaturationAdjustmentAqua | 0 |
SaturationAdjustmentBlue | 0 |
SaturationAdjustmentGreen | 0 |
SaturationAdjustmentMagenta | 0 |
SaturationAdjustmentOrange | 0 |
SaturationAdjustmentPurple | 0 |
SaturationAdjustmentRed | 0 |
SaturationAdjustmentYellow | 0 |
SerialNumber | 81A55422 |
Shadows2012 | 0 |
ShadowTint | 0 |
SharpenDetail | 25 |
SharpenEdgeMasking | 0 |
SharpenRadius | +1.0 |
Sharpness | 0 |
Software | Adobe Photoshop Lightroom Classic 9.4 (Windows) |
SplitToningBalance | -40 |
SplitToningHighlightHue | 60 |
SplitToningHighlightSaturation | 13 |
SplitToningShadowHue | 240 |
SplitToningShadowSaturation | 13 |
Texture | 0 |
ToneCurve | 0, 0, 255, 255 |
ToneCurveBlue | 0, 0, 255, 255 |
ToneCurveGreen | 0, 0, 255, 255 |
ToneCurveName | Linear |
ToneCurveName2012 | Linear |
ToneCurvePV2012 | 0, 0, 255, 255 |
ToneCurvePV2012Blue | 0, 0, 255, 255 |
ToneCurvePV2012Green | 0, 0, 255, 255 |
ToneCurvePV2012Red | 0, 0, 255, 255 |
ToneCurveRed | 0, 0, 255, 255 |
ToneMapStrength | 0 |
Transformation | Perspective |
Version | 12.4 |
Vibrance | 0 |
VignetteAmount | 0 |
VirtualFocalLength | 2.413516 |
VirtualImageXCenter | 0.501046 |
VirtualImageYCenter | 0.332261 |
WhiteBalance | As Shot |
Whites2012 | 0 |