Felt | Verdi |
AlreadyApplied | True |
Aperture | 8.0 |
ApertureValue | 8.0 |
AutoLateralCA | 0 |
BitsPerSample | 8 |
Blacks2012 | -22 |
BlueHue | 0 |
BlueSaturation | 0 |
BrightnessValue | 8.63828125 |
CameraProfile | Adobe Standard |
CircleOfConfusion | 0.030 mm |
Clarity2012 | 0 |
ColorComponents | 3 |
ColorNoiseReduction | 25 |
ColorNoiseReductionDetail | 50 |
ColorNoiseReductionSmoothness | 50 |
ColorSpace | Uncalibrated |
ColorTemperature | 6000 |
Contrast | Normal |
Contrast2012 | +55 |
ConvertToGrayscale | True |
CreateDate (1) | 2019:09:20 16:29:18+02:00 |
CreateDate | 2019:09:20 16:29:18 |
CreatorTool | Adobe Photoshop Lightroom Classic 9.3 (Windows) |
CropAngle | 0 |
CropBottom | 0.864706 |
CropConstrainToWarp | 0 |
CropLeft | 0 |
CropRight | 1 |
CropTop | 0.276471 |
CustomRendered | Normal |
DateCreated | 2019:09:20 16:29:18+02:00 |
DateTimeOriginal | 2019:09:20 16:29:18 |
Dehaze | 0 |
DigitalZoomRatio | 1 |
DistortionCorrectionAlreadyApplied | True |
Exposure2012 | +0.60 |
ExposureCompensation | 0 |
ExposureMode | Auto bracket |
ExposureProgram | Aperture-priority AE |
ExposureTime | 1/1000 |
Flash | Off, Did not fire |
FNumber | 8.0 |
FocalLength | 18.0 mm |
FocalLength35efl | 18.0 mm (35 mm equivalent: 18.0 mm) |
FocalLengthIn35mmFormat | 18 mm |
Format | image/jpeg |
FOV | 90.0 deg |
GPSDifferential | No Correction |
GPSMapDatum | WGS-84 |
GPSStatus | Measurement Void |
GrainAmount | 0 |
GrayMixerAqua | 0 |
GrayMixerBlue | 0 |
GrayMixerGreen | 0 |
GrayMixerMagenta | 0 |
GrayMixerOrange | 0 |
GrayMixerPurple | 0 |
GrayMixerRed | 0 |
GrayMixerYellow | 0 |
GreenHue | 0 |
GreenSaturation | 0 |
HasCrop | True |
HasSettings | True |
Highlights2012 | -100 |
HyperfocalDistance | 1.35 m |
ImageHeight | 1004 |
ImageSize | 2560x1004 |
ImageWidth | 2560 |
ISO | 320 |
LateralChromaticAberrationCorrectionAlreadyApplied | True |
Lens | E 17-28mm F2.8-2.8 |
LensDistortInfo | 33668/32768 -135447239/1073741824 142688680/1073741824 -48816929/1073741824 |
LensInfo | 17-28mm f/2.8 |
LensManualDistortionAmount | 0 |
LensModel | E 17-28mm F2.8-2.8 |
LensProfileChromaticAberrationScale | 100 |
LensProfileDistortionScale | 100 |
LensProfileEnable | 1 |
LensProfileFilename | SONY (TAMRON 17-28mm F2.8 Di III RXD A046S) - RAW.lcp |
LensProfileName | Adobe (TAMRON 17-28mm F2.8 Di III RXD A046S) |
LensProfileSetup | LensDefaults |
LensProfileVignettingScale | 100 |
LightSource | Unknown |
LightValue | 14.3 |
LookAmount | 1.000000 |
LookGroup | Profiles |
LookName | Adobe Monochrome |
LookParametersCameraProfile | Adobe Standard |
LookParametersClarity2012 | +8 |
LookParametersConvertToGrayscale | True |
LookParametersLookTable | 73ED6C18DDE909DD7EA2D771F5AC282D |
LookParametersProcessVersion | 11.0 |
LookParametersToneCurvePV2012 | 0, 0, 64, 56, 128, 128, 192, 197, 255, 255 |
LookParametersToneCurvePV2012Blue | 0, 0, 255, 255 |
LookParametersToneCurvePV2012Green | 0, 0, 255, 255 |
LookParametersToneCurvePV2012Red | 0, 0, 255, 255 |
LookParametersVersion | 12.3 |
LookSupportsAmount | false |
LookSupportsMonochrome | false |
LookSupportsOutputReferred | false |
LuminanceSmoothing | 0 |
Make | SONY |
MaxApertureValue | 2.8 |
Megapixels | 2.6 |
MeteringMode | Spot |
Model | ILCE-7M3 |
ModifyDate (1) | 2020:09:03 12:57:39+02:00 |
ModifyDate | 2020:09:03 12:57:39 |
OverrideLookVignette | False |
PaintCorrectionActive | true |
PaintCorrectionAmount | 1.000000 |
PaintCorrectionBrightness | 0.000000 |
PaintCorrectionClarity2012 | 0.000000 |
PaintCorrectionContrast2012 | 0.000000 |
PaintCorrectionCorrectionRangeMaskColorAmount | 0.500000 |
PaintCorrectionCorrectionRangeMaskDepthFeather | 0.500000 |
PaintCorrectionCorrectionRangeMaskDepthMax | 1.000000 |
PaintCorrectionCorrectionRangeMaskDepthMin | 0.000000 |
PaintCorrectionCorrectionRangeMaskLumFeather | 0.500000 |
PaintCorrectionCorrectionRangeMaskLumMax | 1.000000 |
PaintCorrectionCorrectionRangeMaskLumMin | 0.000000 |
PaintCorrectionCorrectionRangeMaskType | 0 |
PaintCorrectionCorrectionRangeMaskVersion | +2 |
PaintCorrectionDefringe | 0.000000 |
PaintCorrectionExposure2012 | 0.075000 |
PaintCorrectionHighlights2012 | 0.000000 |
PaintCorrectionHue | 0.000000 |
PaintCorrectionLocalBlacks2012 | 0.000000 |
PaintCorrectionLocalDehaze | 0.000000 |
PaintCorrectionLocalHue | 0.000000 |
PaintCorrectionLocalTexture | 0.000000 |
PaintCorrectionLocalWhites2012 | 0.000000 |
PaintCorrectionLuminanceNoise | 0.000000 |
PaintCorrectionMaskCenterWeight | 0.000000 |
PaintCorrectionMaskFlow | 1.000000 |
PaintCorrectionMaskRadius (1) | 0.169667 |
PaintCorrectionMaskRadius (10) | 0.057560 |
PaintCorrectionMaskRadius (11) | 0.042704 |
PaintCorrectionMaskRadius (12) | 0.042629 |
PaintCorrectionMaskRadius (13) | 0.035607 |
PaintCorrectionMaskRadius (14) | 0.034789 |
PaintCorrectionMaskRadius (15) | 0.094852 |
PaintCorrectionMaskRadius (16) | 0.094961 |
PaintCorrectionMaskRadius (17) | 0.094604 |
PaintCorrectionMaskRadius (18) | 0.094183 |
PaintCorrectionMaskRadius (19) | 0.094069 |
PaintCorrectionMaskRadius (2) | 0.069337 |
PaintCorrectionMaskRadius (20) | 0.093473 |
PaintCorrectionMaskRadius (21) | 0.092860 |
PaintCorrectionMaskRadius (22) | 0.092083 |
PaintCorrectionMaskRadius (23) | 0.091500 |
PaintCorrectionMaskRadius (24) | 0.092981 |
PaintCorrectionMaskRadius (25) | 0.091812 |
PaintCorrectionMaskRadius (26) | 0.091481 |
PaintCorrectionMaskRadius (27) | 0.093163 |
PaintCorrectionMaskRadius (28) | 0.091493 |
PaintCorrectionMaskRadius (29) | 0.091401 |
PaintCorrectionMaskRadius (3) | 0.069164 |
PaintCorrectionMaskRadius (30) | 0.091274 |
PaintCorrectionMaskRadius (31) | 0.091203 |
PaintCorrectionMaskRadius (32) | 0.091950 |
PaintCorrectionMaskRadius (33) | 0.091343 |
PaintCorrectionMaskRadius (34) | 0.091205 |
PaintCorrectionMaskRadius (35) | 0.091424 |
PaintCorrectionMaskRadius (36) | 0.093895 |
PaintCorrectionMaskRadius (37) | 0.094523 |
PaintCorrectionMaskRadius (38) | 0.093079 |
PaintCorrectionMaskRadius (4) | 0.054672 |
PaintCorrectionMaskRadius (40) | 0.093655 |
PaintCorrectionMaskRadius (41) | 0.092886 |
PaintCorrectionMaskRadius (42) | 0.092672 |
PaintCorrectionMaskRadius (43) | 0.091649 |
PaintCorrectionMaskRadius (44) | 0.091279 |
PaintCorrectionMaskRadius (45) | 0.091313 |
PaintCorrectionMaskRadius (46) | 0.094475 |
PaintCorrectionMaskRadius (47) | 0.091208 |
PaintCorrectionMaskRadius (48) | 0.091359 |
PaintCorrectionMaskRadius (49) | 0.091325 |
PaintCorrectionMaskRadius (5) | 0.054737 |
PaintCorrectionMaskRadius (50) | 0.094086 |
PaintCorrectionMaskRadius (51) | 0.094272 |
PaintCorrectionMaskRadius (52) | 0.093983 |
PaintCorrectionMaskRadius (53) | 0.095569 |
PaintCorrectionMaskRadius (54) | 0.094366 |
PaintCorrectionMaskRadius (55) | 0.093298 |
PaintCorrectionMaskRadius (56) | 0.095048 |
PaintCorrectionMaskRadius (57) | 0.076319 |
PaintCorrectionMaskRadius (58) | 0.076672 |
PaintCorrectionMaskRadius (59) | 0.077405 |
PaintCorrectionMaskRadius (6) | 0.054856 |
PaintCorrectionMaskRadius (60) | 0.076399 |
PaintCorrectionMaskRadius (61) | 0.076812 |
PaintCorrectionMaskRadius (62) | 0.076730 |
PaintCorrectionMaskRadius (63) | 0.077084 |
PaintCorrectionMaskRadius (64) | 0.076380 |
PaintCorrectionMaskRadius (65) | 0.077157 |
PaintCorrectionMaskRadius (66) | 0.077711 |
PaintCorrectionMaskRadius (67) | 0.079646 |
PaintCorrectionMaskRadius (68) | 0.078600 |
PaintCorrectionMaskRadius (7) | 0.055687 |
PaintCorrectionMaskRadius (8) | 0.057392 |
PaintCorrectionMaskRadius (9) | 0.057544 |
PaintCorrectionMaskRadius | 0.076306 |
PaintCorrectionMaskValue | 1.000000 |
PaintCorrectionMaskWhat | Mask/Paint |
PaintCorrectionMoire | 0.000000 |
PaintCorrectionSaturation | 0.000000 |
PaintCorrectionShadows2012 | 0.419850 |
PaintCorrectionSharpness | 0.000000 |
PaintCorrectionTemperature | 0.000000 |
PaintCorrectionTint | 0.000000 |
PaintCorrectionWhat | Correction |
ParametricDarks | 0 |
ParametricHighlights | 0 |
ParametricHighlightSplit | 75 |
ParametricLights | 0 |
ParametricMidtoneSplit | 50 |
ParametricShadows | 0 |
ParametricShadowSplit | 25 |
PerspectiveAspect | 0 |
PerspectiveHorizontal | 0 |
PerspectiveRotate | 0.0 |
PerspectiveScale | 100 |
PerspectiveUpright | 0 |
PerspectiveVertical | 0 |
PerspectiveX | 0.00 |
PerspectiveY | 0.00 |
PostCropVignetteAmount | 0 |
PreservedFileName | DSC05840.ARW |
ProcessVersion | 11.0 |
ProfileDescription | Adobe RGB (1998) |
RawFileName | DSC05840.ARW |
RecommendedExposureIndex | 320 |
RedHue | 0 |
RedSaturation | 0 |
Saturation | Normal |
ScaleFactor35efl | 1.0 |
SceneCaptureType | Standard |
SceneType | Directly photographed |
SensitivityType | Recommended Exposure Index |
Shadows2012 | +92 |
ShadowTint | 0 |
SharpenDetail | 25 |
SharpenEdgeMasking | 0 |
SharpenRadius | +1.0 |
Sharpness (1) | 40 |
Sharpness | Normal |
ShutterSpeed | 1/1000 |
ShutterSpeedValue | 1/1000 |
Software | paint.net 4.2.13 |
SplitToningBalance | 0 |
SplitToningHighlightHue | 0 |
SplitToningHighlightSaturation | 0 |
SplitToningShadowHue | 0 |
SplitToningShadowSaturation | 0 |
Texture | 0 |
Tint | +6 |
ToneCurve | 0, 0, 255, 255 |
ToneCurveBlue | 0, 0, 255, 255 |
ToneCurveGreen | 0, 0, 255, 255 |
ToneCurveName | Linear |
ToneCurveName2012 | Linear |
ToneCurvePV2012 | 0, 0, 255, 255 |
ToneCurvePV2012Blue | 0, 0, 255, 255 |
ToneCurvePV2012Green | 0, 0, 255, 255 |
ToneCurvePV2012Red | 0, 0, 255, 255 |
ToneCurveRed | 0, 0, 255, 255 |
ToneMapStrength | 0 |
Version | 12.3 |
VignetteAmount | 0 |
VignetteCorrectionAlreadyApplied | True |
WhiteBalance (1) | Custom |
WhiteBalance | Auto |
Whites2012 | +12 |