Felt | Verdi |
AlreadyApplied | True |
Aperture | 1.4 |
ApertureValue | 1.4 |
ApproximateFocusDistance | 0.64 |
AutoLateralCA | 0 |
BitsPerSample | 8 |
Blacks2012 | 0 |
BlueHue | 0 |
BlueSaturation | 0 |
CameraProfile | Adobe Standard |
CircGradBasedCorrActive | true |
CircGradBasedCorrAmount | 1.000000 |
CircGradBasedCorrBrightness | 0.000000 |
CircGradBasedCorrClarity2012 | 0.000000 |
CircGradBasedCorrContrast2012 | 0.000000 |
CircGradBasedCorrCorrectionRangeMaskColorAmount | 0.500000 |
CircGradBasedCorrCorrectionRangeMaskDepthFeather | 0.500000 |
CircGradBasedCorrCorrectionRangeMaskDepthMax | 1.000000 |
CircGradBasedCorrCorrectionRangeMaskDepthMin | 0.000000 |
CircGradBasedCorrCorrectionRangeMaskLumFeather | 0.500000 |
CircGradBasedCorrCorrectionRangeMaskLumMax | 1.000000 |
CircGradBasedCorrCorrectionRangeMaskLumMin | 0.000000 |
CircGradBasedCorrCorrectionRangeMaskType | 0 |
CircGradBasedCorrCorrectionRangeMaskVersion | +2 |
CircGradBasedCorrDefringe | 0.000000 |
CircGradBasedCorrExposure2012 | 0.720000 |
CircGradBasedCorrHighlights2012 | 0.000000 |
CircGradBasedCorrHue | 0.000000 |
CircGradBasedCorrLocalBlacks2012 | 0.000000 |
CircGradBasedCorrLocalDehaze | -0.343829 |
CircGradBasedCorrLocalTexture | 0.000000 |
CircGradBasedCorrLocalWhites2012 | 0.000000 |
CircGradBasedCorrLuminanceNoise | 0.000000 |
CircGradBasedCorrMaskAngle | 0.000000 |
CircGradBasedCorrMaskBottom | 0.786296 |
CircGradBasedCorrMaskFeather | +100 |
CircGradBasedCorrMaskFlipped | true |
CircGradBasedCorrMaskLeft | -0.333211 |
CircGradBasedCorrMaskMidpoint | +50 |
CircGradBasedCorrMaskRight | 0.440760 |
CircGradBasedCorrMaskRoundness | 0 |
CircGradBasedCorrMaskTop | -0.569973 |
CircGradBasedCorrMaskValue | 1.000000 |
CircGradBasedCorrMaskVersion | +2 |
CircGradBasedCorrMaskWhat | Mask/CircularGradient |
CircGradBasedCorrMoire | 0.000000 |
CircGradBasedCorrSaturation | 0.000000 |
CircGradBasedCorrShadows2012 | 0.000000 |
CircGradBasedCorrSharpness | 0.000000 |
CircGradBasedCorrTemperature | 0.035393 |
CircGradBasedCorrTint | 0.000000 |
CircGradBasedCorrWhat | Correction |
CircleOfConfusion | 0.030 mm |
Clarity2012 | +38 |
ColorComponents | 3 |
ColorNoiseReduction | 25 |
ColorNoiseReductionDetail | 50 |
ColorNoiseReductionSmoothness | 50 |
ColorSpace | sRGB |
ColorTemperature | 6150 |
ColorTransform | YCbCr |
Contrast2012 | 0 |
ConvertToGrayscale | False |
CreateDate (1) | 2019:10:06 15:37:12.56 |
CreateDate | 2019:10:06 15:37:12 |
CreatorTool | Adobe Lightroom 2.4.1 (Macintosh) |
CustomRendered | Normal |
DateCreated (1) | 2019:10:06 |
DateCreated | 2019:10:06 15:37:12.56 |
DateTimeOriginal | 2019:10:06 15:37:12 |
DefringeGreenAmount | 0 |
DefringeGreenHueHi | 60 |
DefringeGreenHueLo | 40 |
DefringePurpleAmount | 0 |
DefringePurpleHueHi | 70 |
DefringePurpleHueLo | 30 |
Dehaze | 0 |
DOF | 0.013 m (0.634 - 0.646 m) |
Exposure2012 | -0.45 |
ExposureCompensation | 0 |
ExposureMode | Manual |
ExposureProgram | Manual |
ExposureTime | 1/800 |
Firmware | 1.0.2 |
Flash | Off, Did not fire |
FlashCompensation | 0 |
FNumber | 1.4 |
FocalLength | 50.0 mm |
FocalLength35efl | 50.0 mm (35 mm equivalent: 50.0 mm) |
Format | image/jpeg |
FOV | 39.6 deg |
GrainAmount | 0 |
GreenHue | 0 |
GreenSaturation | 0 |
HasCrop | False |
HasSettings | True |
Highlights2012 | -100 |
HueAdjustmentAqua | 0 |
HueAdjustmentBlue | 0 |
HueAdjustmentGreen | 0 |
HueAdjustmentMagenta | 0 |
HueAdjustmentOrange | 0 |
HueAdjustmentPurple | 0 |
HueAdjustmentRed | 0 |
HueAdjustmentYellow | 0 |
HyperfocalDistance | 59.43 m |
ImageHeight | 4480 |
ImageNumber | 0 |
ImageSize | 6720x4480 |
ImageWidth | 6720 |
ISO | 320 |
Lens | 50mm F1.4 DG HSM | Art 014 |
LensID (1) | 368 |
LensID | Sigma 50mm f/1.4 DG HSM | A |
LensInfo | 50mm f/? |
LensManualDistortionAmount | 0 |
LensModel | 50mm F1.4 DG HSM | Art 014 |
LensProfileEnable | 0 |
LensProfileSetup | LensDefaults |
LensSerialNumber | 0000000000 |
LightValue | 8.9 |
LookAmount | 1.000000 |
LookGroup | Profiles |
LookName | Adobe Color |
LookParametersCameraProfile | Adobe Standard |
LookParametersConvertToGrayscale | False |
LookParametersLookTable | E1095149FDB39D7A057BAB208837E2E1 |
LookParametersProcessVersion | 11.0 |
LookParametersToneCurvePV2012 | 0, 0, 22, 16, 40, 35, 127, 127, 224, 230, 240, 246, 255, 255 |
LookParametersToneCurvePV2012Blue | 0, 0, 255, 255 |
LookParametersToneCurvePV2012Green | 0, 0, 255, 255 |
LookParametersToneCurvePV2012Red | 0, 0, 255, 255 |
LookParametersVersion | 11.4.1 |
LookSupportsAmount | false |
LookSupportsMonochrome | false |
LookSupportsOutputReferred | false |
LuminanceAdjustmentAqua | 0 |
LuminanceAdjustmentBlue | 0 |
LuminanceAdjustmentGreen | 0 |
LuminanceAdjustmentMagenta | 0 |
LuminanceAdjustmentOrange | 0 |
LuminanceAdjustmentPurple | 0 |
LuminanceAdjustmentRed | 0 |
LuminanceAdjustmentYellow | 0 |
LuminanceSmoothing | 0 |
Make | Canon |
MaxApertureValue | 1.4 |
Megapixels | 30.1 |
MeteringMode | Multi-segment |
Model | Canon EOS 5D Mark IV |
ModifyDate (1) | 2019:10:06 22:06:18+02:00 |
ModifyDate | 2019:10:06 22:06:18 |
OverrideLookVignette | False |
PaintCorrectionActive | true |
PaintCorrectionAmount | 1.000000 |
PaintCorrectionBrightness | 0.000000 |
PaintCorrectionClarity2012 (2) | 0.785354 |
PaintCorrectionClarity2012 | 0.000000 |
PaintCorrectionContrast2012 | 0.000000 |
PaintCorrectionCorrectionRangeMaskColorAmount | 0.500000 |
PaintCorrectionCorrectionRangeMaskDepthFeather | 0.500000 |
PaintCorrectionCorrectionRangeMaskDepthMax | 1.000000 |
PaintCorrectionCorrectionRangeMaskDepthMin | 0.000000 |
PaintCorrectionCorrectionRangeMaskLumFeather | 0.500000 |
PaintCorrectionCorrectionRangeMaskLumMax | 1.000000 |
PaintCorrectionCorrectionRangeMaskLumMin | 0.000000 |
PaintCorrectionCorrectionRangeMaskType | 0 |
PaintCorrectionCorrectionRangeMaskVersion | +2 |
PaintCorrectionDefringe | 0.000000 |
PaintCorrectionExposure2012 (1) | 0.220000 |
PaintCorrectionExposure2012 (2) | -0.060000 |
PaintCorrectionExposure2012 | -0.040000 |
PaintCorrectionHighlights2012 | 0.000000 |
PaintCorrectionHue | 0.000000 |
PaintCorrectionLocalBlacks2012 | 0.000000 |
PaintCorrectionLocalDehaze | 0.000000 |
PaintCorrectionLocalTexture (1) | 0.777975 |
PaintCorrectionLocalTexture (2) | 0.000000 |
PaintCorrectionLocalTexture | 0.255524 |
PaintCorrectionLocalWhites2012 | 0.000000 |
PaintCorrectionLuminanceNoise | 0.000000 |
PaintCorrectionMaskCenterWeight | 0.068604 |
PaintCorrectionMaskFlow | 0.458353 |
PaintCorrectionMaskRadius (4) | 0.018446 |
PaintCorrectionMaskRadius (8) | 0.015217 |
PaintCorrectionMaskRadius | 0.009078 |
PaintCorrectionMaskValue | 1.000000 |
PaintCorrectionMaskWhat | Mask/Paint |
PaintCorrectionMoire | 0.000000 |
PaintCorrectionSaturation | 0.000000 |
PaintCorrectionShadows2012 | 0.000000 |
PaintCorrectionSharpness | 0.000000 |
PaintCorrectionTemperature (1) | -0.294350 |
PaintCorrectionTemperature (2) | 0.000000 |
PaintCorrectionTemperature | -0.230429 |
PaintCorrectionTint | 0.000000 |
PaintCorrectionWhat | Correction |
ParametricDarks | 0 |
ParametricHighlights | 0 |
ParametricHighlightSplit | 75 |
ParametricLights | 0 |
ParametricMidtoneSplit | 50 |
ParametricShadows | 0 |
ParametricShadowSplit | 25 |
PerspectiveAspect | 0 |
PerspectiveHorizontal | 0 |
PerspectiveRotate | 0.0 |
PerspectiveScale | 100 |
PerspectiveUpright | 0 |
PerspectiveVertical | 0 |
PerspectiveX | 0.00 |
PerspectiveY | 0.00 |
PostCropVignetteAmount | -41 |
PostCropVignetteFeather | 50 |
PostCropVignetteHighlightContrast | 0 |
PostCropVignetteMidpoint | 50 |
PostCropVignetteRoundness | 0 |
PostCropVignetteStyle | 1 |
ProcessVersion | 11.0 |
ProfileDescription | sRGB IEC61966-2.1 |
RawFileName | _FHA2627.CR2 |
RecommendedExposureIndex | 320 |
RedHue | 0 |
RedSaturation | 0 |
Saturation | 0 |
SaturationAdjustmentAqua | 0 |
SaturationAdjustmentBlue | 0 |
SaturationAdjustmentGreen | 0 |
SaturationAdjustmentMagenta | 0 |
SaturationAdjustmentOrange | 0 |
SaturationAdjustmentPurple | 0 |
SaturationAdjustmentRed | +4 |
SaturationAdjustmentYellow | 0 |
ScaleFactor35efl | 1.0 |
SceneCaptureType | Standard |
SensitivityType | Recommended Exposure Index |
SerialNumber | 033022008644 |
Shadows2012 | 0 |
ShadowTint | 0 |
SharpenDetail | 25 |
SharpenEdgeMasking | 0 |
SharpenRadius | +1.0 |
Sharpness | 40 |
ShutterSpeed | 1/800 |
ShutterSpeedValue | 1/800 |
Software | Adobe Lightroom 2.4.1 (Macintosh) |
SplitToningBalance | 0 |
SplitToningHighlightHue | 0 |
SplitToningHighlightSaturation | 0 |
SplitToningShadowHue | 0 |
SplitToningShadowSaturation | 0 |
Texture | 0 |
Tint | +7 |
ToneCurve | 0, 0, 255, 255 |
ToneCurveBlue | 0, 0, 255, 255 |
ToneCurveGreen | 0, 0, 255, 255 |
ToneCurveName | Linear |
ToneCurveName2012 | Linear |
ToneCurvePV2012 | 0, 0, 255, 255 |
ToneCurvePV2012Blue | 0, 0, 255, 255 |
ToneCurvePV2012Green | 0, 0, 255, 255 |
ToneCurvePV2012Red | 0, 0, 255, 255 |
ToneCurveRed | 0, 0, 255, 255 |
ToneMapStrength | 0 |
Version | 11.4.1 |
Vibrance | 0 |
VignetteAmount | 0 |
WhiteBalance (1) | Custom |
WhiteBalance | Manual |
Whites2012 | 0 |