Felt | Verdi |
AlreadyApplied | True |
Aperture | 5.6 |
ApertureValue | 5.6 |
ApproximateFocusDistance | 23.7 |
Artist | Sindre Nedrevag |
AutoLateralCA | 1 |
BitsPerSample | 8 |
Blacks2012 | -15 |
BlueHue | 0 |
BlueSaturation | 0 |
By-line | Sindre Nedrevag |
CameraProfile | Adobe Standard |
CFAPattern | [Red,Green][Green,Blue] |
CircleOfConfusion | 0.030 mm |
Clarity2012 | +5 |
ColorComponents | 3 |
ColorNoiseReduction | 50 |
ColorNoiseReductionDetail | 50 |
ColorNoiseReductionSmoothness | 50 |
ColorSpace | sRGB |
ColorTemperature | 5000 |
ColorTransform | YCbCr |
Contrast | Normal |
Contrast2012 | +10 |
ConvertToGrayscale | False |
CreateDate (1) | 2019:07:31 09:09:14.90 |
CreateDate | 2019:07:31 09:09:14 |
Creator | Sindre Nedrevag |
CreatorTool | Adobe Photoshop Lightroom Classic 7.0 (Windows) |
CropAngle | 0 |
CropBottom | 0.740831 |
CropConstrainToWarp | 0 |
CropLeft | 0.069976 |
CropRight | 0.723352 |
CropTop | 0.112469 |
CustomRendered | Normal |
DateCreated (1) | 2019:07:31 |
DateCreated | 2019:07:31 09:09:14.90 |
DateTimeOriginal | 2019:07:31 09:09:14 |
DefringeGreenAmount | 0 |
DefringeGreenHueHi | 60 |
DefringeGreenHueLo | 40 |
DefringePurpleAmount | 0 |
DefringePurpleHueHi | 70 |
DefringePurpleHueLo | 30 |
Dehaze | 0 |
DigitalZoomRatio | 1 |
DistortionCorrectionAlreadyApplied | True |
DOF | 2.39 m (22.57 - 24.95 m) |
Exposure2012 | +0.15 |
ExposureCompensation | 0 |
ExposureMode | Manual |
ExposureProgram | Manual |
ExposureTime | 1/4000 |
Flash | No Flash |
FNumber | 5.6 |
FocalLength | 280.0 mm |
FocalLength35efl | 280.0 mm (35 mm equivalent: 280.0 mm) |
FocalLengthIn35mmFormat | 280 mm |
Format | image/jpeg |
FOV | 7.4 deg |
GainControl | High gain up |
GrainAmount | 0 |
GreenHue | 0 |
GreenSaturation | 0 |
HasCrop | True |
HasExtendedXMP | 4BB888A487F02BA990C41E6E798D6C16 |
HasSettings | True |
Highlights2012 | 0 |
HueAdjustmentAqua | 0 |
HueAdjustmentBlue | 0 |
HueAdjustmentGreen | 0 |
HueAdjustmentMagenta | 0 |
HueAdjustmentOrange | 0 |
HueAdjustmentPurple | 0 |
HueAdjustmentRed | 0 |
HueAdjustmentYellow | 0 |
HyperfocalDistance | 465.95 m |
ImageHeight | 2061 |
ImageNumber | 65997 |
ImageSize | 3220x2061 |
ImageWidth | 3220 |
ISO | 1250 |
LateralChromaticAberrationCorrectionAlreadyApplied | True |
Lens | 200.0-500.0 mm f/5.6 |
LensID (1) | 174 |
LensID | AF-S Nikkor 200-500mm f/5.6E ED VR |
LensInfo | 200-500mm f/5.6 |
LensManualDistortionAmount | 0 |
LensModel | 200.0-500.0 mm f/5.6 |
LensProfileChromaticAberrationScale | 100 |
LensProfileDistortionScale | 100 |
LensProfileEnable | 1 |
LensProfileFilename | NIKON D3 (Nikon AF-S NIKKOR 200-500mm f5.6E ED VR) - RAW.lcp |
LensProfileName | Adobe (Nikon AF-S NIKKOR 200-500mm f/5.6E ED VR) |
LensProfileSetup | LensDefaults |
LensProfileVignettingScale | 100 |
LightSource | Fine Weather |
LightValue | 13.3 |
LuminanceAdjustmentAqua | 0 |
LuminanceAdjustmentBlue | 0 |
LuminanceAdjustmentGreen | 0 |
LuminanceAdjustmentMagenta | 0 |
LuminanceAdjustmentOrange | -5 |
LuminanceAdjustmentPurple | 0 |
LuminanceAdjustmentRed | 0 |
LuminanceAdjustmentYellow | -5 |
LuminanceNoiseReductionContrast | 0 |
LuminanceNoiseReductionDetail | 60 |
LuminanceSmoothing | 5 |
Make | NIKON CORPORATION |
MaxApertureValue | 5.7 |
Megapixels | 6.6 |
MeteringMode | Center-weighted average |
Model | NIKON D4 |
ModifyDate (1) | 2019:08:24 18:03:18+02:00 |
ModifyDate | 2019:08:24 18:03:18 |
PaintCorrectionActive | true |
PaintCorrectionAmount | 1.000000 |
PaintCorrectionBrightness | 0.000000 |
PaintCorrectionClarity2012 (1) | -0.450000 |
PaintCorrectionClarity2012 | 0.000000 |
PaintCorrectionContrast2012 (2) | 0.020000 |
PaintCorrectionContrast2012 | 0.000000 |
PaintCorrectionCorrectionRangeMaskColorAmount | 0.500000 |
PaintCorrectionCorrectionRangeMaskLumFeather | 0.500000 |
PaintCorrectionCorrectionRangeMaskLumMax | 1.000000 |
PaintCorrectionCorrectionRangeMaskLumMin | 0.000000 |
PaintCorrectionCorrectionRangeMaskType | 0 |
PaintCorrectionDefringe | 0.000000 |
PaintCorrectionExposure2012 (2) | 0.005000 |
PaintCorrectionExposure2012 (3) | 0.050000 |
PaintCorrectionExposure2012 | 0.000000 |
PaintCorrectionHighlights2012 | 0.000000 |
PaintCorrectionHue | 240.000000 |
PaintCorrectionLocalBlacks2012 (1) | -0.050000 |
PaintCorrectionLocalBlacks2012 | 0.000000 |
PaintCorrectionLocalDehaze | 0.000000 |
PaintCorrectionLocalWhites2012 | 0.000000 |
PaintCorrectionLuminanceNoise (1) | 0.300000 |
PaintCorrectionLuminanceNoise (2) | 0.000000 |
PaintCorrectionLuminanceNoise | 0.150000 |
PaintCorrectionMaskCenterWeight (89) | 0.291876 |
PaintCorrectionMaskCenterWeight | 0.245331 |
PaintCorrectionMaskFlow (89) | 1.000000 |
PaintCorrectionMaskFlow | 0.652000 |
PaintCorrectionMaskRadius (1) | 0.063704 |
PaintCorrectionMaskRadius (10) | 0.017862 |
PaintCorrectionMaskRadius (11) | 0.017872 |
PaintCorrectionMaskRadius (12) | 0.017886 |
PaintCorrectionMaskRadius (13) | 0.018131 |
PaintCorrectionMaskRadius (14) | 0.017850 |
PaintCorrectionMaskRadius (15) | 0.017845 |
PaintCorrectionMaskRadius (16) | 0.027488 |
PaintCorrectionMaskRadius (17) | 0.027442 |
PaintCorrectionMaskRadius (18) | 0.013829 |
PaintCorrectionMaskRadius (2) | 0.027603 |
PaintCorrectionMaskRadius (21) | 0.001895 |
PaintCorrectionMaskRadius (22) | 0.004416 |
PaintCorrectionMaskRadius (24) | 0.003560 |
PaintCorrectionMaskRadius (26) | 0.000372 |
PaintCorrectionMaskRadius (28) | 0.001894 |
PaintCorrectionMaskRadius (29) | 0.003557 |
PaintCorrectionMaskRadius (3) | 0.022680 |
PaintCorrectionMaskRadius (30) | 0.042708 |
PaintCorrectionMaskRadius (31) | 0.012462 |
PaintCorrectionMaskRadius (32) | 0.008853 |
PaintCorrectionMaskRadius (34) | 0.008836 |
PaintCorrectionMaskRadius (35) | 0.008835 |
PaintCorrectionMaskRadius (36) | 0.008832 |
PaintCorrectionMaskRadius (37) | 0.008828 |
PaintCorrectionMaskRadius (38) | 0.008826 |
PaintCorrectionMaskRadius (39) | 0.008825 |
PaintCorrectionMaskRadius (4) | 0.022616 |
PaintCorrectionMaskRadius (40) | 0.008827 |
PaintCorrectionMaskRadius (41) | 0.008821 |
PaintCorrectionMaskRadius (43) | 0.008820 |
PaintCorrectionMaskRadius (45) | 0.008822 |
PaintCorrectionMaskRadius (46) | 0.008824 |
PaintCorrectionMaskRadius (49) | 0.010562 |
PaintCorrectionMaskRadius (5) | 0.017901 |
PaintCorrectionMaskRadius (51) | 0.010568 |
PaintCorrectionMaskRadius (52) | 0.010586 |
PaintCorrectionMaskRadius (53) | 0.010591 |
PaintCorrectionMaskRadius (54) | 0.010595 |
PaintCorrectionMaskRadius (55) | 0.010621 |
PaintCorrectionMaskRadius (56) | 0.010633 |
PaintCorrectionMaskRadius (57) | 0.010630 |
PaintCorrectionMaskRadius (58) | 0.010629 |
PaintCorrectionMaskRadius (59) | 0.012403 |
PaintCorrectionMaskRadius (6) | 0.017880 |
PaintCorrectionMaskRadius (60) | 0.012352 |
PaintCorrectionMaskRadius (61) | 0.005286 |
PaintCorrectionMaskRadius (62) | 0.005281 |
PaintCorrectionMaskRadius (65) | 0.006175 |
PaintCorrectionMaskRadius (66) | 0.006177 |
PaintCorrectionMaskRadius (67) | 0.006192 |
PaintCorrectionMaskRadius (7) | 0.017831 |
PaintCorrectionMaskRadius (72) | 0.006197 |
PaintCorrectionMaskRadius (73) | 0.006196 |
PaintCorrectionMaskRadius (74) | 0.006202 |
PaintCorrectionMaskRadius (76) | 0.006200 |
PaintCorrectionMaskRadius (77) | 0.006179 |
PaintCorrectionMaskRadius (78) | 0.006180 |
PaintCorrectionMaskRadius (8) | 0.017834 |
PaintCorrectionMaskRadius (82) | 0.006169 |
PaintCorrectionMaskRadius (85) | 0.006168 |
PaintCorrectionMaskRadius (87) | 0.004909 |
PaintCorrectionMaskRadius (88) | 0.002718 |
PaintCorrectionMaskRadius (89) | 0.002526 |
PaintCorrectionMaskRadius (9) | 0.017832 |
PaintCorrectionMaskRadius (90) | 0.128934 |
PaintCorrectionMaskRadius (91) | 0.035186 |
PaintCorrectionMaskRadius | 0.035607 |
PaintCorrectionMaskValue (87) | 0.000000 |
PaintCorrectionMaskValue | 1.000000 |
PaintCorrectionMaskWhat | Mask/Paint |
PaintCorrectionMoire | 0.000000 |
PaintCorrectionSaturation (5) | 0.150000 |
PaintCorrectionSaturation | 0.000000 |
PaintCorrectionShadows2012 | 0.000000 |
PaintCorrectionSharpness (1) | -0.600000 |
PaintCorrectionSharpness (2) | 0.100000 |
PaintCorrectionSharpness | 0.000000 |
PaintCorrectionTemperature (2) | 0.010000 |
PaintCorrectionTemperature | 0.000000 |
PaintCorrectionTint | 0.000000 |
PaintCorrectionWhat | Correction |
ParametricDarks | 0 |
ParametricHighlights | 0 |
ParametricHighlightSplit | 75 |
ParametricLights | +5 |
ParametricMidtoneSplit | 50 |
ParametricShadows | 0 |
ParametricShadowSplit | 25 |
PerspectiveAspect | 0 |
PerspectiveHorizontal | 0 |
PerspectiveRotate | 0.0 |
PerspectiveScale | 100 |
PerspectiveUpright | 0 |
PerspectiveVertical | 0 |
PerspectiveX | 0.00 |
PerspectiveY | 0.00 |
PostCropVignetteAmount | 0 |
ProcessVersion | 10.0 |
ProfileDescription | sRGB IEC61966-2.1 |
RedHue | 0 |
RedSaturation | 0 |
Saturation (1) | +3 |
Saturation | Normal |
SaturationAdjustmentAqua | 0 |
SaturationAdjustmentBlue | 0 |
SaturationAdjustmentGreen | 0 |
SaturationAdjustmentMagenta | 0 |
SaturationAdjustmentOrange | +5 |
SaturationAdjustmentPurple | 0 |
SaturationAdjustmentRed | +15 |
SaturationAdjustmentYellow | +5 |
ScaleFactor35efl | 1.0 |
SceneCaptureType | Standard |
SceneType | Directly photographed |
SensingMethod | One-chip color area |
SensitivityType | Recommended Exposure Index |
SerialNumber | 2055090 |
Shadows2012 | -20 |
ShadowTint | 0 |
SharpenDetail | 28 |
SharpenEdgeMasking | 75 |
SharpenRadius | +1.0 |
Sharpness (1) | 30 |
Sharpness | Normal |
ShutterSpeed | 1/4000 |
ShutterSpeedValue | 1/4000 |
Software | Adobe Photoshop Lightroom Classic 7.0 (Windows) |
SplitToningBalance | 0 |
SplitToningHighlightHue | 0 |
SplitToningHighlightSaturation | 0 |
SplitToningShadowHue | 0 |
SplitToningShadowSaturation | 0 |
SubjectDistanceRange | Unknown |
Tint | 0 |
ToneCurve | 0, 0, 255, 255 |
ToneCurveBlue | 0, 0, 255, 255 |
ToneCurveGreen | 0, 0, 255, 255 |
ToneCurveName | Linear |
ToneCurveName2012 | Linear |
ToneCurvePV2012 | 0, 0, 255, 255 |
ToneCurvePV2012Blue | 0, 0, 255, 255 |
ToneCurvePV2012Green | 0, 0, 255, 255 |
ToneCurvePV2012Red | 0, 0, 255, 255 |
ToneCurveRed | 0, 0, 255, 255 |
Version | 10.0 |
Vibrance | +5 |
VignetteAmount | 0 |
VignetteCorrectionAlreadyApplied | True |
WhiteBalance (1) | Custom |
WhiteBalance | Manual |
Whites2012 | 0 |