Felt | Verdi |
AlreadyApplied | True |
Aperture | 22.0 |
ApertureValue | 22.0 |
AutoLateralCA | 1 |
BitsPerSample | 8 |
Blacks2012 | 0 |
BlueHue | -5 |
BlueSaturation | +10 |
CameraProfile | Adobe Standard |
CircleOfConfusion | 0.011 mm |
Clarity2012 | 0 |
ColorComponents | 3 |
ColorNoiseReduction | 25 |
ColorNoiseReductionDetail | 50 |
ColorNoiseReductionSmoothness | 50 |
ColorSpace | sRGB |
ColorTemperature | 7050 |
ColorTransform | YCbCr |
Contrast2012 | +42 |
ConvertToGrayscale | True |
CreateDate (1) | 2019:07:05 21:07:59.49 |
CreateDate | 2019:07:05 21:07:59 |
CreatorTool | Adobe Photoshop Lightroom Classic 8.1 (Macintosh) |
CropAngle | 0 |
CropBottom | 0.764986 |
CropConstrainToWarp | 0 |
CropLeft | 0.170293 |
CropRight | 0.678783 |
CropTop | 0.002251 |
CustomRendered | Normal |
DateCreated (1) | 2019:07:05 |
DateCreated | 2019:07:05 21:07:59.49 |
DateTimeOriginal | 2019:07:05 21:07:59 |
Dehaze | 0 |
DistortionCorrectionAlreadyApplied | True |
Exposure2012 | -0.20 |
ExposureCompensation | 0 |
ExposureMode | Manual |
ExposureProgram | Manual |
ExposureTime | 3.2 |
Firmware | 1.0.4 |
Flash | Off, Did not fire |
FlashCompensation | 0 |
FNumber | 22.0 |
FocalLength | 50.0 mm |
FocalLength35efl | 50.0 mm (35 mm equivalent: 139.4 mm) |
Format | image/jpeg |
FOV | 14.7 deg |
GrainAmount | 36 |
GrainFrequency | 50 |
GrainSize | 25 |
GrayMixerAqua | -25 |
GrayMixerBlue | -10 |
GrayMixerGreen | -15 |
GrayMixerMagenta | -20 |
GrayMixerOrange | -15 |
GrayMixerPurple | +15 |
GrayMixerRed | -20 |
GrayMixerYellow | -30 |
GreenHue | 0 |
GreenSaturation | +25 |
HasCrop | True |
HasSettings | True |
Highlights2012 | 0 |
HyperfocalDistance | 10.55 m |
ImageHeight | 2048 |
ImageNumber | 0 |
ImageSize | 2048x2048 |
ImageWidth | 2048 |
ISO | 100 |
Label | Blue |
LateralChromaticAberrationCorrectionAlreadyApplied | True |
Lens | EF50mm f/1.8 II |
LensID (1) | 29 |
LensID | Canon EF 50mm f/1.8 II |
LensInfo | 50mm f/? |
LensManualDistortionAmount | 0 |
LensModel | EF50mm f/1.8 II |
LensProfileChromaticAberrationScale | 100 |
LensProfileDistortionScale | 100 |
LensProfileEnable | 1 |
LensProfileFilename | Canon EOS 5D Mark II (Canon EF 50mm f1.8 II) - RAW.lcp |
LensProfileName | Adobe (Canon EF 50mm f/1.8 II) |
LensProfileSetup | LensDefaults |
LensProfileVignettingScale | 100 |
LensSerialNumber | 0000000000 |
LightValue | 7.2 |
LookName | |
LuminanceSmoothing | 0 |
Make | Canon |
MaxApertureValue | 1.8 |
Megapixels | 4.2 |
MeteringMode | Spot |
Model | Canon EOS 5D Mark IV |
ModifyDate (1) | 2019:07:05 22:49:22+02:00 |
ModifyDate | 2019:07:05 22:49:22 |
OverrideLookVignette | False |
ParametricDarks | 0 |
ParametricHighlights | 0 |
ParametricHighlightSplit | 76 |
ParametricLights | 0 |
ParametricMidtoneSplit | 51 |
ParametricShadows | 0 |
ParametricShadowSplit | 24 |
PerspectiveAspect | 0 |
PerspectiveHorizontal | 0 |
PerspectiveRotate | 0.0 |
PerspectiveScale | 100 |
PerspectiveUpright | 0 |
PerspectiveVertical | 0 |
PerspectiveX | 0.00 |
PerspectiveY | 0.00 |
PostCropVignetteAmount | 0 |
ProcessVersion | 11.0 |
ProfileDescription | sRGB IEC61966-2.1 |
RawFileName | _E5A9335.CR2 |
RecommendedExposureIndex | 100 |
RedHue | -5 |
RedSaturation | +8 |
ScaleFactor35efl | 2.8 |
SceneCaptureType | Standard |
SensitivityType | Recommended Exposure Index |
SerialNumber | 183056001585 |
Shadows2012 | 0 |
ShadowTint | 0 |
SharpenDetail | 25 |
SharpenEdgeMasking | 0 |
SharpenRadius | +1.0 |
Sharpness | 40 |
ShutterSpeed | 3.2 |
ShutterSpeedValue | 3.2 |
Software | Adobe Photoshop Lightroom Classic 8.1 (Macintosh) |
SplitToningBalance | -1 |
SplitToningHighlightHue | 1 |
SplitToningHighlightSaturation | 0 |
SplitToningShadowHue | 2 |
SplitToningShadowSaturation | 0 |
Tint | +10 |
ToneCurve | 0, 0, 255, 255 |
ToneCurveBlue | 0, 0, 255, 255 |
ToneCurveGreen | 0, 0, 255, 255 |
ToneCurveName | Linear |
ToneCurveName2012 | B2 - JPEG - 1_2 |
ToneCurvePV2012 | 0, 25, 55, 61, 81, 86, 141, 158, 192, 203, 255, 246 |
ToneCurvePV2012Blue | 0, 0, 255, 255 |
ToneCurvePV2012Green | 0, 0, 255, 255 |
ToneCurvePV2012Red | 0, 0, 255, 255 |
ToneCurveRed | 0, 0, 255, 255 |
ToneMapStrength | 0 |
Version | 11.1 |
VignetteAmount | 0 |
VignetteCorrectionAlreadyApplied | True |
WhiteBalance (1) | As Shot |
WhiteBalance | Auto |
Whites2012 | 0 |