Felt | Verdi |
AlreadyApplied | True |
Artist | ARILD THINGVOLL |
AutoLateralCA | 0 |
BitsPerSample | 8 |
Blacks2012 | -24 |
BlueHue | 0 |
BlueSaturation | 0 |
By-line | ARILD THINGVOLL |
CameraProfile | Embedded |
CircGradBasedCorrActive | true |
CircGradBasedCorrAmount | 1.000000 |
CircGradBasedCorrBrightness | 0.000000 |
CircGradBasedCorrClarity2012 | 0.000000 |
CircGradBasedCorrContrast2012 | 0.000000 |
CircGradBasedCorrCorrectionRangeMaskColorAmount | 0.500000 |
CircGradBasedCorrCorrectionRangeMaskDepthFeather | 0.500000 |
CircGradBasedCorrCorrectionRangeMaskDepthMax | 1.000000 |
CircGradBasedCorrCorrectionRangeMaskDepthMin | 0.000000 |
CircGradBasedCorrCorrectionRangeMaskLumFeather | 0.500000 |
CircGradBasedCorrCorrectionRangeMaskLumMax | 1.000000 |
CircGradBasedCorrCorrectionRangeMaskLumMin | 0.000000 |
CircGradBasedCorrCorrectionRangeMaskType | 0 |
CircGradBasedCorrCorrectionRangeMaskVersion | +2 |
CircGradBasedCorrDefringe | 0.000000 |
CircGradBasedCorrExposure2012 | 0.108750 |
CircGradBasedCorrHighlights2012 | 0.000000 |
CircGradBasedCorrHue | 0.000000 |
CircGradBasedCorrLocalBlacks2012 | 0.000000 |
CircGradBasedCorrLocalDehaze | 0.000000 |
CircGradBasedCorrLocalWhites2012 | 0.000000 |
CircGradBasedCorrLuminanceNoise | 0.000000 |
CircGradBasedCorrMaskAngle | 0.000000 |
CircGradBasedCorrMaskBottom (1) | 0.901467 |
CircGradBasedCorrMaskBottom (2) | 0.756333 |
CircGradBasedCorrMaskBottom (3) | 0.581422 |
CircGradBasedCorrMaskBottom (4) | 0.413878 |
CircGradBasedCorrMaskBottom (5) | 0.601082 |
CircGradBasedCorrMaskBottom (6) | 0.437269 |
CircGradBasedCorrMaskBottom | 0.441509 |
CircGradBasedCorrMaskFeather | +100 |
CircGradBasedCorrMaskFlipped | true |
CircGradBasedCorrMaskLeft (1) | 0.032390 |
CircGradBasedCorrMaskLeft (2) | 0.000034 |
CircGradBasedCorrMaskLeft (3) | 0.664516 |
CircGradBasedCorrMaskLeft (4) | 0.737442 |
CircGradBasedCorrMaskLeft (5) | 0.047450 |
CircGradBasedCorrMaskLeft (6) | 0.593087 |
CircGradBasedCorrMaskLeft | 0.028033 |
CircGradBasedCorrMaskMidpoint | +50 |
CircGradBasedCorrMaskRight (1) | 0.150189 |
CircGradBasedCorrMaskRight (2) | 0.118064 |
CircGradBasedCorrMaskRight (3) | 0.788136 |
CircGradBasedCorrMaskRight (4) | 0.862166 |
CircGradBasedCorrMaskRight (5) | 0.166343 |
CircGradBasedCorrMaskRight (6) | 0.716640 |
CircGradBasedCorrMaskRight | 0.147301 |
CircGradBasedCorrMaskRoundness | 0 |
CircGradBasedCorrMaskTop (1) | 0.794862 |
CircGradBasedCorrMaskTop (2) | 0.649519 |
CircGradBasedCorrMaskTop (3) | 0.469548 |
CircGradBasedCorrMaskTop (4) | 0.301004 |
CircGradBasedCorrMaskTop (5) | 0.493485 |
CircGradBasedCorrMaskTop (6) | 0.325456 |
CircGradBasedCorrMaskTop | 0.333574 |
CircGradBasedCorrMaskValue | 1.000000 |
CircGradBasedCorrMaskVersion | +2 |
CircGradBasedCorrMaskWhat | Mask/CircularGradient |
CircGradBasedCorrMoire | 0.000000 |
CircGradBasedCorrSaturation | 0.000000 |
CircGradBasedCorrShadows2012 | 0.311830 |
CircGradBasedCorrSharpness | 0.000000 |
CircGradBasedCorrTemperature | 0.000000 |
CircGradBasedCorrTint | 0.000000 |
CircGradBasedCorrWhat | Correction |
Clarity2012 | 0 |
ColorComponents | 3 |
ColorNoiseReduction | 0 |
ColorSpace | sRGB |
ColorTransform | YCbCr |
Contrast2012 | +57 |
ConvertToGrayscale | True |
CreateDate | 2018:09:01 14:57:28 |
Creator | ARILD THINGVOLL |
CreatorTool | Adobe Photoshop Lightroom Classic 8.2 (Windows) |
CropAngle | 0 |
CropBottom | 1 |
CropConstrainToWarp | 0 |
CropLeft | 0.024911 |
CropRight | 0.898549 |
CropTop | 0.130221 |
DateCreated (1) | 2018:09:01 |
DateCreated | 2018:09:01 14:57:28 |
DateTimeOriginal | 2018:09:01 14:57:28 |
Dehaze | 0 |
Exposure2012 | -0.38 |
Format | image/jpeg |
GrainAmount | 0 |
GrayMixerAqua | 0 |
GrayMixerBlue | 0 |
GrayMixerGreen | 0 |
GrayMixerMagenta | 0 |
GrayMixerOrange | 0 |
GrayMixerPurple | 0 |
GrayMixerRed | 0 |
GrayMixerYellow | 0 |
GreenHue | 0 |
GreenSaturation | 0 |
HasCrop | True |
HasSettings | True |
Highlights2012 | +50 |
ImageHeight | 796 |
ImageSize | 1200x796 |
ImageWidth | 1200 |
IncrementalTemperature | 0 |
IncrementalTint | 0 |
Keywords | 0818 |
LateralChromaticAberrationCorrectionAlreadyApplied | True |
Lens | XF16mmF1.4 R WR |
LensInfo | 16mm f/1.4 |
LensManualDistortionAmount | 0 |
LensModel | XF16mmF1.4 R WR |
LensProfileEnable | 0 |
LensProfileSetup | LensDefaults |
LensSerialNumber | 76A00436 |
LookName | |
LuminanceSmoothing | 0 |
Make | FUJIFILM |
Megapixels | 0.955 |
Model | X-T2 |
ModifyDate (1) | 2019:05:04 21:11:27+02:00 |
ModifyDate | 2019:05:04 21:11:27 |
OverrideLookVignette | False |
PaintCorrectionActive | true |
PaintCorrectionAmount | 1.000000 |
PaintCorrectionBrightness | 0.000000 |
PaintCorrectionClarity2012 (1) | 0.000000 |
PaintCorrectionClarity2012 | 0.397850 |
PaintCorrectionContrast2012 | 0.000000 |
PaintCorrectionCorrectionRangeMaskColorAmount | 0.500000 |
PaintCorrectionCorrectionRangeMaskDepthFeather | 0.500000 |
PaintCorrectionCorrectionRangeMaskDepthMax | 1.000000 |
PaintCorrectionCorrectionRangeMaskDepthMin | 0.000000 |
PaintCorrectionCorrectionRangeMaskLumFeather | 0.500000 |
PaintCorrectionCorrectionRangeMaskLumMax | 1.000000 |
PaintCorrectionCorrectionRangeMaskLumMin | 0.000000 |
PaintCorrectionCorrectionRangeMaskType | 0 |
PaintCorrectionCorrectionRangeMaskVersion | +2 |
PaintCorrectionDefringe | 0.000000 |
PaintCorrectionExposure2012 (1) | 0.178500 |
PaintCorrectionExposure2012 (2) | 0.225750 |
PaintCorrectionExposure2012 (3) | 0.118250 |
PaintCorrectionExposure2012 | 0.204250 |
PaintCorrectionHighlights2012 (2) | 0.000000 |
PaintCorrectionHighlights2012 | 0.032260 |
PaintCorrectionHue | 0.000000 |
PaintCorrectionLocalBlacks2012 | 0.000000 |
PaintCorrectionLocalDehaze (3) | 0.354840 |
PaintCorrectionLocalDehaze | 0.000000 |
PaintCorrectionLocalWhites2012 | 0.000000 |
PaintCorrectionLuminanceNoise | 0.000000 |
PaintCorrectionMaskCenterWeight | 0.074350 |
PaintCorrectionMaskFlow | 1.000000 |
PaintCorrectionMaskRadius (1) | 0.036585 |
PaintCorrectionMaskRadius (10) | 0.027248 |
PaintCorrectionMaskRadius (11) | 0.027989 |
PaintCorrectionMaskRadius (12) | 0.027805 |
PaintCorrectionMaskRadius (13) | 0.032223 |
PaintCorrectionMaskRadius (14) | 0.032153 |
PaintCorrectionMaskRadius (15) | 0.032262 |
PaintCorrectionMaskRadius (16) | 0.032128 |
PaintCorrectionMaskRadius (17) | 0.045706 |
PaintCorrectionMaskRadius (18) | 0.045907 |
PaintCorrectionMaskRadius (19) | 0.047272 |
PaintCorrectionMaskRadius (2) | 0.037251 |
PaintCorrectionMaskRadius (20) | 0.047736 |
PaintCorrectionMaskRadius (21) | 0.031866 |
PaintCorrectionMaskRadius (22) | 0.031762 |
PaintCorrectionMaskRadius (23) | 0.031656 |
PaintCorrectionMaskRadius (24) | 0.031517 |
PaintCorrectionMaskRadius (25) | 0.033402 |
PaintCorrectionMaskRadius (26) | 0.031869 |
PaintCorrectionMaskRadius (27) | 0.032062 |
PaintCorrectionMaskRadius (28) | 0.032383 |
PaintCorrectionMaskRadius (29) | 0.101224 |
PaintCorrectionMaskRadius (3) | 0.037619 |
PaintCorrectionMaskRadius (30) | 0.100432 |
PaintCorrectionMaskRadius (31) | 0.099909 |
PaintCorrectionMaskRadius (32) | 0.099290 |
PaintCorrectionMaskRadius (33) | 0.103478 |
PaintCorrectionMaskRadius (34) | 0.103803 |
PaintCorrectionMaskRadius (35) | 0.062899 |
PaintCorrectionMaskRadius (36) | 0.061813 |
PaintCorrectionMaskRadius (37) | 0.063703 |
PaintCorrectionMaskRadius (39) | 0.032616 |
PaintCorrectionMaskRadius (4) | 0.037781 |
PaintCorrectionMaskRadius (40) | 0.032688 |
PaintCorrectionMaskRadius (41) | 0.032510 |
PaintCorrectionMaskRadius (42) | 0.032238 |
PaintCorrectionMaskRadius (43) | 0.032355 |
PaintCorrectionMaskRadius (44) | 0.032342 |
PaintCorrectionMaskRadius (45) | 0.032283 |
PaintCorrectionMaskRadius (46) | 0.032619 |
PaintCorrectionMaskRadius (47) | 0.032784 |
PaintCorrectionMaskRadius (48) | 0.032451 |
PaintCorrectionMaskRadius (49) | 0.032398 |
PaintCorrectionMaskRadius (5) | 0.038009 |
PaintCorrectionMaskRadius (50) | 0.032267 |
PaintCorrectionMaskRadius (51) | 0.032634 |
PaintCorrectionMaskRadius (52) | 0.032668 |
PaintCorrectionMaskRadius (53) | 0.032669 |
PaintCorrectionMaskRadius (54) | 0.032677 |
PaintCorrectionMaskRadius (55) | 0.032743 |
PaintCorrectionMaskRadius (56) | 0.032792 |
PaintCorrectionMaskRadius (57) | 0.032299 |
PaintCorrectionMaskRadius (58) | 0.032252 |
PaintCorrectionMaskRadius (59) | 0.032426 |
PaintCorrectionMaskRadius (6) | 0.037841 |
PaintCorrectionMaskRadius (60) | 0.032517 |
PaintCorrectionMaskRadius (61) | 0.032571 |
PaintCorrectionMaskRadius (62) | 0.032491 |
PaintCorrectionMaskRadius (63) | 0.032673 |
PaintCorrectionMaskRadius (64) | 0.032789 |
PaintCorrectionMaskRadius (65) | 0.032285 |
PaintCorrectionMaskRadius (66) | 0.032602 |
PaintCorrectionMaskRadius (67) | 0.032641 |
PaintCorrectionMaskRadius (68) | 0.032697 |
PaintCorrectionMaskRadius (69) | 0.032726 |
PaintCorrectionMaskRadius (7) | 0.027087 |
PaintCorrectionMaskRadius (70) | 0.032331 |
PaintCorrectionMaskRadius (8) | 0.027197 |
PaintCorrectionMaskRadius (9) | 0.027359 |
PaintCorrectionMaskRadius | 0.032270 |
PaintCorrectionMaskValue | 0.606000 |
PaintCorrectionMaskWhat | Mask/Paint |
PaintCorrectionMoire | 0.000000 |
PaintCorrectionSaturation | 0.000000 |
PaintCorrectionShadows2012 (3) | 0.000000 |
PaintCorrectionShadows2012 | 0.419350 |
PaintCorrectionSharpness (1) | 0.000000 |
PaintCorrectionSharpness | 0.505380 |
PaintCorrectionTemperature | 0.000000 |
PaintCorrectionTint | 0.000000 |
PaintCorrectionWhat | Correction |
ParametricDarks | -9 |
ParametricHighlights | 0 |
ParametricHighlightSplit | 75 |
ParametricLights | 0 |
ParametricMidtoneSplit | 50 |
ParametricShadows | +79 |
ParametricShadowSplit | 25 |
PerspectiveAspect | 0 |
PerspectiveHorizontal | 0 |
PerspectiveRotate | 0.0 |
PerspectiveScale | 100 |
PerspectiveUpright | 5 |
PerspectiveVertical | 0 |
PerspectiveX | 0.00 |
PerspectiveY | 0.00 |
PostCropVignetteAmount | 0 |
ProcessVersion | 11.0 |
ProfileDescription | sRGB IEC61966-2.1 |
RawFileName | |
RedHue | 0 |
RedSaturation | 0 |
SerialNumber | 64M51292 |
Shadows2012 | +29 |
ShadowTint | 0 |
SharpenDetail | 100 |
SharpenEdgeMasking | 0 |
SharpenRadius | +1.0 |
Sharpness | 34 |
Software | Adobe Photoshop Lightroom Classic 8.2 (Windows) |
SplitToningBalance | 0 |
SplitToningHighlightHue | 0 |
SplitToningHighlightSaturation | 0 |
SplitToningShadowHue | 0 |
SplitToningShadowSaturation | 0 |
Subject | 0818 |
ToneCurve | 0, 0, 255, 255 |
ToneCurveBlue | 0, 0, 255, 255 |
ToneCurveGreen | 0, 0, 255, 255 |
ToneCurveName | Linear |
ToneCurveName2012 | Medium Contrast |
ToneCurvePV2012 | 0, 0, 32, 22, 64, 56, 128, 128, 192, 196, 255, 255 |
ToneCurvePV2012Blue | 0, 0, 255, 255 |
ToneCurvePV2012Green | 0, 0, 255, 255 |
ToneCurvePV2012Red | 0, 0, 255, 255 |
ToneCurveRed | 0, 0, 255, 255 |
ToneMapStrength | 0 |
Version | 11.2 |
VignetteAmount | 0 |
VignetteCorrectionAlreadyApplied | True |
WhiteBalance | As Shot |
Whites2012 | 0 |