Felt | Verdi |
AlreadyApplied | True |
Aperture | 13.0 |
ApertureValue | 13.0 |
AutoLateralCA | 0 |
AutoWhiteVersion | 134348800 |
BitsPerSample | 8 |
Blacks2012 | -2 |
BlueHue | 0 |
BlueSaturation | 0 |
BrightnessValue | 6.7 |
CameraProfile | Embedded |
CircGradBasedCorrActive | true |
CircGradBasedCorrAmount | 1.000000 |
CircGradBasedCorrBrightness | 0.000000 |
CircGradBasedCorrClarity2012 (1) | 0.021552 |
CircGradBasedCorrClarity2012 (2) | 0.448747 |
CircGradBasedCorrClarity2012 (3) | 0.232961 |
CircGradBasedCorrClarity2012 | 0.234106 |
CircGradBasedCorrContrast2012 (1) | 0.176051 |
CircGradBasedCorrContrast2012 (3) | 0.000000 |
CircGradBasedCorrContrast2012 | 0.152074 |
CircGradBasedCorrDefringe | 0.000000 |
CircGradBasedCorrExposure2012 (2) | 0.000000 |
CircGradBasedCorrExposure2012 | 0.055832 |
CircGradBasedCorrHighlights2012 (1) | -0.424030 |
CircGradBasedCorrHighlights2012 (2) | 0.938039 |
CircGradBasedCorrHighlights2012 (3) | 0.914803 |
CircGradBasedCorrHighlights2012 | 0.000000 |
CircGradBasedCorrHue | 186.296997 |
CircGradBasedCorrLuminanceNoise | 0.000000 |
CircGradBasedCorrMaskAngle (1) | -8.173430 |
CircGradBasedCorrMaskAngle (2) | -6.539680 |
CircGradBasedCorrMaskAngle (3) | 15.790200 |
CircGradBasedCorrMaskAngle | -5.126220 |
CircGradBasedCorrMaskBottom (1) | 0.732533 |
CircGradBasedCorrMaskBottom (2) | 0.448489 |
CircGradBasedCorrMaskBottom (3) | 0.997950 |
CircGradBasedCorrMaskBottom | 0.709017 |
CircGradBasedCorrMaskFeather | +50 |
CircGradBasedCorrMaskFlipped | true |
CircGradBasedCorrMaskLeft (1) | 0.117124 |
CircGradBasedCorrMaskLeft (2) | 0.115055 |
CircGradBasedCorrMaskLeft (3) | 0.041184 |
CircGradBasedCorrMaskLeft | 0.211138 |
CircGradBasedCorrMaskMidpoint | +50 |
CircGradBasedCorrMaskRight (1) | 0.265051 |
CircGradBasedCorrMaskRight (2) | 0.221172 |
CircGradBasedCorrMaskRight (3) | 0.230629 |
CircGradBasedCorrMaskRight | 0.467384 |
CircGradBasedCorrMaskRoundness | 0 |
CircGradBasedCorrMaskTop (1) | 0.450415 |
CircGradBasedCorrMaskTop (2) | 0.030211 |
CircGradBasedCorrMaskTop (3) | 0.761698 |
CircGradBasedCorrMaskTop | 0.646826 |
CircGradBasedCorrMaskValue | 1.000000 |
CircGradBasedCorrMaskVersion | +2 |
CircGradBasedCorrMaskWhat | Mask/CircularGradient |
CircGradBasedCorrMoire | 0.000000 |
CircGradBasedCorrSaturation (1) | 0.123922 |
CircGradBasedCorrSaturation | 0.000000 |
CircGradBasedCorrShadows2012 (1) | 0.252357 |
CircGradBasedCorrShadows2012 (2) | 0.139682 |
CircGradBasedCorrShadows2012 (3) | 0.000000 |
CircGradBasedCorrShadows2012 | 0.217066 |
CircGradBasedCorrSharpness | 0.000000 |
CircGradBasedCorrTemperature | 0.000000 |
CircGradBasedCorrTint | 0.000000 |
CircGradBasedCorrWhat | Correction |
CircleOfConfusion | 0.039 mm |
Clarity2012 | +46 |
ColorComponents | 3 |
ColorNoiseReduction | 0 |
ColorTransform | YCbCr |
Contrast2012 | 0 |
ConvertToGrayscale | True |
Copyright | Roger Hansson |
CopyrightNotice | Roger Hansson |
CreateDate | 2018:11:18 10:30:50 |
CreatorTool | Adobe Photoshop Lightroom 5.7.1 (Macintosh) |
CropAngle | 0 |
CropBottom | 0.981995 |
CropConstrainToWarp | 0 |
CropLeft | 0.035375 |
CropRight | 0.97499 |
CropTop | 0.04238 |
CustomRendered | Normal |
DateCreated (1) | 2018:11:18 |
DateCreated | 2018:11:18 10:30:50 |
DateTimeOriginal | 2018:11:18 10:30:50 |
Exposure2012 | 0.00 |
ExposureCompensation | +0.67 |
ExposureMode | Auto |
ExposureProgram | Aperture-priority AE |
ExposureTime | 1/170 |
Flash | No Flash |
FNumber | 13.0 |
FocalLength | 17.0 mm |
FocalLength35efl | 17.0 mm (35 mm equivalent: 13.0 mm) |
FocalLengthIn35mmFormat | 13 mm |
Format | image/jpeg |
FOV | 108.3 deg |
GradientBasedCorrActive | true |
GradientBasedCorrAmount | 1.000000 |
GradientBasedCorrBrightness | 0.000000 |
GradientBasedCorrClarity2012 | 0.000000 |
GradientBasedCorrContrast2012 | 0.000000 |
GradientBasedCorrDefringe | 0.000000 |
GradientBasedCorrExposure2012 | 0.004714 |
GradientBasedCorrHighlights2012 | 0.000000 |
GradientBasedCorrHue | 186.296997 |
GradientBasedCorrLuminanceNoise | 0.000000 |
GradientBasedCorrMaskFullX | 0.863715 |
GradientBasedCorrMaskFullY | 0.459393 |
GradientBasedCorrMaskValue | 1.000000 |
GradientBasedCorrMaskWhat | Mask/Gradient |
GradientBasedCorrMaskZeroX | 0.740313 |
GradientBasedCorrMaskZeroY | 0.456182 |
GradientBasedCorrMoire | 0.000000 |
GradientBasedCorrSaturation | 0.000000 |
GradientBasedCorrShadows2012 | 1.000000 |
GradientBasedCorrSharpness | 0.000000 |
GradientBasedCorrTemperature | 0.000000 |
GradientBasedCorrTint | 0.000000 |
GradientBasedCorrWhat | Correction |
GrainAmount | 30 |
GrainFrequency | 50 |
GrainSize | 34 |
GrayMixerAqua | -12 |
GrayMixerBlue | +7 |
GrayMixerGreen | -28 |
GrayMixerMagenta | +47 |
GrayMixerOrange | -39 |
GrayMixerPurple | +89 |
GrayMixerRed | +38 |
GrayMixerYellow | -14 |
GreenHue | 0 |
GreenSaturation | 0 |
HasCrop | True |
HasSettings | True |
Highlights2012 | -100 |
HyperfocalDistance | 0.57 m |
ImageHeight | 1024 |
ImageSize | 768x1024 |
ImageWidth | 768 |
IncrementalTemperature | 0 |
IncrementalTint | 0 |
ISO | 800 |
Lens | 17.0 mm f/4.0 |
LensInfo | 17mm f/4 |
LensMake | FUJIFILM |
LensManualDistortionAmount | 0 |
LensModel | 17.0 mm f/4.0 |
LensProfileEnable | 0 |
LensProfileSetup | LensDefaults |
LensSerialNumber | 75A00127 |
LightSource | Unknown |
LightValue | 11.8 |
LuminanceNoiseReductionContrast | 0 |
LuminanceNoiseReductionDetail | 50 |
LuminanceSmoothing | 29 |
Make | FUJIFILM |
MaxApertureValue | 4.0 |
Megapixels | 0.786 |
MeteringMode | Multi-segment |
Model | GFX 50S |
ModifyDate (1) | 2018:11:19 14:18:20+01:00 |
ModifyDate | 2018:11:19 14:18:20 |
PaintCorrectionActive | true |
PaintCorrectionAmount | 1.000000 |
PaintCorrectionBrightness | 0.000000 |
PaintCorrectionClarity2012 | 0.000000 |
PaintCorrectionContrast2012 | 0.000000 |
PaintCorrectionDefringe | 0.000000 |
PaintCorrectionExposure2012 | 0.140154 |
PaintCorrectionHighlights2012 | 0.000000 |
PaintCorrectionHue | 186.296997 |
PaintCorrectionLuminanceNoise | 0.000000 |
PaintCorrectionMaskCenterWeight | 0.438820 |
PaintCorrectionMaskFlow | 1.000000 |
PaintCorrectionMaskRadius (1) | 0.067153 |
PaintCorrectionMaskRadius | 0.064299 |
PaintCorrectionMaskValue | 1.000000 |
PaintCorrectionMaskWhat | Mask/Paint |
PaintCorrectionMoire | 0.000000 |
PaintCorrectionSaturation | 0.000000 |
PaintCorrectionShadows2012 | 0.000000 |
PaintCorrectionSharpness | 0.000000 |
PaintCorrectionTemperature | 0.000000 |
PaintCorrectionTint | 0.000000 |
PaintCorrectionWhat | Correction |
ParametricDarks | 0 |
ParametricHighlights | 0 |
ParametricHighlightSplit | 75 |
ParametricLights | 0 |
ParametricMidtoneSplit | 50 |
ParametricShadows | 0 |
ParametricShadowSplit | 25 |
PerspectiveAspect | 0 |
PerspectiveHorizontal | 0 |
PerspectiveRotate | 0.0 |
PerspectiveScale | 100 |
PerspectiveUpright | 1 |
PerspectiveVertical | +8 |
PostCropVignetteAmount | 0 |
ProcessVersion | 6.7 |
ProfileDescription | sRGB IEC61966-2.1 |
RedHue | 0 |
RedSaturation | 0 |
Rights | Roger Hansson |
ScaleFactor35efl | 0.8 |
SceneCaptureType | Standard |
SceneType | Directly photographed |
SensingMethod | One-chip color area |
SensitivityType | Standard Output Sensitivity |
SerialNumber | 71011147 |
Shadows2012 | +36 |
ShadowTint | 0 |
SharpenDetail | 49 |
SharpenEdgeMasking | 0 |
SharpenRadius | +1.2 |
Sharpness (1) | 30 |
Sharpness | Normal |
ShutterSpeed | 1/170 |
ShutterSpeedValue | 1/170 |
Software | Adobe Photoshop Lightroom 5.7.1 (Macintosh) |
SplitToningBalance | 0 |
SplitToningHighlightHue | 0 |
SplitToningHighlightSaturation | 0 |
SplitToningShadowHue | 0 |
SplitToningShadowSaturation | 0 |
StandardOutputSensitivity | 800 |
SubjectDistanceRange | Unknown |
ToneCurve | 0, 0, 255, 255 |
ToneCurveBlue | 0, 0, 255, 255 |
ToneCurveGreen | 0, 0, 255, 255 |
ToneCurveName | Linear |
ToneCurveName2012 | Custom |
ToneCurvePV2012 | 0, 0, 44, 60, 123, 142, 193, 191, 255, 252 |
ToneCurvePV2012Blue | 0, 0, 255, 255 |
ToneCurvePV2012Green | 0, 0, 255, 255 |
ToneCurvePV2012Red | 0, 0, 255, 255 |
ToneCurveRed | 0, 0, 255, 255 |
Version | 8.7.1 |
VignetteAmount | 0 |
WhiteBalance (1) | As Shot |
WhiteBalance | Auto |
Whites2012 | +21 |