Felt | Verdi |
AlreadyApplied | True |
Aperture | 8.0 |
ApertureValue | 8.0 |
ApproximateFocusDistance | 4294967295 |
Artist | Sindre Nedrevag |
AutoLateralCA | 1 |
AutoWhiteVersion | 134348800 |
BitsPerSample | 8 |
Blacks2012 | 0 |
BlueHue | 0 |
BlueSaturation | 0 |
By-line | Sindre Nedrevag |
CameraProfile | Adobe Standard |
CFAPattern | [Red,Green][Green,Blue] |
CircleOfConfusion | 0.030 mm |
Clarity2012 | 0 |
ColorComponents | 3 |
ColorNoiseReduction | 40 |
ColorNoiseReductionDetail | 50 |
ColorNoiseReductionSmoothness | 50 |
ColorSpace | sRGB |
ColorTemperature | 5100 |
Contrast | Normal |
Contrast2012 | +10 |
ConvertToGrayscale | False |
CreateDate (1) | 2018:08:02 05:46:56.40 |
CreateDate | 2018:08:02 05:46:56 |
Creator | Sindre Nedrevag |
CreatorTool | Adobe Photoshop Lightroom 6.10 (Windows) |
CropAngle | 0 |
CropBottom | 1 |
CropConstrainToWarp | 0 |
CropLeft | 0 |
CropRight | 1 |
CropTop | 0.08313 |
CustomRendered | Normal |
DateCreated (1) | 2018:08:02 |
DateCreated | 2018:08:02 05:46:56.40 |
DateTimeOriginal | 2018:08:02 05:46:56 |
DefringeGreenAmount | 0 |
DefringeGreenHueHi | 60 |
DefringeGreenHueLo | 40 |
DefringePurpleAmount | 0 |
DefringePurpleHueHi | 70 |
DefringePurpleHueLo | 30 |
Dehaze | 0 |
DigitalZoomRatio | 1 |
DOF | inf (166.41 m - inf) |
Exposure2012 | +0.10 |
ExposureCompensation | 0 |
ExposureMode | Manual |
ExposureProgram | Manual |
ExposureTime | 1/250 |
Flash | No Flash |
FNumber | 8.0 |
FocalLength | 200.0 mm |
FocalLength35efl | 200.0 mm (35 mm equivalent: 200.0 mm) |
FocalLengthIn35mmFormat | 200 mm |
Format | image/jpeg |
FOV | 10.3 deg |
GainControl | Low gain up |
GradientBasedCorrActive | true |
GradientBasedCorrAmount | 1.000000 |
GradientBasedCorrBrightness | 0.000000 |
GradientBasedCorrClarity2012 | 0.000000 |
GradientBasedCorrContrast2012 | 0.000000 |
GradientBasedCorrDefringe | 0.000000 |
GradientBasedCorrExposure2012 | 0.000000 |
GradientBasedCorrHighlights2012 | 0.020000 |
GradientBasedCorrHue | 240.000000 |
GradientBasedCorrLocalBlacks2012 | 0.000000 |
GradientBasedCorrLocalDehaze | 0.020000 |
GradientBasedCorrLocalWhites2012 | -0.050000 |
GradientBasedCorrLuminanceNoise | 0.000000 |
GradientBasedCorrMaskFullX | 0.493225 |
GradientBasedCorrMaskFullY | 0.429546 |
GradientBasedCorrMaskValue | 1.000000 |
GradientBasedCorrMaskWhat | Mask/Gradient |
GradientBasedCorrMaskZeroX | 0.493355 |
GradientBasedCorrMaskZeroY | 0.699054 |
GradientBasedCorrMoire | 0.000000 |
GradientBasedCorrSaturation (1) | 0.010000 |
GradientBasedCorrSaturation | 0.000000 |
GradientBasedCorrShadows2012 | 0.000000 |
GradientBasedCorrSharpness | 0.000000 |
GradientBasedCorrTemperature | 0.020000 |
GradientBasedCorrTint | 0.000000 |
GradientBasedCorrWhat | Correction |
GrainAmount | 0 |
GreenHue | 0 |
GreenSaturation | 0 |
HasCrop | True |
HasSettings | True |
Highlights2012 | 0 |
HueAdjustmentAqua | 0 |
HueAdjustmentBlue | 0 |
HueAdjustmentGreen | 0 |
HueAdjustmentMagenta | 0 |
HueAdjustmentOrange | 0 |
HueAdjustmentPurple | 0 |
HueAdjustmentRed | 0 |
HueAdjustmentYellow | 0 |
HyperfocalDistance | 166.41 m |
ImageHeight | 781 |
ImageNumber | 46084 |
ImageSize | 1280x781 |
ImageWidth | 1280 |
ISO | 800 |
LateralChromaticAberrationCorrectionAlreadyApplied | True |
Lens | 200.0-500.0 mm f/5.6 |
LensID (1) | 174 |
LensID | AF-S Nikkor 200-500mm f/5.6E ED VR |
LensInfo | 200-500mm f/5.6 |
LensManualDistortionAmount | 0 |
LensModel | 200.0-500.0 mm f/5.6 |
LensProfileEnable | 0 |
LensProfileSetup | LensDefaults |
LightSource | Fine Weather |
LightValue | 11.0 |
LuminanceAdjustmentAqua | 0 |
LuminanceAdjustmentBlue | 0 |
LuminanceAdjustmentGreen | 0 |
LuminanceAdjustmentMagenta | 0 |
LuminanceAdjustmentOrange | 0 |
LuminanceAdjustmentPurple | 0 |
LuminanceAdjustmentRed | 0 |
LuminanceAdjustmentYellow | 0 |
LuminanceNoiseReductionContrast | 0 |
LuminanceNoiseReductionDetail | 55 |
LuminanceSmoothing | 20 |
Make | NIKON CORPORATION |
MaxApertureValue | 5.7 |
Megapixels | 1.000 |
MeteringMode | Spot |
Model | NIKON D4 |
ModifyDate (1) | 2018:08:25 23:40:41+02:00 |
ModifyDate | 2018:08:25 23:40:41 |
PaintCorrectionActive | true |
PaintCorrectionAmount | 1.000000 |
PaintCorrectionBrightness | 0.000000 |
PaintCorrectionClarity2012 | 0.000000 |
PaintCorrectionContrast2012 | 0.100000 |
PaintCorrectionDefringe | 0.000000 |
PaintCorrectionExposure2012 | 0.012500 |
PaintCorrectionHighlights2012 | 0.000000 |
PaintCorrectionHue | 240.000000 |
PaintCorrectionLocalBlacks2012 | 0.000000 |
PaintCorrectionLocalDehaze | 0.000000 |
PaintCorrectionLocalWhites2012 | 0.000000 |
PaintCorrectionLuminanceNoise | 0.000000 |
PaintCorrectionMaskCenterWeight (1) | 0.204522 |
PaintCorrectionMaskCenterWeight | 0.347285 |
PaintCorrectionMaskFlow | 1.000000 |
PaintCorrectionMaskRadius (1) | 0.065245 |
PaintCorrectionMaskRadius | 0.093696 |
PaintCorrectionMaskValue (1) | 1.000000 |
PaintCorrectionMaskValue | 0.000000 |
PaintCorrectionMaskWhat | Mask/Paint |
PaintCorrectionMoire | 0.000000 |
PaintCorrectionSaturation (1) | 0.100000 |
PaintCorrectionSaturation | 0.000000 |
PaintCorrectionShadows2012 | 0.100000 |
PaintCorrectionSharpness | 0.050000 |
PaintCorrectionTemperature | 0.000000 |
PaintCorrectionTint | 0.000000 |
PaintCorrectionWhat | Correction |
ParametricDarks | 0 |
ParametricHighlights | 0 |
ParametricHighlightSplit | 75 |
ParametricLights | 0 |
ParametricMidtoneSplit | 50 |
ParametricShadows | 0 |
ParametricShadowSplit | 25 |
PerspectiveAspect | 0 |
PerspectiveHorizontal | 0 |
PerspectiveRotate | 0.0 |
PerspectiveScale | 100 |
PerspectiveUpright | 0 |
PerspectiveVertical | 0 |
PerspectiveX | 0.00 |
PerspectiveY | 0.00 |
PostCropVignetteAmount | 0 |
ProcessVersion | 6.7 |
ProfileDescription | sRGB IEC61966-2.1 |
RedHue | 0 |
RedSaturation | 0 |
Saturation (1) | +5 |
Saturation | Normal |
SaturationAdjustmentAqua | 0 |
SaturationAdjustmentBlue | 0 |
SaturationAdjustmentGreen | 0 |
SaturationAdjustmentMagenta | 0 |
SaturationAdjustmentOrange | +5 |
SaturationAdjustmentPurple | 0 |
SaturationAdjustmentRed | 0 |
SaturationAdjustmentYellow | +5 |
ScaleFactor35efl | 1.0 |
SceneCaptureType | Standard |
SceneType | Directly photographed |
SensingMethod | One-chip color area |
SensitivityType | Recommended Exposure Index |
SerialNumber | 2055090 |
Shadows2012 | +20 |
ShadowTint | 0 |
SharpenDetail | 28 |
SharpenEdgeMasking | 76 |
SharpenRadius | +1.0 |
Sharpness (1) | 28 |
Sharpness | Normal |
ShutterSpeed | 1/250 |
ShutterSpeedValue | 1/250 |
Software | Adobe Photoshop Lightroom 6.10 (Windows) |
SplitToningBalance | 0 |
SplitToningHighlightHue | 0 |
SplitToningHighlightSaturation | 0 |
SplitToningShadowHue | 0 |
SplitToningShadowSaturation | 0 |
SubjectDistanceRange | Unknown |
Tint | +5 |
ToneCurve | 0, 0, 255, 255 |
ToneCurveBlue | 0, 0, 255, 255 |
ToneCurveGreen | 0, 0, 255, 255 |
ToneCurveName | Linear |
ToneCurveName2012 | Linear |
ToneCurvePV2012 | 0, 0, 255, 255 |
ToneCurvePV2012Blue | 0, 0, 255, 255 |
ToneCurvePV2012Green | 0, 0, 255, 255 |
ToneCurvePV2012Red | 0, 0, 255, 255 |
ToneCurveRed | 0, 0, 255, 255 |
ToneMapStrength | 0 |
Version | 9.10 |
Vibrance | +15 |
VignetteAmount | +5 |
VignetteCorrectionAlreadyApplied | True |
VignetteMidpoint | 23 |
WhiteBalance (1) | Custom |
WhiteBalance | Manual |
Whites2012 | 0 |