Felt | Verdi |
AlreadyApplied | True |
Aperture | 22.0 |
ApertureValue | 22.0 |
ApproximateFocusDistance | 10 |
Artist | Robert G |
AutoLateralCA | 0 |
BitsPerSample | 8 |
Blacks2012 | -36 |
BlueHue | 0 |
BlueSaturation | 0 |
By-line | Robert G |
CameraProfile | Embedded |
CFAPattern | [Red,Green][Green,Blue] |
CircleOfConfusion | 0.030 mm |
Clarity2012 | +38 |
ColorComponents | 3 |
ColorNoiseReduction | 57 |
ColorNoiseReductionDetail | 50 |
ColorNoiseReductionSmoothness | 50 |
ColorSpace | sRGB |
ColorTransform | YCbCr |
Contrast | Normal |
Contrast2012 | -20 |
ConvertToGrayscale | False |
Copyright | Robert G |
CopyrightNotice | Robert G |
CreateDate (1) | 2018:08:28 10:29:38.00 |
CreateDate | 2018:08:28 10:29:38 |
Creator | Robert G |
CreatorTool | Adobe Lightroom CC 1.5 (Macintosh) |
CropAngle | 0 |
CropBottom | 0.738458 |
CropConstrainToWarp | 0 |
CropLeft | 0.524953 |
CropRight | 1 |
CropTop | 0.263411 |
CustomRendered | Normal |
DateCreated (1) | 2018:08:28 |
DateCreated | 2018:08:28 10:29:38.00 |
DateTimeOriginal | 2018:08:28 10:29:38 |
DefringeGreenAmount | 0 |
DefringeGreenHueHi | 60 |
DefringeGreenHueLo | 40 |
DefringePurpleAmount | 0 |
DefringePurpleHueHi | 70 |
DefringePurpleHueLo | 30 |
Dehaze | +35 |
DigitalZoomRatio | 1 |
DOF | 11.42 m (6.88 - 18.30 m) |
Exposure2012 | -0.71 |
ExposureCompensation | 0 |
ExposureMode | Auto |
ExposureProgram | Shutter speed priority AE |
ExposureTime | 1/6 |
Flash | Off, Did not fire |
FNumber | 22.0 |
FocalLength | 120.0 mm |
FocalLength35efl | 120.0 mm (35 mm equivalent: 120.0 mm) |
FocalLengthIn35mmFormat | 120 mm |
Format | image/jpeg |
FOV | 17.1 deg |
GainControl | None |
GrainAmount | 0 |
GreenHue | 0 |
GreenSaturation | 0 |
HasCrop | True |
HasSettings | True |
Highlights2012 | -91 |
HueAdjustmentAqua | 0 |
HueAdjustmentBlue | 0 |
HueAdjustmentGreen | 0 |
HueAdjustmentMagenta | 0 |
HueAdjustmentOrange | 0 |
HueAdjustmentPurple | 0 |
HueAdjustmentRed | 0 |
HueAdjustmentYellow | 0 |
HyperfocalDistance | 21.78 m |
ImageHeight | 1908 |
ImageNumber | 8135 |
ImageSize | 2858x1908 |
ImageWidth | 2858 |
IncrementalTemperature | 0 |
IncrementalTint | 0 |
ISO | 50 |
Lens | 24.0-120.0 mm f/4.0 |
LensID (1) | 170 |
LensID | AF-S Nikkor 24-120mm f/4G ED VR |
LensInfo | 24-120mm f/4 |
LensManualDistortionAmount | 0 |
LensModel | 24.0-120.0 mm f/4.0 |
LensProfileEnable | 0 |
LensProfileSetup | LensDefaults |
LightSource | Unknown |
LightValue | 12.5 |
LookName | |
LuminanceAdjustmentAqua | 0 |
LuminanceAdjustmentBlue | 0 |
LuminanceAdjustmentGreen | 0 |
LuminanceAdjustmentMagenta | 0 |
LuminanceAdjustmentOrange | 0 |
LuminanceAdjustmentPurple | 0 |
LuminanceAdjustmentRed | 0 |
LuminanceAdjustmentYellow | 0 |
LuminanceNoiseReductionContrast | 0 |
LuminanceNoiseReductionDetail | 50 |
LuminanceSmoothing | 41 |
Make | NIKON CORPORATION |
MaxApertureValue | 4.0 |
Megapixels | 5.5 |
MeteringMode | Multi-segment |
Model | NIKON D610 |
ModifyDate (1) | 2018:08:28 12:48:22+02:00 |
ModifyDate | 2018:08:28 12:48:22 |
OverrideLookVignette | False |
ParametricDarks | 0 |
ParametricHighlights | 0 |
ParametricHighlightSplit | 75 |
ParametricLights | 0 |
ParametricMidtoneSplit | 50 |
ParametricShadows | 0 |
ParametricShadowSplit | 25 |
PerspectiveAspect | 0 |
PerspectiveHorizontal | 0 |
PerspectiveRotate | 0.0 |
PerspectiveScale | 100 |
PerspectiveUpright | 0 |
PerspectiveVertical | 0 |
PerspectiveX | 0.00 |
PerspectiveY | 0.00 |
PostCropVignetteAmount | 0 |
ProcessVersion | 10.0 |
ProfileDescription | sRGB IEC61966-2.1 |
RawFileName | |
RedHue | 0 |
RedSaturation | 0 |
Rights | Robert G |
Saturation (1) | +19 |
Saturation | Normal |
SaturationAdjustmentAqua | 0 |
SaturationAdjustmentBlue | 0 |
SaturationAdjustmentGreen | 0 |
SaturationAdjustmentMagenta | 0 |
SaturationAdjustmentOrange | 0 |
SaturationAdjustmentPurple | 0 |
SaturationAdjustmentRed | 0 |
SaturationAdjustmentYellow | 0 |
ScaleFactor35efl | 1.0 |
SceneCaptureType | Standard |
SceneType | Directly photographed |
SensingMethod | One-chip color area |
SensitivityType | Recommended Exposure Index |
SerialNumber | 6021157 |
Shadows2012 | +60 |
ShadowTint | 0 |
SharpenDetail | 25 |
SharpenEdgeMasking | 0 |
SharpenRadius | +1.0 |
Sharpness (1) | 40 |
Sharpness | Normal |
ShutterSpeed | 1/6 |
ShutterSpeedValue | 1/6 |
Software | Adobe Lightroom CC 1.5 (Macintosh) |
SplitToningBalance | 0 |
SplitToningHighlightHue | 0 |
SplitToningHighlightSaturation | 0 |
SplitToningShadowHue | 0 |
SplitToningShadowSaturation | 0 |
SubjectDistanceRange | Unknown |
ToneCurve | 0, 0, 255, 255 |
ToneCurveBlue | 0, 0, 255, 255 |
ToneCurveGreen | 0, 0, 255, 255 |
ToneCurveName | Linear |
ToneCurveName2012 | Linear |
ToneCurvePV2012 | 0, 0, 255, 255 |
ToneCurvePV2012Blue | 0, 0, 255, 255 |
ToneCurvePV2012Green | 0, 0, 255, 255 |
ToneCurvePV2012Red | 0, 0, 255, 255 |
ToneCurveRed | 0, 0, 255, 255 |
ToneMapStrength | 0 |
Version | 10.5 |
Vibrance | +10 |
VignetteAmount | 0 |
WhiteBalance (1) | As Shot |
WhiteBalance | Auto |
Whites2012 | +20 |