Felt | Verdi |
AlreadyApplied | True |
Aperture | 14.0 |
ApertureValue | 14.0 |
AutoLateralCA | 1 |
AutoWhiteVersion | 134348800 |
BitsPerSample (1) | 16 16 16 |
BitsPerSample | 8 |
Blacks2012 | 0 |
BlueHue | 0 |
BlueSaturation | 0 |
BrightnessValue | -2.15 |
CameraProfile | Adobe Standard |
CircleOfConfusion | 0.038 mm |
Clarity2012 | +16 |
ColorComponents | 3 |
ColorMode | RGB |
ColorNoiseReduction | 100 |
ColorNoiseReductionDetail | 50 |
ColorNoiseReductionSmoothness | 50 |
ColorSpace | Uncalibrated |
ColorTemperature | 5200 |
ColorTransform | YCbCr |
Contrast2012 | +4 |
ConvertToGrayscale | True |
CreateDate | 2018:04:18 20:06:56 |
CreatorTool | Adobe Photoshop Lightroom 6.8 (Macintosh) |
CropAngle | 0 |
CropBottom | 1 |
CropConstrainToWarp | 0 |
CropLeft | 0.149407 |
CropRight | 0.791947 |
CropTop | 0.143281 |
CustomRendered | Normal |
DateCreated (1) | 2018:04:18 |
DateCreated | 2018:04:18 20:06:56 |
DateTimeOriginal | 2018:04:18 20:06:56 |
Dehaze | 0 |
ExifImageHeight | 600 |
ExifImageWidth | 600 |
Exposure2012 | 0.00 |
ExposureCompensation | 0 |
ExposureMode | Manual |
ExposureProgram | Manual |
ExposureTime | 1/125 |
Flash | No Flash |
FNumber | 14.0 |
FocalLength | 110.0 mm |
FocalLength35efl | 110.0 mm (35 mm equivalent: 87.0 mm) |
FocalLengthIn35mmFormat | 87 mm |
Format | image/jpeg |
FOV | 23.4 deg |
GrainAmount | 0 |
GrayMixerAqua | -18 |
GrayMixerBlue | -41 |
GrayMixerGreen | -27 |
GrayMixerMagenta | -33 |
GrayMixerOrange | +37 |
GrayMixerPurple | -24 |
GrayMixerRed | +52 |
GrayMixerYellow | +20 |
GreenHue | 0 |
GreenSaturation | 0 |
HasCrop | True |
HasSettings | True |
Highlights2012 | -6 |
HyperfocalDistance | 22.75 m |
ICCProfileName | ProPhoto RGB |
ImageHeight (1) | 5305 |
ImageHeight | 600 |
ImageSize | 600x600 |
ImageWidth (1) | 5305 |
ImageWidth | 600 |
ISO | 100 |
LateralChromaticAberrationCorrectionAlreadyApplied | True |
Lens | GF110mmF2 R LM WR |
LensInfo | 110mm f/2 |
LensMake | FUJIFILM |
LensManualDistortionAmount | 0 |
LensModel | GF110mmF2 R LM WR |
LensProfileEnable | 0 |
LensProfileSetup | LensDefaults |
LensSerialNumber | 76A00991 |
LightSource | Unknown |
LightValue | 14.6 |
LuminanceNoiseReductionContrast | 0 |
LuminanceNoiseReductionDetail | 50 |
LuminanceSmoothing | 20 |
Make | FUJIFILM |
MaxApertureValue | 2.0 |
Megapixels | 0.360 |
MeteringMode | Average |
Model | G-F-X |
ModifyDate (1) | 2018:04:18 21:57:17+02:00 |
ModifyDate | 2018:04:18 21:57:17 |
Orientation | Horizontal (normal) |
ParametricDarks | 0 |
ParametricHighlights | 0 |
ParametricHighlightSplit | 75 |
ParametricLights | 0 |
ParametricMidtoneSplit | 50 |
ParametricShadows | 0 |
ParametricShadowSplit | 25 |
PerspectiveAspect | 0 |
PerspectiveHorizontal | 0 |
PerspectiveRotate | 0.0 |
PerspectiveScale | 100 |
PerspectiveUpright | 0 |
PerspectiveVertical | 0 |
PerspectiveX | 0.00 |
PerspectiveY | 0.00 |
PhotometricInterpretation | RGB |
PlanarConfiguration | Chunky |
PostCropVignetteAmount | 0 |
ProcessVersion | 6.7 |
ProfileDescription | ProPhoto RGB |
RedHue | 0 |
RedSaturation | 0 |
SamplesPerPixel | 3 |
ScaleFactor35efl | 0.8 |
SceneCaptureType | Standard |
SceneType | Directly photographed |
SensingMethod | One-chip color area |
SensitivityType | Standard Output Sensitivity |
SerialNumber | 71011147 |
Shadows2012 | 0 |
ShadowTint | 0 |
SharpenDetail | 70 |
SharpenEdgeMasking | 0 |
SharpenRadius | +1.2 |
Sharpness (1) | 50 |
Sharpness | Normal |
ShutterSpeed | 1/125 |
ShutterSpeedValue | 1/125 |
Software | Adobe Photoshop CC (Macintosh) |
SplitToningBalance | 0 |
SplitToningHighlightHue | 0 |
SplitToningHighlightSaturation | 0 |
SplitToningShadowHue | 0 |
SplitToningShadowSaturation | 0 |
StandardOutputSensitivity | 100 |
SubjectDistanceRange | Unknown |
Tint | +9 |
ToneCurve | 0, 0, 255, 255 |
ToneCurveBlue | 0, 0, 255, 255 |
ToneCurveGreen | 0, 0, 255, 255 |
ToneCurveName | Linear |
ToneCurveName2012 | Custom |
ToneCurvePV2012 | 0, 0, 187, 253 |
ToneCurvePV2012Blue | 0, 0, 255, 255 |
ToneCurvePV2012Green | 0, 0, 255, 255 |
ToneCurvePV2012Red | 0, 0, 255, 255 |
ToneCurveRed | 0, 0, 255, 255 |
ToneMapStrength | 0 |
URL_List | |
Version | 9.8 |
VignetteAmount | 0 |
VignetteCorrectionAlreadyApplied | True |
WhiteBalance (1) | As Shot |
WhiteBalance | Auto |
Whites2012 | 0 |